BEGIN:VCALENDAR
PRODID:-//nuDatenautomaten//framework iCal4j //DE
VERSION:2.0
CALSCALE:GREGORIAN
BEGIN:VTIMEZONE
TZID:Europe/Berlin
LAST-MODIFIED:20260306T231828Z
TZURL:https://www.tzurl.org/zoneinfo/Europe/Berlin
X-LIC-LOCATION:Europe/Berlin
X-PROLEPTIC-TZNAME:LMT
BEGIN:STANDARD
TZNAME:CET
TZOFFSETFROM:+005328
TZOFFSETTO:+0100
DTSTART:18930401T000000
END:STANDARD
BEGIN:DAYLIGHT
TZNAME:CEST
TZOFFSETFROM:+0100
TZOFFSETTO:+0200
DTSTART:19160430T230000
RDATE:19400401T020000
RDATE:19430329T020000
RDATE:19460414T020000
RDATE:19470406T030000
RDATE:19480418T020000
RDATE:19490410T020000
RDATE:19800406T020000
END:DAYLIGHT
BEGIN:STANDARD
TZNAME:CET
TZOFFSETFROM:+0200
TZOFFSETTO:+0100
DTSTART:19161001T010000
RDATE:19421102T030000
RDATE:19431004T030000
RDATE:19441002T030000
RDATE:19451118T030000
RDATE:19461007T030000
END:STANDARD
BEGIN:DAYLIGHT
TZNAME:CEST
TZOFFSETFROM:+0100
TZOFFSETTO:+0200
DTSTART:19170416T020000
RRULE:FREQ=YEARLY;UNTIL=19180415T010000Z;BYMONTH=4;BYDAY=3MO
END:DAYLIGHT
BEGIN:STANDARD
TZNAME:CET
TZOFFSETFROM:+0200
TZOFFSETTO:+0100
DTSTART:19170917T030000
RRULE:FREQ=YEARLY;UNTIL=19180916T010000Z;BYMONTH=9;BYDAY=3MO
END:STANDARD
BEGIN:DAYLIGHT
TZNAME:CEST
TZOFFSETFROM:+0100
TZOFFSETTO:+0200
DTSTART:19440403T020000
RRULE:FREQ=YEARLY;UNTIL=19450402T010000Z;BYMONTH=4;BYDAY=1MO
END:DAYLIGHT
BEGIN:DAYLIGHT
TZNAME:CEMT
TZOFFSETFROM:+0200
TZOFFSETTO:+0300
DTSTART:19450524T020000
RDATE:19470511T030000
END:DAYLIGHT
BEGIN:DAYLIGHT
TZNAME:CEST
TZOFFSETFROM:+0300
TZOFFSETTO:+0200
DTSTART:19450924T030000
RDATE:19470629T030000
END:DAYLIGHT
BEGIN:STANDARD
TZNAME:CET
TZOFFSETFROM:+0100
TZOFFSETTO:+0100
DTSTART:19460101T000000
RDATE:19800101T000000
END:STANDARD
BEGIN:STANDARD
TZNAME:CET
TZOFFSETFROM:+0200
TZOFFSETTO:+0100
DTSTART:19471005T030000
RRULE:FREQ=YEARLY;UNTIL=19491002T010000Z;BYMONTH=10;BYDAY=1SU
END:STANDARD
BEGIN:STANDARD
TZNAME:CET
TZOFFSETFROM:+0200
TZOFFSETTO:+0100
DTSTART:19800928T030000
RRULE:FREQ=YEARLY;UNTIL=19950924T010000Z;BYMONTH=9;BYDAY=-1SU
END:STANDARD
BEGIN:DAYLIGHT
TZNAME:CEST
TZOFFSETFROM:+0100
TZOFFSETTO:+0200
DTSTART:19810329T020000
RRULE:FREQ=YEARLY;BYMONTH=3;BYDAY=-1SU
END:DAYLIGHT
BEGIN:STANDARD
TZNAME:CET
TZOFFSETFROM:+0200
TZOFFSETTO:+0100
DTSTART:19961027T030000
RRULE:FREQ=YEARLY;BYMONTH=10;BYDAY=-1SU
END:STANDARD
END:VTIMEZONE
BEGIN:VEVENT
DTSTAMP:20260424T054524Z
DTSTART;TZID=Europe/Berlin:20250911T203000
DTEND;TZID=Europe/Berlin:20250911T220000
SUMMARY:F Freundschaftsspiel  HG Jura 1 vs Regensburger Turnerschaft  1 (1)
UID:e050f653-c07f-4d14-bdf5-1ccbf451fef5
STATUS:CONFIRMED
LAST-MODIFIED:20250921T070818Z
DESCRIPTION:Freundschaftsspiel Freundschaftsspiel \nBegegnungs-Nr: 1\nHeim: HG Jura 1\nGast: Regensburger Turnerschaft  1\nHalle: Hemau\, Tangrintel-Halle (240140)\nAdresse: August-Glockner-Ring 1\, 93155 Hemau\n
LOCATION:Hemau\, Tangrintel-Halle (240140): August-Glockner-Ring 1\, 93155 Hemau
CATEGORIES:Saison Freundschaft 2025/26
END:VEVENT
BEGIN:VEVENT
DTSTAMP:20260424T054524Z
DTSTART;TZID=Europe/Berlin:20250902T203000
DTEND;TZID=Europe/Berlin:20250902T220000
SUMMARY:F Testspiel H1 - HC Jura TV 1881 Altdorf 1 vs HG Jura 1 (0)
UID:2f403d50-cc49-4f50-86d5-0cc13e0c2561
STATUS:CONFIRMED
LAST-MODIFIED:20250907T161626Z
DESCRIPTION:Freundschaftsspiel Testspiel H1 - HC Jura\nBegegnungs-Nr: 0\nHeim: TV 1881 Altdorf 1\nGast: HG Jura 1\nHalle: Altdorf\, Schulturnhalle Grundschule\nAdresse: Am Bleichanger\, 90518 Altdorf\n
LOCATION:Altdorf\, Schulturnhalle Grundschule Am Bleichanger\, 90518 Altdorf
CATEGORIES:Saison Freundschaft 2025/26
END:VEVENT
END:VCALENDAR
