BEGIN:VCALENDAR
PRODID:-//nuDatenautomaten//framework iCal4j //DE
VERSION:2.0
CALSCALE:GREGORIAN
BEGIN:VTIMEZONE
TZID:Europe/Berlin
LAST-MODIFIED:20260306T231828Z
TZURL:https://www.tzurl.org/zoneinfo/Europe/Berlin
X-LIC-LOCATION:Europe/Berlin
X-PROLEPTIC-TZNAME:LMT
BEGIN:STANDARD
TZNAME:CET
TZOFFSETFROM:+005328
TZOFFSETTO:+0100
DTSTART:18930401T000000
END:STANDARD
BEGIN:DAYLIGHT
TZNAME:CEST
TZOFFSETFROM:+0100
TZOFFSETTO:+0200
DTSTART:19160430T230000
RDATE:19400401T020000
RDATE:19430329T020000
RDATE:19460414T020000
RDATE:19470406T030000
RDATE:19480418T020000
RDATE:19490410T020000
RDATE:19800406T020000
END:DAYLIGHT
BEGIN:STANDARD
TZNAME:CET
TZOFFSETFROM:+0200
TZOFFSETTO:+0100
DTSTART:19161001T010000
RDATE:19421102T030000
RDATE:19431004T030000
RDATE:19441002T030000
RDATE:19451118T030000
RDATE:19461007T030000
END:STANDARD
BEGIN:DAYLIGHT
TZNAME:CEST
TZOFFSETFROM:+0100
TZOFFSETTO:+0200
DTSTART:19170416T020000
RRULE:FREQ=YEARLY;UNTIL=19180415T010000Z;BYMONTH=4;BYDAY=3MO
END:DAYLIGHT
BEGIN:STANDARD
TZNAME:CET
TZOFFSETFROM:+0200
TZOFFSETTO:+0100
DTSTART:19170917T030000
RRULE:FREQ=YEARLY;UNTIL=19180916T010000Z;BYMONTH=9;BYDAY=3MO
END:STANDARD
BEGIN:DAYLIGHT
TZNAME:CEST
TZOFFSETFROM:+0100
TZOFFSETTO:+0200
DTSTART:19440403T020000
RRULE:FREQ=YEARLY;UNTIL=19450402T010000Z;BYMONTH=4;BYDAY=1MO
END:DAYLIGHT
BEGIN:DAYLIGHT
TZNAME:CEMT
TZOFFSETFROM:+0200
TZOFFSETTO:+0300
DTSTART:19450524T020000
RDATE:19470511T030000
END:DAYLIGHT
BEGIN:DAYLIGHT
TZNAME:CEST
TZOFFSETFROM:+0300
TZOFFSETTO:+0200
DTSTART:19450924T030000
RDATE:19470629T030000
END:DAYLIGHT
BEGIN:STANDARD
TZNAME:CET
TZOFFSETFROM:+0100
TZOFFSETTO:+0100
DTSTART:19460101T000000
RDATE:19800101T000000
END:STANDARD
BEGIN:STANDARD
TZNAME:CET
TZOFFSETFROM:+0200
TZOFFSETTO:+0100
DTSTART:19471005T030000
RRULE:FREQ=YEARLY;UNTIL=19491002T010000Z;BYMONTH=10;BYDAY=1SU
END:STANDARD
BEGIN:STANDARD
TZNAME:CET
TZOFFSETFROM:+0200
TZOFFSETTO:+0100
DTSTART:19800928T030000
RRULE:FREQ=YEARLY;UNTIL=19950924T010000Z;BYMONTH=9;BYDAY=-1SU
END:STANDARD
BEGIN:DAYLIGHT
TZNAME:CEST
TZOFFSETFROM:+0100
TZOFFSETTO:+0200
DTSTART:19810329T020000
RRULE:FREQ=YEARLY;BYMONTH=3;BYDAY=-1SU
END:DAYLIGHT
BEGIN:STANDARD
TZNAME:CET
TZOFFSETFROM:+0200
TZOFFSETTO:+0100
DTSTART:19961027T030000
RRULE:FREQ=YEARLY;BYMONTH=10;BYDAY=-1SU
END:STANDARD
END:VTIMEZONE
BEGIN:VEVENT
DTSTAMP:20260423T134842Z
DTSTART;TZID=Europe/Berlin:20250907T100000
DTEND;TZID=Europe/Berlin:20250907T110000
SUMMARY:Vorrunde WJE VR-7 SFN Vechta II vs TV Dinklage II (965508)
UID:07448289-70b4-4760-9ffe-25457e803182
STATUS:CONFIRMED
LAST-MODIFIED:20250911T175545Z
DESCRIPTION:Weibliche E-Jugend Vorrunde 7 (CLP\,VEC)\nBegegnungs-Nr: 965508\nHeim: SFN Vechta II\nGast: TV Dinklage II\nHalle: Dinklage\, SH 1 SZ  (809107)\nAdresse: Schulstraße\, 49413 Dinklage\n
LOCATION:Dinklage\, SH 1 SZ  (809107): Schulstraße\, 49413 Dinklage
CATEGORIES:Saison 2025/26
END:VEVENT
BEGIN:VEVENT
DTSTAMP:20260423T134842Z
DTSTART;TZID=Europe/Berlin:20250920T100000
DTEND;TZID=Europe/Berlin:20250920T110000
SUMMARY:Vorrunde WJE VR-7 SFN Vechta II vs GW Mühlen (965515)
UID:b8dbdec1-4819-4a31-a3fa-cb071fc3e31f
STATUS:CONFIRMED
DESCRIPTION:Weibliche E-Jugend Vorrunde 7 (CLP\,VEC)\nBegegnungs-Nr: 965515\nHeim: SFN Vechta II\nGast: GW Mühlen\nHalle: Vechta-West\, SH  (809140)\nAdresse: Brüsseler Str. 37\, 49377 Vechta\n
LOCATION:Vechta-West\, SH  (809140): Brüsseler Str. 37\, 49377 Vechta
CATEGORIES:Saison 2025/26
END:VEVENT
BEGIN:VEVENT
DTSTAMP:20260423T134842Z
DTSTART;TZID=Europe/Berlin:20250824T140000
DTEND;TZID=Europe/Berlin:20250824T150000
SUMMARY:Vorrunde WJE VR-7 SFN Vechta II vs BV Garrel (965504)
UID:d6f220a7-bed1-47c8-87f2-bc6b11321d24
STATUS:CONFIRMED
LAST-MODIFIED:20250825T122744Z
DESCRIPTION:Weibliche E-Jugend Vorrunde 7 (CLP\,VEC)\nBegegnungs-Nr: 965504\nHeim: SFN Vechta II\nGast: BV Garrel\nHalle: Garrel\, SZ  (809115)\nAdresse: St.-Johannes-Straße\, 49681 Garrel\n
LOCATION:Garrel\, SZ  (809115): St.-Johannes-Straße\, 49681 Garrel
CATEGORIES:Saison 2025/26
END:VEVENT
BEGIN:VEVENT
DTSTAMP:20260423T134842Z
DTSTART;TZID=Europe/Berlin:20250907T120000
DTEND;TZID=Europe/Berlin:20250907T130000
SUMMARY:Vorrunde WJE VR-7 TuS BW Lohne II vs SFN Vechta II (965512)
UID:a2f21c99-8695-4064-b172-0924e39a2f1f
STATUS:CONFIRMED
LAST-MODIFIED:20250911T182046Z
DESCRIPTION:Weibliche E-Jugend Vorrunde 7 (CLP\,VEC)\nBegegnungs-Nr: 965512\nHeim: TuS BW Lohne II\nGast: SFN Vechta II\nHalle: Dinklage\, SH 1 SZ  (809107)\nAdresse: Schulstraße\, 49413 Dinklage\n
LOCATION:Dinklage\, SH 1 SZ  (809107): Schulstraße\, 49413 Dinklage
CATEGORIES:Saison 2025/26
END:VEVENT
BEGIN:VEVENT
DTSTAMP:20260423T134842Z
DTSTART;TZID=Europe/Berlin:20250824T160000
DTEND;TZID=Europe/Berlin:20250824T170000
SUMMARY:Vorrunde WJE VR-7 SV Höltinghausen II vs SFN Vechta II (965506)
UID:0919a08f-639b-49c9-a517-c7bb6d55772d
STATUS:CONFIRMED
LAST-MODIFIED:20250825T122959Z
DESCRIPTION:Weibliche E-Jugend Vorrunde 7 (CLP\,VEC)\nBegegnungs-Nr: 965506\nHeim: SV Höltinghausen II\nGast: SFN Vechta II\nHalle: Garrel\, SZ  (809115)\nAdresse: St.-Johannes-Straße\, 49681 Garrel\n
LOCATION:Garrel\, SZ  (809115): St.-Johannes-Straße\, 49681 Garrel
CATEGORIES:Saison 2025/26
END:VEVENT
BEGIN:VEVENT
DTSTAMP:20260423T134842Z
DTSTART;TZID=Europe/Berlin:20250920T120000
DTEND;TZID=Europe/Berlin:20250920T130000
SUMMARY:Vorrunde WJE VR-7 TV Cloppenburg vs SFN Vechta II (965517)
UID:b3e3af1b-e616-44f6-bdf9-5c3c104685cd
STATUS:CONFIRMED
DESCRIPTION:Weibliche E-Jugend Vorrunde 7 (CLP\,VEC)\nBegegnungs-Nr: 965517\nHeim: TV Cloppenburg\nGast: SFN Vechta II\nHalle: Vechta-West\, SH  (809140)\nAdresse: Brüsseler Str. 37\, 49377 Vechta\n
LOCATION:Vechta-West\, SH  (809140): Brüsseler Str. 37\, 49377 Vechta
CATEGORIES:Saison 2025/26
END:VEVENT
END:VCALENDAR
