BEGIN:VCALENDAR
PRODID:-//nuDatenautomaten//framework iCal4j //DE
VERSION:2.0
CALSCALE:GREGORIAN
BEGIN:VTIMEZONE
TZID:Europe/Berlin
LAST-MODIFIED:20260306T231828Z
TZURL:https://www.tzurl.org/zoneinfo/Europe/Berlin
X-LIC-LOCATION:Europe/Berlin
X-PROLEPTIC-TZNAME:LMT
BEGIN:STANDARD
TZNAME:CET
TZOFFSETFROM:+005328
TZOFFSETTO:+0100
DTSTART:18930401T000000
END:STANDARD
BEGIN:DAYLIGHT
TZNAME:CEST
TZOFFSETFROM:+0100
TZOFFSETTO:+0200
DTSTART:19160430T230000
RDATE:19400401T020000
RDATE:19430329T020000
RDATE:19460414T020000
RDATE:19470406T030000
RDATE:19480418T020000
RDATE:19490410T020000
RDATE:19800406T020000
END:DAYLIGHT
BEGIN:STANDARD
TZNAME:CET
TZOFFSETFROM:+0200
TZOFFSETTO:+0100
DTSTART:19161001T010000
RDATE:19421102T030000
RDATE:19431004T030000
RDATE:19441002T030000
RDATE:19451118T030000
RDATE:19461007T030000
END:STANDARD
BEGIN:DAYLIGHT
TZNAME:CEST
TZOFFSETFROM:+0100
TZOFFSETTO:+0200
DTSTART:19170416T020000
RRULE:FREQ=YEARLY;UNTIL=19180415T010000Z;BYMONTH=4;BYDAY=3MO
END:DAYLIGHT
BEGIN:STANDARD
TZNAME:CET
TZOFFSETFROM:+0200
TZOFFSETTO:+0100
DTSTART:19170917T030000
RRULE:FREQ=YEARLY;UNTIL=19180916T010000Z;BYMONTH=9;BYDAY=3MO
END:STANDARD
BEGIN:DAYLIGHT
TZNAME:CEST
TZOFFSETFROM:+0100
TZOFFSETTO:+0200
DTSTART:19440403T020000
RRULE:FREQ=YEARLY;UNTIL=19450402T010000Z;BYMONTH=4;BYDAY=1MO
END:DAYLIGHT
BEGIN:DAYLIGHT
TZNAME:CEMT
TZOFFSETFROM:+0200
TZOFFSETTO:+0300
DTSTART:19450524T020000
RDATE:19470511T030000
END:DAYLIGHT
BEGIN:DAYLIGHT
TZNAME:CEST
TZOFFSETFROM:+0300
TZOFFSETTO:+0200
DTSTART:19450924T030000
RDATE:19470629T030000
END:DAYLIGHT
BEGIN:STANDARD
TZNAME:CET
TZOFFSETFROM:+0100
TZOFFSETTO:+0100
DTSTART:19460101T000000
RDATE:19800101T000000
END:STANDARD
BEGIN:STANDARD
TZNAME:CET
TZOFFSETFROM:+0200
TZOFFSETTO:+0100
DTSTART:19471005T030000
RRULE:FREQ=YEARLY;UNTIL=19491002T010000Z;BYMONTH=10;BYDAY=1SU
END:STANDARD
BEGIN:STANDARD
TZNAME:CET
TZOFFSETFROM:+0200
TZOFFSETTO:+0100
DTSTART:19800928T030000
RRULE:FREQ=YEARLY;UNTIL=19950924T010000Z;BYMONTH=9;BYDAY=-1SU
END:STANDARD
BEGIN:DAYLIGHT
TZNAME:CEST
TZOFFSETFROM:+0100
TZOFFSETTO:+0200
DTSTART:19810329T020000
RRULE:FREQ=YEARLY;BYMONTH=3;BYDAY=-1SU
END:DAYLIGHT
BEGIN:STANDARD
TZNAME:CET
TZOFFSETFROM:+0200
TZOFFSETTO:+0100
DTSTART:19961027T030000
RRULE:FREQ=YEARLY;BYMONTH=10;BYDAY=-1SU
END:STANDARD
END:VTIMEZONE
BEGIN:VEVENT
DTSTAMP:20260421T161127Z
DTSTART;TZID=Europe/Berlin:20250411T190000
DTEND;TZID=Europe/Berlin:20250411T203000
SUMMARY:F Freundschaftsspiel wB Jugend FC Bayern München 2 vs SG Süd/Blumenau 2 (0)
UID:e643ae52-7176-4fac-95a8-ccd4010e49a3
STATUS:CONFIRMED
DESCRIPTION:Freundschaftsspiel Freundschaftsspiel wB Jugend\nBegegnungs-Nr: 0\nHeim: FC Bayern München 2\nGast: SG Süd/Blumenau 2\nHalle: München\, Städt. Schulsporthalle Ungsteinerstr. 46 (280230)\nAdresse: Ungsteiner Straße 46\, 81539 München\n
LOCATION:München\, Städt. Schulsporthalle Ungsteinerstr. 46 (280230): Ungsteiner Straße 46\, 81539 München
CATEGORIES:Saison Freundschaft 2024/25
END:VEVENT
BEGIN:VEVENT
DTSTAMP:20260421T161127Z
DTSTART;TZID=Europe/Berlin:20250427T120000
DTEND;TZID=Europe/Berlin:20250427T130000
SUMMARY:F Freundschaftsspiel wC Jugend FC Bayern München 2 vs SG Süd/Blumenau 2 (0)
UID:6d94e3f6-b36e-44b4-a20d-f3334c08b510
STATUS:CONFIRMED
DESCRIPTION:Freundschaftsspiel Freundschaftsspiel wC Jugend\nBegegnungs-Nr: 0\nHeim: FC Bayern München 2\nGast: SG Süd/Blumenau 2\nHalle: München\, Städt. Schulsporthalle Ungsteinerstr. 46 (280230)\nAdresse: Ungsteiner Straße 46\, 81539 München\n
LOCATION:München\, Städt. Schulsporthalle Ungsteinerstr. 46 (280230): Ungsteiner Straße 46\, 81539 München
CATEGORIES:Saison Freundschaft 2024/25
END:VEVENT
BEGIN:VEVENT
DTSTAMP:20260421T161127Z
DTSTART;TZID=Europe/Berlin:20240820T200000
DTEND;TZID=Europe/Berlin:20240820T213000
SUMMARY:F Testspiel SV München Laim SV München Laim 4 vs SG Süd/Blumenau 2 (1)
UID:f88b375c-ab61-41e7-b7b5-1a3f4b9cceb5
STATUS:CONFIRMED
LAST-MODIFIED:20240901T063412Z
DESCRIPTION:Freundschaftsspiel Testspiel SV München Laim\nBegegnungs-Nr: 1\nHeim: SV München Laim 4\nGast: SG Süd/Blumenau 2\nHalle: München\, Schulsporthalle Riegerhofstr. (280244)\nAdresse: Riegerhofstr. 20\, 80686 München\n
LOCATION:München\, Schulsporthalle Riegerhofstr. (280244): Riegerhofstr. 20\, 80686 München
CATEGORIES:Saison Freundschaft 2024/25
END:VEVENT
END:VCALENDAR
