BEGIN:VCALENDAR
PRODID:-//nuDatenautomaten//framework iCal4j //DE
VERSION:2.0
CALSCALE:GREGORIAN
BEGIN:VTIMEZONE
TZID:Europe/Berlin
LAST-MODIFIED:20260306T231828Z
TZURL:https://www.tzurl.org/zoneinfo/Europe/Berlin
X-LIC-LOCATION:Europe/Berlin
X-PROLEPTIC-TZNAME:LMT
BEGIN:STANDARD
TZNAME:CET
TZOFFSETFROM:+005328
TZOFFSETTO:+0100
DTSTART:18930401T000000
END:STANDARD
BEGIN:DAYLIGHT
TZNAME:CEST
TZOFFSETFROM:+0100
TZOFFSETTO:+0200
DTSTART:19160430T230000
RDATE:19400401T020000
RDATE:19430329T020000
RDATE:19460414T020000
RDATE:19470406T030000
RDATE:19480418T020000
RDATE:19490410T020000
RDATE:19800406T020000
END:DAYLIGHT
BEGIN:STANDARD
TZNAME:CET
TZOFFSETFROM:+0200
TZOFFSETTO:+0100
DTSTART:19161001T010000
RDATE:19421102T030000
RDATE:19431004T030000
RDATE:19441002T030000
RDATE:19451118T030000
RDATE:19461007T030000
END:STANDARD
BEGIN:DAYLIGHT
TZNAME:CEST
TZOFFSETFROM:+0100
TZOFFSETTO:+0200
DTSTART:19170416T020000
RRULE:FREQ=YEARLY;UNTIL=19180415T010000Z;BYMONTH=4;BYDAY=3MO
END:DAYLIGHT
BEGIN:STANDARD
TZNAME:CET
TZOFFSETFROM:+0200
TZOFFSETTO:+0100
DTSTART:19170917T030000
RRULE:FREQ=YEARLY;UNTIL=19180916T010000Z;BYMONTH=9;BYDAY=3MO
END:STANDARD
BEGIN:DAYLIGHT
TZNAME:CEST
TZOFFSETFROM:+0100
TZOFFSETTO:+0200
DTSTART:19440403T020000
RRULE:FREQ=YEARLY;UNTIL=19450402T010000Z;BYMONTH=4;BYDAY=1MO
END:DAYLIGHT
BEGIN:DAYLIGHT
TZNAME:CEMT
TZOFFSETFROM:+0200
TZOFFSETTO:+0300
DTSTART:19450524T020000
RDATE:19470511T030000
END:DAYLIGHT
BEGIN:DAYLIGHT
TZNAME:CEST
TZOFFSETFROM:+0300
TZOFFSETTO:+0200
DTSTART:19450924T030000
RDATE:19470629T030000
END:DAYLIGHT
BEGIN:STANDARD
TZNAME:CET
TZOFFSETFROM:+0100
TZOFFSETTO:+0100
DTSTART:19460101T000000
RDATE:19800101T000000
END:STANDARD
BEGIN:STANDARD
TZNAME:CET
TZOFFSETFROM:+0200
TZOFFSETTO:+0100
DTSTART:19471005T030000
RRULE:FREQ=YEARLY;UNTIL=19491002T010000Z;BYMONTH=10;BYDAY=1SU
END:STANDARD
BEGIN:STANDARD
TZNAME:CET
TZOFFSETFROM:+0200
TZOFFSETTO:+0100
DTSTART:19800928T030000
RRULE:FREQ=YEARLY;UNTIL=19950924T010000Z;BYMONTH=9;BYDAY=-1SU
END:STANDARD
BEGIN:DAYLIGHT
TZNAME:CEST
TZOFFSETFROM:+0100
TZOFFSETTO:+0200
DTSTART:19810329T020000
RRULE:FREQ=YEARLY;BYMONTH=3;BYDAY=-1SU
END:DAYLIGHT
BEGIN:STANDARD
TZNAME:CET
TZOFFSETFROM:+0200
TZOFFSETTO:+0100
DTSTART:19961027T030000
RRULE:FREQ=YEARLY;BYMONTH=10;BYDAY=-1SU
END:STANDARD
END:VTIMEZONE
BEGIN:VEVENT
DTSTAMP:20260422T053013Z
DTSTART;TZID=Europe/Berlin:20250315T100000
DTEND;TZID=Europe/Berlin:20250315T110000
SUMMARY:Bezirksklasse RR N TSV Rottenburg II vs ETSV 09 Landshut (26057310)
UID:dfb0f4e4-b454-4596-81c6-4860ddc6993f
STATUS:CONFIRMED
LAST-MODIFIED:20250315T154235Z
DESCRIPTION:BzK mD RR N\nBegegnungs-Nr: 26057310\nHeim: TSV Rottenburg II\nGast: ETSV 09 Landshut\nHalle: Rottenburg\, MZH Laabertal (260342)\nAdresse: Pater-Wilhelm-Fink-Str. 18\, 84056 Rottenburg-Laaber\n
LOCATION:Rottenburg\, MZH Laabertal (260342): Pater-Wilhelm-Fink-Str. 18\, 84056 Rottenburg-Laaber
CATEGORIES:Saison 2024/25
END:VEVENT
BEGIN:VEVENT
DTSTAMP:20260422T053013Z
DTSTART;TZID=Europe/Berlin:20250208T124500
DTEND;TZID=Europe/Berlin:20250208T134500
SUMMARY:Bezirksklasse RR N TSV Rottenburg II vs TG Landshut II (26057306)
UID:1ca40b12-cca4-4ba4-b930-36cb1e6abfbb
STATUS:CONFIRMED
LAST-MODIFIED:20250208T160504Z
DESCRIPTION:BzK mD RR N\nBegegnungs-Nr: 26057306\nHeim: TSV Rottenburg II\nGast: TG Landshut II\nHalle: Rottenburg\, MZH Laabertal (260342)\nAdresse: Pater-Wilhelm-Fink-Str. 18\, 84056 Rottenburg-Laaber\n
LOCATION:Rottenburg\, MZH Laabertal (260342): Pater-Wilhelm-Fink-Str. 18\, 84056 Rottenburg-Laaber
CATEGORIES:Saison 2024/25
END:VEVENT
BEGIN:VEVENT
DTSTAMP:20260422T053013Z
DTSTART;TZID=Europe/Berlin:20250301T144500
DTEND;TZID=Europe/Berlin:20250301T154500
SUMMARY:Bezirksklasse RR N TSV Rottenburg II vs TV Landau (26057301)
UID:7d0ab1f6-3bcb-4b7e-b14d-22217955ee9b
STATUS:CONFIRMED
LAST-MODIFIED:20250302T115446Z
DESCRIPTION:BzK mD RR N\nBegegnungs-Nr: 26057301\nHeim: TSV Rottenburg II\nGast: TV Landau\nHalle: Rottenburg\, MZH Laabertal (260342)\nAdresse: Pater-Wilhelm-Fink-Str. 18\, 84056 Rottenburg-Laaber\n
LOCATION:Rottenburg\, MZH Laabertal (260342): Pater-Wilhelm-Fink-Str. 18\, 84056 Rottenburg-Laaber
CATEGORIES:Saison 2024/25
END:VEVENT
BEGIN:VEVENT
DTSTAMP:20260422T053013Z
DTSTART;TZID=Europe/Berlin:20241215T140000
DTEND;TZID=Europe/Berlin:20241215T150000
SUMMARY:Bezirksklasse VR N TSV Rottenburg II vs ETSV 09 Landshut (26058319)
UID:61f30c17-7567-46cb-940c-e4fb4cd506b8
STATUS:CONFIRMED
LAST-MODIFIED:20241216T165715Z
DESCRIPTION:BzK mD VR N\nBegegnungs-Nr: 26058319\nHeim: TSV Rottenburg II\nGast: ETSV 09 Landshut\nHalle: Rottenburg\, MZH Laabertal (260342)\nAdresse: Pater-Wilhelm-Fink-Str. 18\, 84056 Rottenburg-Laaber\n
LOCATION:Rottenburg\, MZH Laabertal (260342): Pater-Wilhelm-Fink-Str. 18\, 84056 Rottenburg-Laaber
CATEGORIES:Saison 2024/25
END:VEVENT
BEGIN:VEVENT
DTSTAMP:20260422T053013Z
DTSTART;TZID=Europe/Berlin:20241116T141500
DTEND;TZID=Europe/Berlin:20241116T151500
SUMMARY:Bezirksklasse VR N TSV Rottenburg II vs TSV 1861 Mainburg II (26058312)
UID:8f1bd698-7419-4a99-afd3-e65c47ca5852
STATUS:CONFIRMED
LAST-MODIFIED:20241116T160823Z
DESCRIPTION:BzK mD VR N\nBegegnungs-Nr: 26058312\nHeim: TSV Rottenburg II\nGast: TSV 1861 Mainburg II\nHalle: Rottenburg\, MZH Laabertal (260342)\nAdresse: Pater-Wilhelm-Fink-Str. 18\, 84056 Rottenburg-Laaber\n
LOCATION:Rottenburg\, MZH Laabertal (260342): Pater-Wilhelm-Fink-Str. 18\, 84056 Rottenburg-Laaber
CATEGORIES:Saison 2024/25
END:VEVENT
BEGIN:VEVENT
DTSTAMP:20260422T053013Z
DTSTART;TZID=Europe/Berlin:20241130T101500
DTEND;TZID=Europe/Berlin:20241130T111500
SUMMARY:Bezirksklasse VR N TSV Rottenburg II vs TV Landau (26058301)
UID:4847fcdc-e58c-4a55-b4cf-9e1752ee7b1c
STATUS:CONFIRMED
LAST-MODIFIED:20241130T233208Z
DESCRIPTION:BzK mD VR N\nBegegnungs-Nr: 26058301\nHeim: TSV Rottenburg II\nGast: TV Landau\nHalle: Rottenburg\, MZH Laabertal (260342)\nAdresse: Pater-Wilhelm-Fink-Str. 18\, 84056 Rottenburg-Laaber\n
LOCATION:Rottenburg\, MZH Laabertal (260342): Pater-Wilhelm-Fink-Str. 18\, 84056 Rottenburg-Laaber
CATEGORIES:Saison 2024/25
END:VEVENT
BEGIN:VEVENT
DTSTAMP:20260422T053013Z
DTSTART;TZID=Europe/Berlin:20241006T120000
DTEND;TZID=Europe/Berlin:20241006T130000
SUMMARY:Bezirksklasse VR N TSV Rottenburg II vs TSV Vilsbiburg (26058305)
UID:03e0f43b-4f73-46fb-ad95-70a2bb4e7299
STATUS:CONFIRMED
LAST-MODIFIED:20241006T174141Z
DESCRIPTION:BzK mD VR N\nBegegnungs-Nr: 26058305\nHeim: TSV Rottenburg II\nGast: TSV Vilsbiburg\nHalle: Rottenburg\, MZH Laabertal (260342)\nAdresse: Pater-Wilhelm-Fink-Str. 18\, 84056 Rottenburg-Laaber\n
LOCATION:Rottenburg\, MZH Laabertal (260342): Pater-Wilhelm-Fink-Str. 18\, 84056 Rottenburg-Laaber
CATEGORIES:Saison 2024/25
END:VEVENT
BEGIN:VEVENT
DTSTAMP:20260422T053013Z
DTSTART;TZID=Europe/Berlin:20241019T143000
DTEND;TZID=Europe/Berlin:20241019T153000
SUMMARY:Bezirksklasse VR N ETSV 09 Landshut vs TSV Rottenburg II (26058306)
UID:4b8ffadf-b0cd-4d6f-b5ab-bb1a6727cd6e
STATUS:CONFIRMED
LAST-MODIFIED:20241019T142719Z
DESCRIPTION:BzK mD VR N\nBegegnungs-Nr: 26058306\nHeim: ETSV 09 Landshut\nGast: TSV Rottenburg II\nHalle: Landshut\, Sparda-Bank Sporthalle (260204)\nAdresse: Siemensstr.2\, 84032 Landshut\n
LOCATION:Landshut\, Sparda-Bank Sporthalle (260204): Siemensstr.2\, 84032 Landshut
CATEGORIES:Saison 2024/25
END:VEVENT
BEGIN:VEVENT
DTSTAMP:20260422T053013Z
DTSTART;TZID=Europe/Berlin:20241102T133000
DTEND;TZID=Europe/Berlin:20241102T143000
SUMMARY:Bezirksklasse VR N TSV Vilsbiburg vs TSV Rottenburg II (26058309)
UID:73dad19e-a8b3-4ecb-9a2e-3fd2939e918b
STATUS:CONFIRMED
LAST-MODIFIED:20241102T141738Z
DESCRIPTION:BzK mD VR N\nBegegnungs-Nr: 26058309\nHeim: TSV Vilsbiburg\nGast: TSV Rottenburg II\nHalle: Vilsbiburg Ballsporthalle (260440)\nAdresse: Urbanstraße 2\, 84137 Vilsbiburg\n
LOCATION:Vilsbiburg Ballsporthalle (260440): Urbanstraße 2\, 84137 Vilsbiburg
CATEGORIES:Saison 2024/25
END:VEVENT
BEGIN:VEVENT
DTSTAMP:20260422T053013Z
DTSTART;TZID=Europe/Berlin:20250215T150000
DTEND;TZID=Europe/Berlin:20250215T160000
SUMMARY:Bezirksklasse RR N TV Landau vs TSV Rottenburg II (26057307)
UID:6d6ae20b-7787-41f8-932a-c269f5f3a8b7
STATUS:CONFIRMED
LAST-MODIFIED:20250215T164451Z
DESCRIPTION:BzK mD RR N\nBegegnungs-Nr: 26057307\nHeim: TV Landau\nGast: TSV Rottenburg II\nHalle: Landau\, Dreifachsporthalle (260200)\nAdresse: Straubinger Str. 29\, 94405 Landau\n
LOCATION:Landau\, Dreifachsporthalle (260200): Straubinger Str. 29\, 94405 Landau
CATEGORIES:Saison 2024/25
END:VEVENT
BEGIN:VEVENT
DTSTAMP:20260422T053013Z
DTSTART;TZID=Europe/Berlin:20250323T111500
DTEND;TZID=Europe/Berlin:20250323T121500
SUMMARY:Bezirksklasse RR N TG Landshut II vs TSV Rottenburg II (26057312)
UID:4e2c3b77-5f9e-4b2f-9a5b-7afb6b16b18a
STATUS:CONFIRMED
LAST-MODIFIED:20250324T160900Z
DESCRIPTION:BzK mD RR N\nBegegnungs-Nr: 26057312\nHeim: TG Landshut II\nGast: TSV Rottenburg II\nHalle: Landshut\, Halle Sportzentrum West (260205)\nAdresse: Sandnerstr. 7\, 84034 Landshut\n
LOCATION:Landshut\, Halle Sportzentrum West (260205): Sandnerstr. 7\, 84034 Landshut
CATEGORIES:Saison 2024/25
END:VEVENT
BEGIN:VEVENT
DTSTAMP:20260422T053013Z
DTSTART;TZID=Europe/Berlin:20250125T170000
DTEND;TZID=Europe/Berlin:20250125T180000
SUMMARY:Bezirksklasse RR N ETSV 09 Landshut vs TSV Rottenburg II (26057304)
UID:162f7aff-95fb-4a73-9639-9296ce0a540a
STATUS:CONFIRMED
LAST-MODIFIED:20250123T223606Z
DESCRIPTION:BzK mD RR N\nBegegnungs-Nr: 26057304\nHeim: ETSV 09 Landshut\nGast: TSV Rottenburg II\nHalle: Landshut\, Sparda-Bank Sporthalle (260204)\nAdresse: Siemensstr.2\, 84032 Landshut\n
LOCATION:Landshut\, Sparda-Bank Sporthalle (260204): Siemensstr.2\, 84032 Landshut
CATEGORIES:Saison 2024/25
END:VEVENT
BEGIN:VEVENT
DTSTAMP:20260422T053013Z
DTSTART;TZID=Europe/Berlin:20240929T110000
DTEND;TZID=Europe/Berlin:20240929T120000
SUMMARY:Bezirksklasse VR N TSV 1861 Mainburg II vs TSV Rottenburg II (26058304)
UID:9b44c321-bb8c-473d-bc7b-fdf4a81c5666
STATUS:CONFIRMED
LAST-MODIFIED:20240930T144417Z
DESCRIPTION:BzK mD VR N\nBegegnungs-Nr: 26058304\nHeim: TSV 1861 Mainburg II\nGast: TSV Rottenburg II\nHalle: Mainburg\, Sporthalle Mittelschule (260220)\nAdresse: Ebrantshauser Str. 68\, 84048 Mainburg\n
LOCATION:Mainburg\, Sporthalle Mittelschule (260220): Ebrantshauser Str. 68\, 84048 Mainburg
CATEGORIES:Saison 2024/25
END:VEVENT
BEGIN:VEVENT
DTSTAMP:20260422T053013Z
DTSTART;TZID=Europe/Berlin:20241110T140000
DTEND;TZID=Europe/Berlin:20241110T150000
SUMMARY:Bezirksklasse VR N TV Landau vs TSV Rottenburg II (26058311)
UID:f3345d80-203e-4714-8cdb-843cf14f6332
STATUS:CONFIRMED
LAST-MODIFIED:20241113T214623Z
DESCRIPTION:BzK mD VR N\nBegegnungs-Nr: 26058311\nHeim: TV Landau\nGast: TSV Rottenburg II\nHalle: Landau\, Dreifachsporthalle (260200)\nAdresse: Straubinger Str. 29\, 94405 Landau\n
LOCATION:Landau\, Dreifachsporthalle (260200): Straubinger Str. 29\, 94405 Landau
CATEGORIES:Saison 2024/25
END:VEVENT
END:VCALENDAR
