BEGIN:VCALENDAR
PRODID:-//nuDatenautomaten//framework iCal4j //DE
VERSION:2.0
CALSCALE:GREGORIAN
BEGIN:VTIMEZONE
TZID:Europe/Berlin
LAST-MODIFIED:20260306T231828Z
TZURL:https://www.tzurl.org/zoneinfo/Europe/Berlin
X-LIC-LOCATION:Europe/Berlin
X-PROLEPTIC-TZNAME:LMT
BEGIN:STANDARD
TZNAME:CET
TZOFFSETFROM:+005328
TZOFFSETTO:+0100
DTSTART:18930401T000000
END:STANDARD
BEGIN:DAYLIGHT
TZNAME:CEST
TZOFFSETFROM:+0100
TZOFFSETTO:+0200
DTSTART:19160430T230000
RDATE:19400401T020000
RDATE:19430329T020000
RDATE:19460414T020000
RDATE:19470406T030000
RDATE:19480418T020000
RDATE:19490410T020000
RDATE:19800406T020000
END:DAYLIGHT
BEGIN:STANDARD
TZNAME:CET
TZOFFSETFROM:+0200
TZOFFSETTO:+0100
DTSTART:19161001T010000
RDATE:19421102T030000
RDATE:19431004T030000
RDATE:19441002T030000
RDATE:19451118T030000
RDATE:19461007T030000
END:STANDARD
BEGIN:DAYLIGHT
TZNAME:CEST
TZOFFSETFROM:+0100
TZOFFSETTO:+0200
DTSTART:19170416T020000
RRULE:FREQ=YEARLY;UNTIL=19180415T010000Z;BYMONTH=4;BYDAY=3MO
END:DAYLIGHT
BEGIN:STANDARD
TZNAME:CET
TZOFFSETFROM:+0200
TZOFFSETTO:+0100
DTSTART:19170917T030000
RRULE:FREQ=YEARLY;UNTIL=19180916T010000Z;BYMONTH=9;BYDAY=3MO
END:STANDARD
BEGIN:DAYLIGHT
TZNAME:CEST
TZOFFSETFROM:+0100
TZOFFSETTO:+0200
DTSTART:19440403T020000
RRULE:FREQ=YEARLY;UNTIL=19450402T010000Z;BYMONTH=4;BYDAY=1MO
END:DAYLIGHT
BEGIN:DAYLIGHT
TZNAME:CEMT
TZOFFSETFROM:+0200
TZOFFSETTO:+0300
DTSTART:19450524T020000
RDATE:19470511T030000
END:DAYLIGHT
BEGIN:DAYLIGHT
TZNAME:CEST
TZOFFSETFROM:+0300
TZOFFSETTO:+0200
DTSTART:19450924T030000
RDATE:19470629T030000
END:DAYLIGHT
BEGIN:STANDARD
TZNAME:CET
TZOFFSETFROM:+0100
TZOFFSETTO:+0100
DTSTART:19460101T000000
RDATE:19800101T000000
END:STANDARD
BEGIN:STANDARD
TZNAME:CET
TZOFFSETFROM:+0200
TZOFFSETTO:+0100
DTSTART:19471005T030000
RRULE:FREQ=YEARLY;UNTIL=19491002T010000Z;BYMONTH=10;BYDAY=1SU
END:STANDARD
BEGIN:STANDARD
TZNAME:CET
TZOFFSETFROM:+0200
TZOFFSETTO:+0100
DTSTART:19800928T030000
RRULE:FREQ=YEARLY;UNTIL=19950924T010000Z;BYMONTH=9;BYDAY=-1SU
END:STANDARD
BEGIN:DAYLIGHT
TZNAME:CEST
TZOFFSETFROM:+0100
TZOFFSETTO:+0200
DTSTART:19810329T020000
RRULE:FREQ=YEARLY;BYMONTH=3;BYDAY=-1SU
END:DAYLIGHT
BEGIN:STANDARD
TZNAME:CET
TZOFFSETFROM:+0200
TZOFFSETTO:+0100
DTSTART:19961027T030000
RRULE:FREQ=YEARLY;BYMONTH=10;BYDAY=-1SU
END:STANDARD
END:VTIMEZONE
BEGIN:VEVENT
DTSTAMP:20260419T230840Z
DTSTART;TZID=Europe/Berlin:20250216T110000
DTEND;TZID=Europe/Berlin:20250216T120000
SUMMARY:Bezirksklasse Ost HR TV Bad Tölz II vs SSV Ettal (0)
UID:ab8f8a63-f467-4f26-a3ad-9b5387c0d98a
STATUS:CONFIRMED
LAST-MODIFIED:20250216T132420Z
DESCRIPTION:Bezirksklasse Staffel Ost Hauptrunde männl. D-Jugend\nBegegnungs-Nr: 0\nHeim: TV Bad Tölz II\nGast: SSV Ettal\nHalle: Bad Tölz\, Sporthalle Jahnstrasse (270020)\nAdresse: Jahnstrasse\, 83646 Bad Tölz\n
LOCATION:Bad Tölz\, Sporthalle Jahnstrasse (270020): Jahnstrasse\, 83646 Bad Tölz
CATEGORIES:Saison 2024/25
END:VEVENT
BEGIN:VEVENT
DTSTAMP:20260419T230840Z
DTSTART;TZID=Europe/Berlin:20250316T093000
DTEND;TZID=Europe/Berlin:20250316T103000
SUMMARY:Bezirksklasse Ost HR TV Bad Tölz II vs SC Wörthsee II (0)
UID:c56b349b-56b0-4eff-a5eb-808bd54a3a81
STATUS:CONFIRMED
LAST-MODIFIED:20250317T102105Z
DESCRIPTION:Bezirksklasse Staffel Ost Hauptrunde männl. D-Jugend\nBegegnungs-Nr: 0\nHeim: TV Bad Tölz II\nGast: SC Wörthsee II\nHalle: Bad Tölz\, Sporthalle Jahnstrasse (270020)\nAdresse: Jahnstrasse\, 83646 Bad Tölz\n
LOCATION:Bad Tölz\, Sporthalle Jahnstrasse (270020): Jahnstrasse\, 83646 Bad Tölz
CATEGORIES:Saison 2024/25
END:VEVENT
BEGIN:VEVENT
DTSTAMP:20260419T230840Z
DTSTART;TZID=Europe/Berlin:20250209T143000
DTEND;TZID=Europe/Berlin:20250209T153000
SUMMARY:Bezirksklasse Ost HR TV Bad Tölz II vs TSV Peißenberg (0)
UID:3cf4882b-d355-4686-8974-c01a95e2b252
STATUS:CONFIRMED
LAST-MODIFIED:20250209T160526Z
DESCRIPTION:Bezirksklasse Staffel Ost Hauptrunde männl. D-Jugend\nBegegnungs-Nr: 0\nHeim: TV Bad Tölz II\nGast: TSV Peißenberg\nHalle: Peißenberg\, Glückauf-Halle  (270320)\nAdresse: Alpspitzstrasse 11\, 82380 Peißenberg\n
LOCATION:Peißenberg\, Glückauf-Halle  (270320): Alpspitzstrasse 11\, 82380 Peißenberg
CATEGORIES:Saison 2024/25
END:VEVENT
BEGIN:VEVENT
DTSTAMP:20260419T230840Z
DTSTART;TZID=Europe/Berlin:20250201T120000
DTEND;TZID=Europe/Berlin:20250201T130000
SUMMARY:Bezirksklasse Ost HR TV Bad Tölz II vs SV Pullach II (0)
UID:09e417b6-cd9e-4f02-a2b4-b9e2a1f5b647
STATUS:CONFIRMED
LAST-MODIFIED:20250202T140938Z
DESCRIPTION:Bezirksklasse Staffel Ost Hauptrunde männl. D-Jugend\nBegegnungs-Nr: 0\nHeim: TV Bad Tölz II\nGast: SV Pullach II\nHalle: Pullach\, Erzdiözese (270325)\nAdresse: Wolfratshauser Str. 30\, 82049 Pullach\n
LOCATION:Pullach\, Erzdiözese (270325): Wolfratshauser Str. 30\, 82049 Pullach
CATEGORIES:Saison 2024/25
END:VEVENT
BEGIN:VEVENT
DTSTAMP:20260419T230840Z
DTSTART;TZID=Europe/Berlin:20241006T100000
DTEND;TZID=Europe/Berlin:20241006T110000
SUMMARY:Bezirksklasse SO VR TV Bad Tölz II vs TSV Peißenberg (0)
UID:f095a19a-6b51-4b50-b6b2-3b932b53cec9
STATUS:CONFIRMED
LAST-MODIFIED:20241006T092703Z
DESCRIPTION:Bezirksklasse Staffel Süd-Ost Vorrunde männl. D-Jugend\nBegegnungs-Nr: 0\nHeim: TV Bad Tölz II\nGast: TSV Peißenberg\nHalle: Murnau\, Hans Burger (270226)\nAdresse: Poschinger Allee 8\, 82418 Murnau \n
LOCATION:Murnau\, Hans Burger (270226): Poschinger Allee 8\, 82418 Murnau 
CATEGORIES:Saison 2024/25
END:VEVENT
BEGIN:VEVENT
DTSTAMP:20260419T230840Z
DTSTART;TZID=Europe/Berlin:20240921T120000
DTEND;TZID=Europe/Berlin:20240921T130000
SUMMARY:Bezirksklasse SO VR TV Bad Tölz II vs SSV Ettal (0)
UID:bfb682ca-79cd-46d0-9b51-402ebc8e7a18
STATUS:CONFIRMED
LAST-MODIFIED:20240922T092234Z
DESCRIPTION:Bezirksklasse Staffel Süd-Ost Vorrunde männl. D-Jugend\nBegegnungs-Nr: 0\nHeim: TV Bad Tölz II\nGast: SSV Ettal\nHalle: Partenkirchen\, Werdenfels Gym. (270121)\nAdresse: Wettersteinstrasse 30\, 82467 Garmisch-Partenkirchen\n
LOCATION:Partenkirchen\, Werdenfels Gym. (270121): Wettersteinstrasse 30\, 82467 Garmisch-Partenkirchen
CATEGORIES:Saison 2024/25
END:VEVENT
BEGIN:VEVENT
DTSTAMP:20260419T230840Z
DTSTART;TZID=Europe/Berlin:20241124T133000
DTEND;TZID=Europe/Berlin:20241124T143000
SUMMARY:Bezirksklasse SO VR TV Bad Tölz II vs TSV Peißenberg (0)
UID:dd6636d0-816e-402c-8ab6-13e9fd523ec8
STATUS:CONFIRMED
LAST-MODIFIED:20241124T142509Z
DESCRIPTION:Bezirksklasse Staffel Süd-Ost Vorrunde männl. D-Jugend\nBegegnungs-Nr: 0\nHeim: TV Bad Tölz II\nGast: TSV Peißenberg\nHalle: Mittelschule Gaißach (270132)\nAdresse: Wetzl 5\, 83674 Gaißach\n
LOCATION:Mittelschule Gaißach (270132): Wetzl 5\, 83674 Gaißach
CATEGORIES:Saison 2024/25
END:VEVENT
BEGIN:VEVENT
DTSTAMP:20260419T230840Z
DTSTART;TZID=Europe/Berlin:20241110T110000
DTEND;TZID=Europe/Berlin:20241110T120000
SUMMARY:Bezirksklasse SO VR TV Bad Tölz II vs TSV Herrsching II (0)
UID:35abb7a1-281d-4b9c-bc76-7585a21318a5
STATUS:CONFIRMED
LAST-MODIFIED:20241110T143846Z
DESCRIPTION:Bezirksklasse Staffel Süd-Ost Vorrunde männl. D-Jugend\nBegegnungs-Nr: 0\nHeim: TV Bad Tölz II\nGast: TSV Herrsching II\nHalle: Herrsching\, SH Nikolausstrasse  (270140)\nAdresse: Nikolausstrasse 11\, 82211 Herrsching \n
LOCATION:Herrsching\, SH Nikolausstrasse  (270140): Nikolausstrasse 11\, 82211 Herrsching 
CATEGORIES:Saison 2024/25
END:VEVENT
BEGIN:VEVENT
DTSTAMP:20260419T230840Z
DTSTART;TZID=Europe/Berlin:20241020T093000
DTEND;TZID=Europe/Berlin:20241020T103000
SUMMARY:Bezirksklasse SO VR TV Bad Tölz II vs HSG Isar-Loisach II (0)
UID:b9333d3b-e1af-4ea0-a313-5f1e2c4320c4
STATUS:CONFIRMED
LAST-MODIFIED:20241020T085924Z
DESCRIPTION:Bezirksklasse Staffel Süd-Ost Vorrunde männl. D-Jugend\nBegegnungs-Nr: 0\nHeim: TV Bad Tölz II\nGast: HSG Isar-Loisach II\nHalle: Bad Tölz\, Sporthalle Jahnstrasse (270020)\nAdresse: Jahnstrasse\, 83646 Bad Tölz\n
LOCATION:Bad Tölz\, Sporthalle Jahnstrasse (270020): Jahnstrasse\, 83646 Bad Tölz
CATEGORIES:Saison 2024/25
END:VEVENT
BEGIN:VEVENT
DTSTAMP:20260419T230840Z
DTSTART;TZID=Europe/Berlin:20241208T143000
DTEND;TZID=Europe/Berlin:20241208T153000
SUMMARY:Bezirksklasse SO VR TV Bad Tölz II vs HSG Isar-Loisach II (0)
UID:911f0b31-65f7-4274-9410-6aeecd47f168
STATUS:CONFIRMED
LAST-MODIFIED:20241209T141228Z
DESCRIPTION:Bezirksklasse Staffel Süd-Ost Vorrunde männl. D-Jugend\nBegegnungs-Nr: 0\nHeim: TV Bad Tölz II\nGast: HSG Isar-Loisach II\nHalle: Wolfratshausen\, Sporthalle  (270464)\nAdresse: Sauerlacher Strasse \, 82515 Wolfratshausen \n
LOCATION:Wolfratshausen\, Sporthalle  (270464): Sauerlacher Strasse \, 82515 Wolfratshausen 
CATEGORIES:Saison 2024/25
END:VEVENT
BEGIN:VEVENT
DTSTAMP:20260419T230840Z
DTSTART;TZID=Europe/Berlin:20250316T113000
DTEND;TZID=Europe/Berlin:20250316T123000
SUMMARY:Bezirksklasse Ost HR SSV Ettal vs TV Bad Tölz II (0)
UID:5f2d206f-561b-4648-a619-1dfdc229a8f4
STATUS:CONFIRMED
LAST-MODIFIED:20250317T102640Z
DESCRIPTION:Bezirksklasse Staffel Ost Hauptrunde männl. D-Jugend\nBegegnungs-Nr: 0\nHeim: SSV Ettal\nGast: TV Bad Tölz II\nHalle: Bad Tölz\, Sporthalle Jahnstrasse (270020)\nAdresse: Jahnstrasse\, 83646 Bad Tölz\n
LOCATION:Bad Tölz\, Sporthalle Jahnstrasse (270020): Jahnstrasse\, 83646 Bad Tölz
CATEGORIES:Saison 2024/25
END:VEVENT
BEGIN:VEVENT
DTSTAMP:20260419T230840Z
DTSTART;TZID=Europe/Berlin:20250216T130000
DTEND;TZID=Europe/Berlin:20250216T140000
SUMMARY:Bezirksklasse Ost HR SV Pullach II vs TV Bad Tölz II (0)
UID:db250235-4e04-4af3-b785-e48b65f6245d
STATUS:CONFIRMED
LAST-MODIFIED:20250216T132640Z
DESCRIPTION:Bezirksklasse Staffel Ost Hauptrunde männl. D-Jugend\nBegegnungs-Nr: 0\nHeim: SV Pullach II\nGast: TV Bad Tölz II\nHalle: Bad Tölz\, Sporthalle Jahnstrasse (270020)\nAdresse: Jahnstrasse\, 83646 Bad Tölz\n
LOCATION:Bad Tölz\, Sporthalle Jahnstrasse (270020): Jahnstrasse\, 83646 Bad Tölz
CATEGORIES:Saison 2024/25
END:VEVENT
BEGIN:VEVENT
DTSTAMP:20260419T230840Z
DTSTART;TZID=Europe/Berlin:20250201T110000
DTEND;TZID=Europe/Berlin:20250201T120000
SUMMARY:Bezirksklasse Ost HR TSV Peißenberg vs TV Bad Tölz II (0)
UID:751669a2-2242-4ec6-9648-7afe123e1976
STATUS:CONFIRMED
LAST-MODIFIED:20250202T140856Z
DESCRIPTION:Bezirksklasse Staffel Ost Hauptrunde männl. D-Jugend\nBegegnungs-Nr: 0\nHeim: TSV Peißenberg\nGast: TV Bad Tölz II\nHalle: Pullach\, Erzdiözese (270325)\nAdresse: Wolfratshauser Str. 30\, 82049 Pullach\n
LOCATION:Pullach\, Erzdiözese (270325): Wolfratshauser Str. 30\, 82049 Pullach
CATEGORIES:Saison 2024/25
END:VEVENT
BEGIN:VEVENT
DTSTAMP:20260419T230840Z
DTSTART;TZID=Europe/Berlin:20241124T153000
DTEND;TZID=Europe/Berlin:20241124T163000
SUMMARY:Bezirksklasse SO VR TSV Herrsching II vs TV Bad Tölz II (0)
UID:721ab23e-1f47-4f27-b5ca-bebce88e761e
STATUS:CONFIRMED
LAST-MODIFIED:20241015T130136Z
DESCRIPTION:Bezirksklasse Staffel Süd-Ost Vorrunde männl. D-Jugend\nBegegnungs-Nr: 0\nHeim: TSV Herrsching II\nGast: TV Bad Tölz II\nHalle: Mittelschule Gaißach (270132)\nAdresse: Wetzl 5\, 83674 Gaißach\n
LOCATION:Mittelschule Gaißach (270132): Wetzl 5\, 83674 Gaißach
CATEGORIES:Saison 2024/25
END:VEVENT
BEGIN:VEVENT
DTSTAMP:20260419T230840Z
DTSTART;TZID=Europe/Berlin:20241208T133000
DTEND;TZID=Europe/Berlin:20241208T143000
SUMMARY:Bezirksklasse SO VR TSV Partenkirchen vs TV Bad Tölz II (0)
UID:88cf16d5-177f-4e75-8cdf-74100f7f1c67
STATUS:CONFIRMED
LAST-MODIFIED:20241208T135801Z
DESCRIPTION:Bezirksklasse Staffel Süd-Ost Vorrunde männl. D-Jugend\nBegegnungs-Nr: 0\nHeim: TSV Partenkirchen\nGast: TV Bad Tölz II\nHalle: Wolfratshausen\, Sporthalle  (270464)\nAdresse: Sauerlacher Strasse \, 82515 Wolfratshausen \n
LOCATION:Wolfratshausen\, Sporthalle  (270464): Sauerlacher Strasse \, 82515 Wolfratshausen 
CATEGORIES:Saison 2024/25
END:VEVENT
BEGIN:VEVENT
DTSTAMP:20260419T230840Z
DTSTART;TZID=Europe/Berlin:20240921T110000
DTEND;TZID=Europe/Berlin:20240921T120000
SUMMARY:Bezirksklasse SO VR TSV Partenkirchen vs TV Bad Tölz II (0)
UID:8d71c995-401e-4deb-a8e9-1b3dc6b64f79
STATUS:CONFIRMED
LAST-MODIFIED:20240922T092121Z
DESCRIPTION:Bezirksklasse Staffel Süd-Ost Vorrunde männl. D-Jugend\nBegegnungs-Nr: 0\nHeim: TSV Partenkirchen\nGast: TV Bad Tölz II\nHalle: Partenkirchen\, Werdenfels Gym. (270121)\nAdresse: Wettersteinstrasse 30\, 82467 Garmisch-Partenkirchen\n
LOCATION:Partenkirchen\, Werdenfels Gym. (270121): Wettersteinstrasse 30\, 82467 Garmisch-Partenkirchen
CATEGORIES:Saison 2024/25
END:VEVENT
BEGIN:VEVENT
DTSTAMP:20260419T230840Z
DTSTART;TZID=Europe/Berlin:20241006T090000
DTEND;TZID=Europe/Berlin:20241006T100000
SUMMARY:Bezirksklasse SO VR TSV Murnau vs TV Bad Tölz II (0)
UID:68054816-1325-41bb-a73d-153a0f265ec8
STATUS:CONFIRMED
LAST-MODIFIED:20241006T092615Z
DESCRIPTION:Bezirksklasse Staffel Süd-Ost Vorrunde männl. D-Jugend\nBegegnungs-Nr: 0\nHeim: TSV Murnau\nGast: TV Bad Tölz II\nHalle: Murnau\, Hans Burger (270226)\nAdresse: Poschinger Allee 8\, 82418 Murnau \n
LOCATION:Murnau\, Hans Burger (270226): Poschinger Allee 8\, 82418 Murnau 
CATEGORIES:Saison 2024/25
END:VEVENT
BEGIN:VEVENT
DTSTAMP:20260419T230840Z
DTSTART;TZID=Europe/Berlin:20241110T100000
DTEND;TZID=Europe/Berlin:20241110T110000
SUMMARY:Bezirksklasse SO VR SSV Ettal vs TV Bad Tölz II (0)
UID:3979072d-74ab-4a51-92f4-28759d23bdef
STATUS:CONFIRMED
LAST-MODIFIED:20241110T143717Z
DESCRIPTION:Bezirksklasse Staffel Süd-Ost Vorrunde männl. D-Jugend\nBegegnungs-Nr: 0\nHeim: SSV Ettal\nGast: TV Bad Tölz II\nHalle: Herrsching\, SH Nikolausstrasse  (270140)\nAdresse: Nikolausstrasse 11\, 82211 Herrsching \n
LOCATION:Herrsching\, SH Nikolausstrasse  (270140): Nikolausstrasse 11\, 82211 Herrsching 
CATEGORIES:Saison 2024/25
END:VEVENT
BEGIN:VEVENT
DTSTAMP:20260419T230840Z
DTSTART;TZID=Europe/Berlin:20250209T133000
DTEND;TZID=Europe/Berlin:20250209T143000
SUMMARY:Bezirksklasse Ost HR SC Wörthsee II vs TV Bad Tölz II (0)
UID:8e72b877-beea-4404-8e5f-95f2536d87fa
STATUS:CONFIRMED
LAST-MODIFIED:20250209T160448Z
DESCRIPTION:Bezirksklasse Staffel Ost Hauptrunde männl. D-Jugend\nBegegnungs-Nr: 0\nHeim: SC Wörthsee II\nGast: TV Bad Tölz II\nHalle: Peißenberg\, Glückauf-Halle  (270320)\nAdresse: Alpspitzstrasse 11\, 82380 Peißenberg\n
LOCATION:Peißenberg\, Glückauf-Halle  (270320): Alpspitzstrasse 11\, 82380 Peißenberg
CATEGORIES:Saison 2024/25
END:VEVENT
BEGIN:VEVENT
DTSTAMP:20260419T230840Z
DTSTART;TZID=Europe/Berlin:20241020T123000
DTEND;TZID=Europe/Berlin:20241020T133000
SUMMARY:Bezirksklasse SO VR TSV Murnau vs TV Bad Tölz II (0)
UID:0d7c9ff9-f8d9-4a19-b281-37150e7a10bf
STATUS:CONFIRMED
LAST-MODIFIED:20241020T131155Z
DESCRIPTION:Bezirksklasse Staffel Süd-Ost Vorrunde männl. D-Jugend\nBegegnungs-Nr: 0\nHeim: TSV Murnau\nGast: TV Bad Tölz II\nHalle: Bad Tölz\, Sporthalle Jahnstrasse (270020)\nAdresse: Jahnstrasse\, 83646 Bad Tölz\n
LOCATION:Bad Tölz\, Sporthalle Jahnstrasse (270020): Jahnstrasse\, 83646 Bad Tölz
CATEGORIES:Saison 2024/25
END:VEVENT
END:VCALENDAR
