BEGIN:VCALENDAR
PRODID:-//nuDatenautomaten//framework iCal4j //DE
VERSION:2.0
CALSCALE:GREGORIAN
BEGIN:VTIMEZONE
TZID:Europe/Berlin
LAST-MODIFIED:20260306T231828Z
TZURL:https://www.tzurl.org/zoneinfo/Europe/Berlin
X-LIC-LOCATION:Europe/Berlin
X-PROLEPTIC-TZNAME:LMT
BEGIN:STANDARD
TZNAME:CET
TZOFFSETFROM:+005328
TZOFFSETTO:+0100
DTSTART:18930401T000000
END:STANDARD
BEGIN:DAYLIGHT
TZNAME:CEST
TZOFFSETFROM:+0100
TZOFFSETTO:+0200
DTSTART:19160430T230000
RDATE:19400401T020000
RDATE:19430329T020000
RDATE:19460414T020000
RDATE:19470406T030000
RDATE:19480418T020000
RDATE:19490410T020000
RDATE:19800406T020000
END:DAYLIGHT
BEGIN:STANDARD
TZNAME:CET
TZOFFSETFROM:+0200
TZOFFSETTO:+0100
DTSTART:19161001T010000
RDATE:19421102T030000
RDATE:19431004T030000
RDATE:19441002T030000
RDATE:19451118T030000
RDATE:19461007T030000
END:STANDARD
BEGIN:DAYLIGHT
TZNAME:CEST
TZOFFSETFROM:+0100
TZOFFSETTO:+0200
DTSTART:19170416T020000
RRULE:FREQ=YEARLY;UNTIL=19180415T010000Z;BYMONTH=4;BYDAY=3MO
END:DAYLIGHT
BEGIN:STANDARD
TZNAME:CET
TZOFFSETFROM:+0200
TZOFFSETTO:+0100
DTSTART:19170917T030000
RRULE:FREQ=YEARLY;UNTIL=19180916T010000Z;BYMONTH=9;BYDAY=3MO
END:STANDARD
BEGIN:DAYLIGHT
TZNAME:CEST
TZOFFSETFROM:+0100
TZOFFSETTO:+0200
DTSTART:19440403T020000
RRULE:FREQ=YEARLY;UNTIL=19450402T010000Z;BYMONTH=4;BYDAY=1MO
END:DAYLIGHT
BEGIN:DAYLIGHT
TZNAME:CEMT
TZOFFSETFROM:+0200
TZOFFSETTO:+0300
DTSTART:19450524T020000
RDATE:19470511T030000
END:DAYLIGHT
BEGIN:DAYLIGHT
TZNAME:CEST
TZOFFSETFROM:+0300
TZOFFSETTO:+0200
DTSTART:19450924T030000
RDATE:19470629T030000
END:DAYLIGHT
BEGIN:STANDARD
TZNAME:CET
TZOFFSETFROM:+0100
TZOFFSETTO:+0100
DTSTART:19460101T000000
RDATE:19800101T000000
END:STANDARD
BEGIN:STANDARD
TZNAME:CET
TZOFFSETFROM:+0200
TZOFFSETTO:+0100
DTSTART:19471005T030000
RRULE:FREQ=YEARLY;UNTIL=19491002T010000Z;BYMONTH=10;BYDAY=1SU
END:STANDARD
BEGIN:STANDARD
TZNAME:CET
TZOFFSETFROM:+0200
TZOFFSETTO:+0100
DTSTART:19800928T030000
RRULE:FREQ=YEARLY;UNTIL=19950924T010000Z;BYMONTH=9;BYDAY=-1SU
END:STANDARD
BEGIN:DAYLIGHT
TZNAME:CEST
TZOFFSETFROM:+0100
TZOFFSETTO:+0200
DTSTART:19810329T020000
RRULE:FREQ=YEARLY;BYMONTH=3;BYDAY=-1SU
END:DAYLIGHT
BEGIN:STANDARD
TZNAME:CET
TZOFFSETFROM:+0200
TZOFFSETTO:+0100
DTSTART:19961027T030000
RRULE:FREQ=YEARLY;BYMONTH=10;BYDAY=-1SU
END:STANDARD
END:VTIMEZONE
BEGIN:VEVENT
DTSTAMP:20260419T144454Z
DTSTART;TZID=Europe/Berlin:20250330T133000
DTEND;TZID=Europe/Berlin:20250330T143000
SUMMARY:Bezirkliga Ost HR Eichenauer SV vs TuS Fürstenfeldbruck (0)
UID:86a4d05b-d5ee-4ceb-9ba6-b009900a446d
STATUS:CONFIRMED
LAST-MODIFIED:20250331T145220Z
DESCRIPTION:Bezirksliga Staffel Ost Hauptrunde weibl. D-Jugend\nBegegnungs-Nr: 0\nHeim: Eichenauer SV\nGast: TuS Fürstenfeldbruck\nHalle: Gröbenzell\, Wildmoos 1 (270130)\nAdresse: Wildmoosstrasse\, 82194 Gröbenzell\n
LOCATION:Gröbenzell\, Wildmoos 1 (270130): Wildmoosstrasse\, 82194 Gröbenzell
CATEGORIES:Saison 2024/25
END:VEVENT
BEGIN:VEVENT
DTSTAMP:20260419T144454Z
DTSTART;TZID=Europe/Berlin:20250215T110000
DTEND;TZID=Europe/Berlin:20250215T120000
SUMMARY:Bezirkliga Ost HR Eichenauer SV vs SC U´hofen-Germering (0)
UID:5c604d65-b2a2-4b55-9610-1f4c71b37543
STATUS:CONFIRMED
LAST-MODIFIED:20250216T134200Z
DESCRIPTION:Bezirksliga Staffel Ost Hauptrunde weibl. D-Jugend\nBegegnungs-Nr: 0\nHeim: Eichenauer SV\nGast: SC U´hofen-Germering\nHalle: Germering\, Realschule  (270124)\nAdresse: Alfons-Baumann-Strasse \, 82110 Unterpfaffenhofen \n
LOCATION:Germering\, Realschule  (270124): Alfons-Baumann-Strasse \, 82110 Unterpfaffenhofen 
CATEGORIES:Saison 2024/25
END:VEVENT
BEGIN:VEVENT
DTSTAMP:20260419T144454Z
DTSTART;TZID=Europe/Berlin:20250126T100000
DTEND;TZID=Europe/Berlin:20250126T110000
SUMMARY:Bezirkliga Ost HR Eichenauer SV vs HCD Gröbenzell II (0)
UID:5b25f02f-98d2-47de-952d-985d836921df
STATUS:CONFIRMED
LAST-MODIFIED:20250126T151125Z
DESCRIPTION:Bezirksliga Staffel Ost Hauptrunde weibl. D-Jugend\nBegegnungs-Nr: 0\nHeim: Eichenauer SV\nGast: HCD Gröbenzell II\nHalle: Eichenau\, Sporthalle Budrio-Allee (270080)\nAdresse: Budrioallee\, 82223 Eichenau\n
LOCATION:Eichenau\, Sporthalle Budrio-Allee (270080): Budrioallee\, 82223 Eichenau
CATEGORIES:Saison 2024/25
END:VEVENT
BEGIN:VEVENT
DTSTAMP:20260419T144454Z
DTSTART;TZID=Europe/Berlin:20241110T123000
DTEND;TZID=Europe/Berlin:20241110T133000
SUMMARY:Bezirksklasse Mitte VR Eichenauer SV vs TSV Gilching (14)
UID:5b2d35bd-a814-4166-a013-ba5e9277976a
STATUS:CONFIRMED
LAST-MODIFIED:20241110T152405Z
DESCRIPTION:Bezirksklasse Staffel Mitte Vorrunde weibl. D-Jugend\nBegegnungs-Nr: 14\nHeim: Eichenauer SV\nGast: TSV Gilching\nHalle: Gilching\, Rathaushalle  (270126)\nAdresse: Rathausstrasse 6\, 82205 Gilching\n
LOCATION:Gilching\, Rathaushalle  (270126): Rathausstrasse 6\, 82205 Gilching
CATEGORIES:Saison 2024/25
END:VEVENT
BEGIN:VEVENT
DTSTAMP:20260419T144454Z
DTSTART;TZID=Europe/Berlin:20241207T100000
DTEND;TZID=Europe/Berlin:20241207T110000
SUMMARY:Bezirksklasse Mitte VR Eichenauer SV vs SC Wörthsee (7)
UID:66ee4570-d7b5-4277-9000-5a1d8cec7ef6
STATUS:CONFIRMED
LAST-MODIFIED:20241208T135701Z
DESCRIPTION:Bezirksklasse Staffel Mitte Vorrunde weibl. D-Jugend\nBegegnungs-Nr: 7\nHeim: Eichenauer SV\nGast: SC Wörthsee\nHalle: Eichenau\, Sporthalle Budrio-Allee (270080)\nAdresse: Budrioallee\, 82223 Eichenau\n
LOCATION:Eichenau\, Sporthalle Budrio-Allee (270080): Budrioallee\, 82223 Eichenau
CATEGORIES:Saison 2024/25
END:VEVENT
BEGIN:VEVENT
DTSTAMP:20260419T144454Z
DTSTART;TZID=Europe/Berlin:20240928T100000
DTEND;TZID=Europe/Berlin:20240928T110000
SUMMARY:Bezirksklasse Mitte VR Eichenauer SV vs HCD Gröbenzell II (5)
UID:fdf3b28d-f37a-4484-9402-db0c8bb1900d
STATUS:CONFIRMED
LAST-MODIFIED:20240930T124947Z
DESCRIPTION:Bezirksklasse Staffel Mitte Vorrunde weibl. D-Jugend\nBegegnungs-Nr: 5\nHeim: Eichenauer SV\nGast: HCD Gröbenzell II\nHalle: Fürstenfeldbruck\, Wittelsbacher-Halle (270100)\nAdresse: Bahnhofstr. 15 (Eing. Stockmeierweg)\, 82256 Fürstenfeldbruck \n
LOCATION:Fürstenfeldbruck\, Wittelsbacher-Halle (270100): Bahnhofstr. 15 (Eing. Stockmeierweg)\, 82256 Fürstenfeldbruck 
CATEGORIES:Saison 2024/25
END:VEVENT
BEGIN:VEVENT
DTSTAMP:20260419T144454Z
DTSTART;TZID=Europe/Berlin:20241020T100000
DTEND;TZID=Europe/Berlin:20241020T110000
SUMMARY:Bezirksklasse Mitte VR Eichenauer SV vs TuS Fürstenfeldbruck (11)
UID:f31cb91b-8958-4a59-acd7-c55d9b1702c6
STATUS:CONFIRMED
LAST-MODIFIED:20241020T090116Z
DESCRIPTION:Bezirksklasse Staffel Mitte Vorrunde weibl. D-Jugend\nBegegnungs-Nr: 11\nHeim: Eichenauer SV\nGast: TuS Fürstenfeldbruck\nHalle: Wörthsee\, Grundschule (270502)\nAdresse: Graf-Toerring-Straße 15\, 82237 Wörthsee\n
LOCATION:Wörthsee\, Grundschule (270502): Graf-Toerring-Straße 15\, 82237 Wörthsee
CATEGORIES:Saison 2024/25
END:VEVENT
BEGIN:VEVENT
DTSTAMP:20260419T144454Z
DTSTART;TZID=Europe/Berlin:20250323T120000
DTEND;TZID=Europe/Berlin:20250323T130000
SUMMARY:Bezirkliga Ost HR Eichenauer SV vs SV Söcking (0)
UID:b82a1cf6-dfbc-47f2-bdf9-c992d4b89718
STATUS:CONFIRMED
LAST-MODIFIED:20250324T073113Z
DESCRIPTION:Bezirksliga Staffel Ost Hauptrunde weibl. D-Jugend\nBegegnungs-Nr: 0\nHeim: Eichenauer SV\nGast: SV Söcking\nHalle: Gauting\,Realschule  (270997)\nAdresse: Birkenstraße 1\, 82131 Gauting\n
LOCATION:Gauting\,Realschule  (270997): Birkenstraße 1\, 82131 Gauting
CATEGORIES:Saison 2024/25
END:VEVENT
BEGIN:VEVENT
DTSTAMP:20260419T144454Z
DTSTART;TZID=Europe/Berlin:20250215T100000
DTEND;TZID=Europe/Berlin:20250215T110000
SUMMARY:Bezirkliga Ost HR SV Söcking vs Eichenauer SV (0)
UID:22078bb0-4aae-4609-9490-e4296f308050
STATUS:CONFIRMED
LAST-MODIFIED:20250216T134120Z
DESCRIPTION:Bezirksliga Staffel Ost Hauptrunde weibl. D-Jugend\nBegegnungs-Nr: 0\nHeim: SV Söcking\nGast: Eichenauer SV\nHalle: Germering\, Realschule  (270124)\nAdresse: Alfons-Baumann-Strasse \, 82110 Unterpfaffenhofen \n
LOCATION:Germering\, Realschule  (270124): Alfons-Baumann-Strasse \, 82110 Unterpfaffenhofen 
CATEGORIES:Saison 2024/25
END:VEVENT
BEGIN:VEVENT
DTSTAMP:20260419T144454Z
DTSTART;TZID=Europe/Berlin:20250330T123000
DTEND;TZID=Europe/Berlin:20250330T133000
SUMMARY:Bezirkliga Ost HR HCD Gröbenzell II vs Eichenauer SV (0)
UID:b4140478-4088-4b06-91b7-a3f02c8a4a97
STATUS:CONFIRMED
LAST-MODIFIED:20250331T145054Z
DESCRIPTION:Bezirksliga Staffel Ost Hauptrunde weibl. D-Jugend\nBegegnungs-Nr: 0\nHeim: HCD Gröbenzell II\nGast: Eichenauer SV\nHalle: Gröbenzell\, Wildmoos 1 (270130)\nAdresse: Wildmoosstrasse\, 82194 Gröbenzell\n
LOCATION:Gröbenzell\, Wildmoos 1 (270130): Wildmoosstrasse\, 82194 Gröbenzell
CATEGORIES:Saison 2024/25
END:VEVENT
BEGIN:VEVENT
DTSTAMP:20260419T144454Z
DTSTART;TZID=Europe/Berlin:20250126T120000
DTEND;TZID=Europe/Berlin:20250126T130000
SUMMARY:Bezirkliga Ost HR SC U´hofen-Germering vs Eichenauer SV (0)
UID:fa8bd817-d850-4936-8dae-c06ed20ff489
STATUS:CONFIRMED
LAST-MODIFIED:20250126T151300Z
DESCRIPTION:Bezirksliga Staffel Ost Hauptrunde weibl. D-Jugend\nBegegnungs-Nr: 0\nHeim: SC U´hofen-Germering\nGast: Eichenauer SV\nHalle: Eichenau\, Sporthalle Budrio-Allee (270080)\nAdresse: Budrioallee\, 82223 Eichenau\n
LOCATION:Eichenau\, Sporthalle Budrio-Allee (270080): Budrioallee\, 82223 Eichenau
CATEGORIES:Saison 2024/25
END:VEVENT
BEGIN:VEVENT
DTSTAMP:20260419T144454Z
DTSTART;TZID=Europe/Berlin:20241207T120000
DTEND;TZID=Europe/Berlin:20241207T130000
SUMMARY:Bezirksklasse Mitte VR HCD Gröbenzell II vs Eichenauer SV (9)
UID:6eb1b215-c4f9-4bd7-bdab-fad9cac74857
STATUS:CONFIRMED
LAST-MODIFIED:20241208T135940Z
DESCRIPTION:Bezirksklasse Staffel Mitte Vorrunde weibl. D-Jugend\nBegegnungs-Nr: 9\nHeim: HCD Gröbenzell II\nGast: Eichenauer SV\nHalle: Eichenau\, Sporthalle Budrio-Allee (270080)\nAdresse: Budrioallee\, 82223 Eichenau\n
LOCATION:Eichenau\, Sporthalle Budrio-Allee (270080): Budrioallee\, 82223 Eichenau
CATEGORIES:Saison 2024/25
END:VEVENT
BEGIN:VEVENT
DTSTAMP:20260419T144454Z
DTSTART;TZID=Europe/Berlin:20240928T090000
DTEND;TZID=Europe/Berlin:20240928T100000
SUMMARY:Bezirksklasse Mitte VR TuS Fürstenfeldbruck vs Eichenauer SV (4)
UID:55e6dd2d-d754-4cf7-b166-c448fdcf6133
STATUS:CONFIRMED
LAST-MODIFIED:20240930T124859Z
DESCRIPTION:Bezirksklasse Staffel Mitte Vorrunde weibl. D-Jugend\nBegegnungs-Nr: 4\nHeim: TuS Fürstenfeldbruck\nGast: Eichenauer SV\nHalle: Fürstenfeldbruck\, Wittelsbacher-Halle (270100)\nAdresse: Bahnhofstr. 15 (Eing. Stockmeierweg)\, 82256 Fürstenfeldbruck \n
LOCATION:Fürstenfeldbruck\, Wittelsbacher-Halle (270100): Bahnhofstr. 15 (Eing. Stockmeierweg)\, 82256 Fürstenfeldbruck 
CATEGORIES:Saison 2024/25
END:VEVENT
BEGIN:VEVENT
DTSTAMP:20260419T144454Z
DTSTART;TZID=Europe/Berlin:20241020T090000
DTEND;TZID=Europe/Berlin:20241020T100000
SUMMARY:Bezirksklasse Mitte VR SC Wörthsee vs Eichenauer SV (10)
UID:43a137ae-ce84-48de-8cb0-2b24c613ae00
STATUS:CONFIRMED
LAST-MODIFIED:20241020T090028Z
DESCRIPTION:Bezirksklasse Staffel Mitte Vorrunde weibl. D-Jugend\nBegegnungs-Nr: 10\nHeim: SC Wörthsee\nGast: Eichenauer SV\nHalle: Wörthsee\, Grundschule (270502)\nAdresse: Graf-Toerring-Straße 15\, 82237 Wörthsee\n
LOCATION:Wörthsee\, Grundschule (270502): Graf-Toerring-Straße 15\, 82237 Wörthsee
CATEGORIES:Saison 2024/25
END:VEVENT
BEGIN:VEVENT
DTSTAMP:20260419T144454Z
DTSTART;TZID=Europe/Berlin:20250323T110000
DTEND;TZID=Europe/Berlin:20250323T120000
SUMMARY:Bezirkliga Ost HR TuS Fürstenfeldbruck vs Eichenauer SV (0)
UID:f58aa026-d135-411a-b28e-f6e145bb73bd
STATUS:CONFIRMED
LAST-MODIFIED:20250324T073020Z
DESCRIPTION:Bezirksliga Staffel Ost Hauptrunde weibl. D-Jugend\nBegegnungs-Nr: 0\nHeim: TuS Fürstenfeldbruck\nGast: Eichenauer SV\nHalle: Gauting\,Realschule  (270997)\nAdresse: Birkenstraße 1\, 82131 Gauting\n
LOCATION:Gauting\,Realschule  (270997): Birkenstraße 1\, 82131 Gauting
CATEGORIES:Saison 2024/25
END:VEVENT
BEGIN:VEVENT
DTSTAMP:20260419T144454Z
DTSTART;TZID=Europe/Berlin:20241110T111500
DTEND;TZID=Europe/Berlin:20241110T121500
SUMMARY:Bezirksklasse Mitte VR TSV Gilching vs Eichenauer SV (13)
UID:09bca819-2230-450a-bc77-41b3c55d798f
STATUS:CONFIRMED
LAST-MODIFIED:20241110T152243Z
DESCRIPTION:Bezirksklasse Staffel Mitte Vorrunde weibl. D-Jugend\nBegegnungs-Nr: 13\nHeim: TSV Gilching\nGast: Eichenauer SV\nHalle: Gilching\, Rathaushalle  (270126)\nAdresse: Rathausstrasse 6\, 82205 Gilching\n
LOCATION:Gilching\, Rathaushalle  (270126): Rathausstrasse 6\, 82205 Gilching
CATEGORIES:Saison 2024/25
END:VEVENT
END:VCALENDAR
