BEGIN:VCALENDAR
PRODID:-//nuDatenautomaten//framework iCal4j //DE
VERSION:2.0
CALSCALE:GREGORIAN
BEGIN:VTIMEZONE
TZID:Europe/Berlin
LAST-MODIFIED:20260306T231828Z
TZURL:https://www.tzurl.org/zoneinfo/Europe/Berlin
X-LIC-LOCATION:Europe/Berlin
X-PROLEPTIC-TZNAME:LMT
BEGIN:STANDARD
TZNAME:CET
TZOFFSETFROM:+005328
TZOFFSETTO:+0100
DTSTART:18930401T000000
END:STANDARD
BEGIN:DAYLIGHT
TZNAME:CEST
TZOFFSETFROM:+0100
TZOFFSETTO:+0200
DTSTART:19160430T230000
RDATE:19400401T020000
RDATE:19430329T020000
RDATE:19460414T020000
RDATE:19470406T030000
RDATE:19480418T020000
RDATE:19490410T020000
RDATE:19800406T020000
END:DAYLIGHT
BEGIN:STANDARD
TZNAME:CET
TZOFFSETFROM:+0200
TZOFFSETTO:+0100
DTSTART:19161001T010000
RDATE:19421102T030000
RDATE:19431004T030000
RDATE:19441002T030000
RDATE:19451118T030000
RDATE:19461007T030000
END:STANDARD
BEGIN:DAYLIGHT
TZNAME:CEST
TZOFFSETFROM:+0100
TZOFFSETTO:+0200
DTSTART:19170416T020000
RRULE:FREQ=YEARLY;UNTIL=19180415T010000Z;BYMONTH=4;BYDAY=3MO
END:DAYLIGHT
BEGIN:STANDARD
TZNAME:CET
TZOFFSETFROM:+0200
TZOFFSETTO:+0100
DTSTART:19170917T030000
RRULE:FREQ=YEARLY;UNTIL=19180916T010000Z;BYMONTH=9;BYDAY=3MO
END:STANDARD
BEGIN:DAYLIGHT
TZNAME:CEST
TZOFFSETFROM:+0100
TZOFFSETTO:+0200
DTSTART:19440403T020000
RRULE:FREQ=YEARLY;UNTIL=19450402T010000Z;BYMONTH=4;BYDAY=1MO
END:DAYLIGHT
BEGIN:DAYLIGHT
TZNAME:CEMT
TZOFFSETFROM:+0200
TZOFFSETTO:+0300
DTSTART:19450524T020000
RDATE:19470511T030000
END:DAYLIGHT
BEGIN:DAYLIGHT
TZNAME:CEST
TZOFFSETFROM:+0300
TZOFFSETTO:+0200
DTSTART:19450924T030000
RDATE:19470629T030000
END:DAYLIGHT
BEGIN:STANDARD
TZNAME:CET
TZOFFSETFROM:+0100
TZOFFSETTO:+0100
DTSTART:19460101T000000
RDATE:19800101T000000
END:STANDARD
BEGIN:STANDARD
TZNAME:CET
TZOFFSETFROM:+0200
TZOFFSETTO:+0100
DTSTART:19471005T030000
RRULE:FREQ=YEARLY;UNTIL=19491002T010000Z;BYMONTH=10;BYDAY=1SU
END:STANDARD
BEGIN:STANDARD
TZNAME:CET
TZOFFSETFROM:+0200
TZOFFSETTO:+0100
DTSTART:19800928T030000
RRULE:FREQ=YEARLY;UNTIL=19950924T010000Z;BYMONTH=9;BYDAY=-1SU
END:STANDARD
BEGIN:DAYLIGHT
TZNAME:CEST
TZOFFSETFROM:+0100
TZOFFSETTO:+0200
DTSTART:19810329T020000
RRULE:FREQ=YEARLY;BYMONTH=3;BYDAY=-1SU
END:DAYLIGHT
BEGIN:STANDARD
TZNAME:CET
TZOFFSETFROM:+0200
TZOFFSETTO:+0100
DTSTART:19961027T030000
RRULE:FREQ=YEARLY;BYMONTH=10;BYDAY=-1SU
END:STANDARD
END:VTIMEZONE
BEGIN:VEVENT
DTSTAMP:20260423T085015Z
DTSTART;TZID=Europe/Berlin:20250125T102000
DTEND;TZID=Europe/Berlin:20250125T112000
SUMMARY:Bezirksliga West HR SG Rohr/Pavelsbach vs JSG Nürnberger Land (24069102)
UID:cd1b2298-8fc4-41e3-9cfe-93f4d4991390
STATUS:CONFIRMED
LAST-MODIFIED:20250201T185958Z
DESCRIPTION:Bezirksliga weibl. D-Jugend West HR\nBegegnungs-Nr: 24069102\nHeim: SG Rohr/Pavelsbach\nGast: JSG Nürnberger Land\nHalle: Erlangen\, Sporthalle am Europakanal (240083)\nAdresse: Schallershoferstraße 20\, 91056 Erlangen\n
LOCATION:Erlangen\, Sporthalle am Europakanal (240083): Schallershoferstraße 20\, 91056 Erlangen
CATEGORIES:Saison 2024/25
END:VEVENT
BEGIN:VEVENT
DTSTAMP:20260423T085015Z
DTSTART;TZID=Europe/Berlin:20250202T093000
DTEND;TZID=Europe/Berlin:20250202T103000
SUMMARY:Bezirksliga West HR SG Rohr/Pavelsbach vs HC Erlangen (24069105)
UID:bcd82b1d-fddb-4321-ac7a-4a7179546791
STATUS:CONFIRMED
LAST-MODIFIED:20250203T160715Z
DESCRIPTION:Bezirksliga weibl. D-Jugend West HR\nBegegnungs-Nr: 24069105\nHeim: SG Rohr/Pavelsbach\nGast: HC Erlangen\nHalle: Postbauer-Heng\, Schulsporthalle (240320)\nAdresse: Im Centrum 5\, 92353 Postbauer-Heng\n
LOCATION:Postbauer-Heng\, Schulsporthalle (240320): Im Centrum 5\, 92353 Postbauer-Heng
CATEGORIES:Saison 2024/25
END:VEVENT
BEGIN:VEVENT
DTSTAMP:20260423T085015Z
DTSTART;TZID=Europe/Berlin:20250323T124000
DTEND;TZID=Europe/Berlin:20250323T134000
SUMMARY:Bezirksliga West HR SG Rohr/Pavelsbach vs TSV 04 Feucht (24069120)
UID:8df24e0c-1cc9-4cd1-96d9-936c2bb1ac0b
STATUS:CONFIRMED
LAST-MODIFIED:20250323T141409Z
DESCRIPTION:Bezirksliga weibl. D-Jugend West HR\nBegegnungs-Nr: 24069120\nHeim: SG Rohr/Pavelsbach\nGast: TSV 04 Feucht\nHalle: Feucht\, Wilhelm-Baum-Halle (240100)\nAdresse: Schulstraße\, 90537 Feucht\n
LOCATION:Feucht\, Wilhelm-Baum-Halle (240100): Schulstraße\, 90537 Feucht
CATEGORIES:Saison 2024/25
END:VEVENT
BEGIN:VEVENT
DTSTAMP:20260423T085015Z
DTSTART;TZID=Europe/Berlin:20241117T143000
DTEND;TZID=Europe/Berlin:20241117T153000
SUMMARY:Bezirksliga  VR SG Rohr/Pavelsbach vs SG Regensburg (24068119)
UID:0353fb34-00fe-4195-90ac-3db1e18896a3
STATUS:CONFIRMED
LAST-MODIFIED:20241117T181059Z
DESCRIPTION:Bezirksliga weibl. D-Jugend VR\nBegegnungs-Nr: 24068119\nHeim: SG Rohr/Pavelsbach\nGast: SG Regensburg\nHalle: Regensburg\, Kerschensteiner-Halle (240342)\nAdresse: Alfons-Auer-Straße 24\, 93055 Regensburg\n
LOCATION:Regensburg\, Kerschensteiner-Halle (240342): Alfons-Auer-Straße 24\, 93055 Regensburg
CATEGORIES:Saison 2024/25
END:VEVENT
BEGIN:VEVENT
DTSTAMP:20260423T085015Z
DTSTART;TZID=Europe/Berlin:20250316T112000
DTEND;TZID=Europe/Berlin:20250316T122000
SUMMARY:Bezirksliga West HR SG Rohr/Pavelsbach vs SG Frankenpower (24069115)
UID:bcb7d8b4-3ef0-451a-acc2-3ea6c1437a89
STATUS:CONFIRMED
LAST-MODIFIED:20250316T184743Z
DESCRIPTION:Bezirksliga weibl. D-Jugend West HR\nBegegnungs-Nr: 24069115\nHeim: SG Rohr/Pavelsbach\nGast: SG Frankenpower\nHalle: Winkelhaid\, Dr. Dietmar-Trautmann-Sportanlage (240465)\nAdresse: Sportparkstraße 2\, 90610 Winkelhaid\n
LOCATION:Winkelhaid\, Dr. Dietmar-Trautmann-Sportanlage (240465): Sportparkstraße 2\, 90610 Winkelhaid
CATEGORIES:Saison 2024/25
END:VEVENT
BEGIN:VEVENT
DTSTAMP:20260423T085015Z
DTSTART;TZID=Europe/Berlin:20240929T093000
DTEND;TZID=Europe/Berlin:20240929T103000
SUMMARY:Bezirksliga  VR SG Rohr/Pavelsbach vs SSG Metten (24068101)
UID:59ec6ca2-d06e-4ec8-8438-63b189637f83
STATUS:CONFIRMED
LAST-MODIFIED:20241003T124600Z
DESCRIPTION:Bezirksliga weibl. D-Jugend VR\nBegegnungs-Nr: 24068101\nHeim: SG Rohr/Pavelsbach\nGast: SSG Metten\nHalle: Postbauer-Heng\, Schulsporthalle (240320)\nAdresse: Im Centrum 5\, 92353 Postbauer-Heng\n
LOCATION:Postbauer-Heng\, Schulsporthalle (240320): Im Centrum 5\, 92353 Postbauer-Heng
CATEGORIES:Saison 2024/25
END:VEVENT
BEGIN:VEVENT
DTSTAMP:20260423T085015Z
DTSTART;TZID=Europe/Berlin:20241006T120000
DTEND;TZID=Europe/Berlin:20241006T130000
SUMMARY:Bezirksliga  VR SG Rohr/Pavelsbach vs HC Erlangen (24068109)
UID:a85ea765-09bb-4fd2-a29f-aa29c52d354e
STATUS:CONFIRMED
LAST-MODIFIED:20241006T121547Z
DESCRIPTION:Bezirksliga weibl. D-Jugend VR\nBegegnungs-Nr: 24068109\nHeim: SG Rohr/Pavelsbach\nGast: HC Erlangen\nHalle: Erlangen\, Sporthalle am Europakanal (240083)\nAdresse: Schallershoferstraße 20\, 91056 Erlangen\n
LOCATION:Erlangen\, Sporthalle am Europakanal (240083): Schallershoferstraße 20\, 91056 Erlangen
CATEGORIES:Saison 2024/25
END:VEVENT
BEGIN:VEVENT
DTSTAMP:20260423T085015Z
DTSTART;TZID=Europe/Berlin:20241123T125000
DTEND;TZID=Europe/Berlin:20241123T135000
SUMMARY:Bezirksliga  VR SG Rohr/Pavelsbach vs HG Amberg  (24068125)
UID:8b6e964b-d125-42db-97bc-8416ceefa910
STATUS:CONFIRMED
LAST-MODIFIED:20241123T230944Z
DESCRIPTION:Bezirksliga weibl. D-Jugend VR\nBegegnungs-Nr: 24068125\nHeim: SG Rohr/Pavelsbach\nGast: HG Amberg \nHalle: Metten\, St. Benedikt Halle (260224)\nAdresse: Abteistr. 4a\, 94526 Metten\n
LOCATION:Metten\, St. Benedikt Halle (260224): Abteistr. 4a\, 94526 Metten
CATEGORIES:Saison 2024/25
END:VEVENT
BEGIN:VEVENT
DTSTAMP:20260423T085015Z
DTSTART;TZID=Europe/Berlin:20241012T105000
DTEND;TZID=Europe/Berlin:20241012T115000
SUMMARY:Bezirksliga  VR SG Rohr/Pavelsbach vs Mintraching/Neutraubling (24068112)
UID:27899c0c-b493-4b63-a216-f82f0862d8f2
STATUS:CONFIRMED
LAST-MODIFIED:20241012T222827Z
DESCRIPTION:Bezirksliga weibl. D-Jugend VR\nBegegnungs-Nr: 24068112\nHeim: SG Rohr/Pavelsbach\nGast: Mintraching/Neutraubling\nHalle: Amberg\, Gregor-Mendel-Gymnasium (240002)\nAdresse: Krumbacher Str. 2a\, 92224 Amberg\n
LOCATION:Amberg\, Gregor-Mendel-Gymnasium (240002): Krumbacher Str. 2a\, 92224 Amberg
CATEGORIES:Saison 2024/25
END:VEVENT
BEGIN:VEVENT
DTSTAMP:20260423T085015Z
DTSTART;TZID=Europe/Berlin:20250125T112000
DTEND;TZID=Europe/Berlin:20250125T122000
SUMMARY:Bezirksliga West HR TSV 04 Feucht vs SG Rohr/Pavelsbach (24069103)
UID:c82730f2-f11b-49e1-b818-424ec9294ce7
STATUS:CONFIRMED
LAST-MODIFIED:20250201T190035Z
DESCRIPTION:Bezirksliga weibl. D-Jugend West HR\nBegegnungs-Nr: 24069103\nHeim: TSV 04 Feucht\nGast: SG Rohr/Pavelsbach\nHalle: Erlangen\, Sporthalle am Europakanal (240083)\nAdresse: Schallershoferstraße 20\, 91056 Erlangen\n
LOCATION:Erlangen\, Sporthalle am Europakanal (240083): Schallershoferstraße 20\, 91056 Erlangen
CATEGORIES:Saison 2024/25
END:VEVENT
BEGIN:VEVENT
DTSTAMP:20260423T085015Z
DTSTART;TZID=Europe/Berlin:20250202T121000
DTEND;TZID=Europe/Berlin:20250202T131000
SUMMARY:Bezirksliga West HR SG Frankenpower vs SG Rohr/Pavelsbach (24069108)
UID:e00c46b0-68ac-405e-9280-b8f803dc4581
STATUS:CONFIRMED
LAST-MODIFIED:20250203T160602Z
DESCRIPTION:Bezirksliga weibl. D-Jugend West HR\nBegegnungs-Nr: 24069108\nHeim: SG Frankenpower\nGast: SG Rohr/Pavelsbach\nHalle: Postbauer-Heng\, Schulsporthalle (240320)\nAdresse: Im Centrum 5\, 92353 Postbauer-Heng\n
LOCATION:Postbauer-Heng\, Schulsporthalle (240320): Im Centrum 5\, 92353 Postbauer-Heng
CATEGORIES:Saison 2024/25
END:VEVENT
BEGIN:VEVENT
DTSTAMP:20260423T085015Z
DTSTART;TZID=Europe/Berlin:20250323T105000
DTEND;TZID=Europe/Berlin:20250323T115000
SUMMARY:Bezirksliga West HR HC Erlangen vs SG Rohr/Pavelsbach (24069118)
UID:31c8755e-fdfc-4488-bda6-e826fbbb5214
STATUS:CONFIRMED
LAST-MODIFIED:20250323T141546Z
DESCRIPTION:Bezirksliga weibl. D-Jugend West HR\nBegegnungs-Nr: 24069118\nHeim: HC Erlangen\nGast: SG Rohr/Pavelsbach\nHalle: Feucht\, Wilhelm-Baum-Halle (240100)\nAdresse: Schulstraße\, 90537 Feucht\n
LOCATION:Feucht\, Wilhelm-Baum-Halle (240100): Schulstraße\, 90537 Feucht
CATEGORIES:Saison 2024/25
END:VEVENT
BEGIN:VEVENT
DTSTAMP:20260423T085015Z
DTSTART;TZID=Europe/Berlin:20250316T093000
DTEND;TZID=Europe/Berlin:20250316T103000
SUMMARY:Bezirksliga West HR JSG Nürnberger Land vs SG Rohr/Pavelsbach (24069113)
UID:a8452d19-aa1a-47be-a376-dd8989bdf350
STATUS:CONFIRMED
LAST-MODIFIED:20250316T184841Z
DESCRIPTION:Bezirksliga weibl. D-Jugend West HR\nBegegnungs-Nr: 24069113\nHeim: JSG Nürnberger Land\nGast: SG Rohr/Pavelsbach\nHalle: Winkelhaid\, Dr. Dietmar-Trautmann-Sportanlage (240465)\nAdresse: Sportparkstraße 2\, 90610 Winkelhaid\n
LOCATION:Winkelhaid\, Dr. Dietmar-Trautmann-Sportanlage (240465): Sportparkstraße 2\, 90610 Winkelhaid
CATEGORIES:Saison 2024/25
END:VEVENT
BEGIN:VEVENT
DTSTAMP:20260423T085015Z
DTSTART;TZID=Europe/Berlin:20241012T132000
DTEND;TZID=Europe/Berlin:20241012T142000
SUMMARY:Bezirksliga  VR HC Erlangen vs SG Rohr/Pavelsbach (24068115)
UID:65c028f6-6109-47ef-bc33-191ea253abad
STATUS:CONFIRMED
LAST-MODIFIED:20241012T223102Z
DESCRIPTION:Bezirksliga weibl. D-Jugend VR\nBegegnungs-Nr: 24068115\nHeim: HC Erlangen\nGast: SG Rohr/Pavelsbach\nHalle: Amberg\, Gregor-Mendel-Gymnasium (240002)\nAdresse: Krumbacher Str. 2a\, 92224 Amberg\n
LOCATION:Amberg\, Gregor-Mendel-Gymnasium (240002): Krumbacher Str. 2a\, 92224 Amberg
CATEGORIES:Saison 2024/25
END:VEVENT
BEGIN:VEVENT
DTSTAMP:20260423T085015Z
DTSTART;TZID=Europe/Berlin:20241117T125000
DTEND;TZID=Europe/Berlin:20241117T135000
SUMMARY:Bezirksliga  VR SSG Metten vs SG Rohr/Pavelsbach (24068117)
UID:45557187-87a3-4b66-a989-0a119ecc9e02
STATUS:CONFIRMED
LAST-MODIFIED:20241117T161241Z
DESCRIPTION:Bezirksliga weibl. D-Jugend VR\nBegegnungs-Nr: 24068117\nHeim: SSG Metten\nGast: SG Rohr/Pavelsbach\nHalle: Regensburg\, Kerschensteiner-Halle (240342)\nAdresse: Alfons-Auer-Straße 24\, 93055 Regensburg\n
LOCATION:Regensburg\, Kerschensteiner-Halle (240342): Alfons-Auer-Straße 24\, 93055 Regensburg
CATEGORIES:Saison 2024/25
END:VEVENT
BEGIN:VEVENT
DTSTAMP:20260423T085015Z
DTSTART;TZID=Europe/Berlin:20240929T120000
DTEND;TZID=Europe/Berlin:20240929T130000
SUMMARY:Bezirksliga  VR SG Regensburg vs SG Rohr/Pavelsbach (24068104)
UID:d462db91-a3bd-4525-932e-a3cfebb71bac
STATUS:CONFIRMED
LAST-MODIFIED:20240930T154646Z
DESCRIPTION:Bezirksliga weibl. D-Jugend VR\nBegegnungs-Nr: 24068104\nHeim: SG Regensburg\nGast: SG Rohr/Pavelsbach\nHalle: Postbauer-Heng\, Schulsporthalle (240320)\nAdresse: Im Centrum 5\, 92353 Postbauer-Heng\n
LOCATION:Postbauer-Heng\, Schulsporthalle (240320): Im Centrum 5\, 92353 Postbauer-Heng
CATEGORIES:Saison 2024/25
END:VEVENT
BEGIN:VEVENT
DTSTAMP:20260423T085015Z
DTSTART;TZID=Europe/Berlin:20241123T111000
DTEND;TZID=Europe/Berlin:20241123T121000
SUMMARY:Bezirksliga  VR Mintraching/Neutraubling vs SG Rohr/Pavelsbach (24068123)
UID:b2e556a7-15c3-41c8-a76e-2189b4fdbd9f
STATUS:CONFIRMED
LAST-MODIFIED:20241124T005648Z
DESCRIPTION:Bezirksliga weibl. D-Jugend VR\nBegegnungs-Nr: 24068123\nHeim: Mintraching/Neutraubling\nGast: SG Rohr/Pavelsbach\nHalle: Metten\, St. Benedikt Halle (260224)\nAdresse: Abteistr. 4a\, 94526 Metten\n
LOCATION:Metten\, St. Benedikt Halle (260224): Abteistr. 4a\, 94526 Metten
CATEGORIES:Saison 2024/25
END:VEVENT
BEGIN:VEVENT
DTSTAMP:20260423T085015Z
DTSTART;TZID=Europe/Berlin:20241006T102000
DTEND;TZID=Europe/Berlin:20241006T112000
SUMMARY:Bezirksliga  VR HG Amberg  vs SG Rohr/Pavelsbach (24068107)
UID:a541f090-4aea-4fbd-8f70-14e659c0b55f
STATUS:CONFIRMED
LAST-MODIFIED:20241006T121229Z
DESCRIPTION:Bezirksliga weibl. D-Jugend VR\nBegegnungs-Nr: 24068107\nHeim: HG Amberg \nGast: SG Rohr/Pavelsbach\nHalle: Erlangen\, Sporthalle am Europakanal (240083)\nAdresse: Schallershoferstraße 20\, 91056 Erlangen\n
LOCATION:Erlangen\, Sporthalle am Europakanal (240083): Schallershoferstraße 20\, 91056 Erlangen
CATEGORIES:Saison 2024/25
END:VEVENT
END:VCALENDAR
