BEGIN:VCALENDAR
PRODID:-//nuDatenautomaten//framework iCal4j //DE
VERSION:2.0
CALSCALE:GREGORIAN
BEGIN:VTIMEZONE
TZID:Europe/Berlin
LAST-MODIFIED:20260306T231828Z
TZURL:https://www.tzurl.org/zoneinfo/Europe/Berlin
X-LIC-LOCATION:Europe/Berlin
X-PROLEPTIC-TZNAME:LMT
BEGIN:STANDARD
TZNAME:CET
TZOFFSETFROM:+005328
TZOFFSETTO:+0100
DTSTART:18930401T000000
END:STANDARD
BEGIN:DAYLIGHT
TZNAME:CEST
TZOFFSETFROM:+0100
TZOFFSETTO:+0200
DTSTART:19160430T230000
RDATE:19400401T020000
RDATE:19430329T020000
RDATE:19460414T020000
RDATE:19470406T030000
RDATE:19480418T020000
RDATE:19490410T020000
RDATE:19800406T020000
END:DAYLIGHT
BEGIN:STANDARD
TZNAME:CET
TZOFFSETFROM:+0200
TZOFFSETTO:+0100
DTSTART:19161001T010000
RDATE:19421102T030000
RDATE:19431004T030000
RDATE:19441002T030000
RDATE:19451118T030000
RDATE:19461007T030000
END:STANDARD
BEGIN:DAYLIGHT
TZNAME:CEST
TZOFFSETFROM:+0100
TZOFFSETTO:+0200
DTSTART:19170416T020000
RRULE:FREQ=YEARLY;UNTIL=19180415T010000Z;BYMONTH=4;BYDAY=3MO
END:DAYLIGHT
BEGIN:STANDARD
TZNAME:CET
TZOFFSETFROM:+0200
TZOFFSETTO:+0100
DTSTART:19170917T030000
RRULE:FREQ=YEARLY;UNTIL=19180916T010000Z;BYMONTH=9;BYDAY=3MO
END:STANDARD
BEGIN:DAYLIGHT
TZNAME:CEST
TZOFFSETFROM:+0100
TZOFFSETTO:+0200
DTSTART:19440403T020000
RRULE:FREQ=YEARLY;UNTIL=19450402T010000Z;BYMONTH=4;BYDAY=1MO
END:DAYLIGHT
BEGIN:DAYLIGHT
TZNAME:CEMT
TZOFFSETFROM:+0200
TZOFFSETTO:+0300
DTSTART:19450524T020000
RDATE:19470511T030000
END:DAYLIGHT
BEGIN:DAYLIGHT
TZNAME:CEST
TZOFFSETFROM:+0300
TZOFFSETTO:+0200
DTSTART:19450924T030000
RDATE:19470629T030000
END:DAYLIGHT
BEGIN:STANDARD
TZNAME:CET
TZOFFSETFROM:+0100
TZOFFSETTO:+0100
DTSTART:19460101T000000
RDATE:19800101T000000
END:STANDARD
BEGIN:STANDARD
TZNAME:CET
TZOFFSETFROM:+0200
TZOFFSETTO:+0100
DTSTART:19471005T030000
RRULE:FREQ=YEARLY;UNTIL=19491002T010000Z;BYMONTH=10;BYDAY=1SU
END:STANDARD
BEGIN:STANDARD
TZNAME:CET
TZOFFSETFROM:+0200
TZOFFSETTO:+0100
DTSTART:19800928T030000
RRULE:FREQ=YEARLY;UNTIL=19950924T010000Z;BYMONTH=9;BYDAY=-1SU
END:STANDARD
BEGIN:DAYLIGHT
TZNAME:CEST
TZOFFSETFROM:+0100
TZOFFSETTO:+0200
DTSTART:19810329T020000
RRULE:FREQ=YEARLY;BYMONTH=3;BYDAY=-1SU
END:DAYLIGHT
BEGIN:STANDARD
TZNAME:CET
TZOFFSETFROM:+0200
TZOFFSETTO:+0100
DTSTART:19961027T030000
RRULE:FREQ=YEARLY;BYMONTH=10;BYDAY=-1SU
END:STANDARD
END:VTIMEZONE
BEGIN:VEVENT
DTSTAMP:20260419T131446Z
DTSTART;TZID=Europe/Berlin:20240915T111000
DTEND;TZID=Europe/Berlin:20240915T121000
SUMMARY:Vorrunde WD Staffel 6 HSG Lachte-Lutter vs SV Garßen-Celle (8)
UID:2caccbdd-60ad-4fc1-8ebc-5af581f366ee
STATUS:CONFIRMED
LAST-MODIFIED:20240918T112201Z
DESCRIPTION:Vorrunde weibliche Jugend D Staffel 6\nBegegnungs-Nr: 8\nHeim: HSG Lachte-Lutter\nGast: SV Garßen-Celle\nHalle: Hambühren\, Hauptschule und O-Stufe (601133)\nAdresse: Versonstraße\, 29313 Hambühren (OT Ovelgönne)\n
LOCATION:Hambühren\, Hauptschule und O-Stufe (601133): Versonstraße\, 29313 Hambühren (OT Ovelgönne)
CATEGORIES:Saison 2024/25
END:VEVENT
BEGIN:VEVENT
DTSTAMP:20260419T131446Z
DTSTART;TZID=Europe/Berlin:20240928T144500
DTEND;TZID=Europe/Berlin:20240928T154500
SUMMARY:Vorrunde WD Staffel 6 HSG Lachte-Lutter vs JSG Örtzetal (20)
UID:214170c9-8074-4f89-b8d7-c98a901454f7
STATUS:CONFIRMED
LAST-MODIFIED:20241002T144832Z
DESCRIPTION:Vorrunde weibliche Jugend D Staffel 6\nBegegnungs-Nr: 20\nHeim: HSG Lachte-Lutter\nGast: JSG Örtzetal\nHalle: Salzhausen\, HRS (603127)\nAdresse: Kreuzweg\, 21376 Salzhausen\n
LOCATION:Salzhausen\, HRS (603127): Kreuzweg\, 21376 Salzhausen
CATEGORIES:Saison 2024/25
END:VEVENT
BEGIN:VEVENT
DTSTAMP:20260419T131446Z
DTSTART;TZID=Europe/Berlin:20240915T125500
DTEND;TZID=Europe/Berlin:20240915T135500
SUMMARY:Vorrunde WD Staffel 6 HSG Lachte-Lutter vs TuS Oldau Ovelgönne (11)
UID:fda40c6d-64c2-40e3-a695-93f86d2b5464
STATUS:CONFIRMED
LAST-MODIFIED:20240918T112351Z
DESCRIPTION:Vorrunde weibliche Jugend D Staffel 6\nBegegnungs-Nr: 11\nHeim: HSG Lachte-Lutter\nGast: TuS Oldau Ovelgönne\nHalle: Hambühren\, Hauptschule und O-Stufe (601133)\nAdresse: Versonstraße\, 29313 Hambühren (OT Ovelgönne)\n
LOCATION:Hambühren\, Hauptschule und O-Stufe (601133): Versonstraße\, 29313 Hambühren (OT Ovelgönne)
CATEGORIES:Saison 2024/25
END:VEVENT
BEGIN:VEVENT
DTSTAMP:20260419T131446Z
DTSTART;TZID=Europe/Berlin:20250328T180000
DTEND;TZID=Europe/Berlin:20250328T190000
SUMMARY:Regionsliga WD Süd HSG Lachte-Lutter vs TuS Bergen (19)
UID:c704d669-5412-44d4-9de7-c75b3d51db01
STATUS:CONFIRMED
LAST-MODIFIED:20250328T212712Z
DESCRIPTION:Regionsliga WD Süd\nBegegnungs-Nr: 19\nHeim: HSG Lachte-Lutter\nGast: TuS Bergen\nHalle: Lachendorf\, Gymnasium (601144)\nAdresse: Alter Postweg 1\, 29331 Lachendorf\n
LOCATION:Lachendorf\, Gymnasium (601144): Alter Postweg 1\, 29331 Lachendorf
CATEGORIES:Saison 2024/25
END:VEVENT
BEGIN:VEVENT
DTSTAMP:20260419T131446Z
DTSTART;TZID=Europe/Berlin:20250126T100000
DTEND;TZID=Europe/Berlin:20250126T110000
SUMMARY:Regionsliga WD Süd HSG Lachte-Lutter vs TuS Bergen II (31)
UID:091f721b-ad1a-479c-ad0b-3f5896874e21
STATUS:CONFIRMED
LAST-MODIFIED:20250129T204239Z
DESCRIPTION:Regionsliga WD Süd\nBegegnungs-Nr: 31\nHeim: HSG Lachte-Lutter\nGast: TuS Bergen II\nHalle: Lachendorf\, RS (601142)\nAdresse: Südfeld\, 29331 Lachendorf\n
LOCATION:Lachendorf\, RS (601142): Südfeld\, 29331 Lachendorf
CATEGORIES:Saison 2024/25
END:VEVENT
BEGIN:VEVENT
DTSTAMP:20260419T131446Z
DTSTART;TZID=Europe/Berlin:20250215T143000
DTEND;TZID=Europe/Berlin:20250215T153000
SUMMARY:Regionsliga WD Süd HSG Lachte-Lutter vs JSG Örtzetal (37)
UID:27eea289-d503-4e02-a3db-e505ab859780
STATUS:CONFIRMED
LAST-MODIFIED:20250216T153813Z
DESCRIPTION:Regionsliga WD Süd\nBegegnungs-Nr: 37\nHeim: HSG Lachte-Lutter\nGast: JSG Örtzetal\nHalle: Lachendorf\, RS (601142)\nAdresse: Südfeld\, 29331 Lachendorf\n
LOCATION:Lachendorf\, RS (601142): Südfeld\, 29331 Lachendorf
CATEGORIES:Saison 2024/25
END:VEVENT
BEGIN:VEVENT
DTSTAMP:20260419T131446Z
DTSTART;TZID=Europe/Berlin:20241102T130000
DTEND;TZID=Europe/Berlin:20241102T140000
SUMMARY:Regionsliga WD Süd HSG Lachte-Lutter vs TuS Oldau Ovelgönne II (7)
UID:c655a80f-63ec-46fc-bd98-ac9df1222e6f
STATUS:CONFIRMED
LAST-MODIFIED:20241105T115426Z
DESCRIPTION:Regionsliga WD Süd\nBegegnungs-Nr: 7\nHeim: HSG Lachte-Lutter\nGast: TuS Oldau Ovelgönne II\nHalle: Lachendorf\, Gymnasium (601144)\nAdresse: Alter Postweg 1\, 29331 Lachendorf\n
LOCATION:Lachendorf\, Gymnasium (601144): Alter Postweg 1\, 29331 Lachendorf
CATEGORIES:Saison 2024/25
END:VEVENT
BEGIN:VEVENT
DTSTAMP:20260419T131446Z
DTSTART;TZID=Europe/Berlin:20241123T100000
DTEND;TZID=Europe/Berlin:20241123T110000
SUMMARY:Regionsliga WD Süd HSG Lachte-Lutter vs SV Garßen-Celle II (14)
UID:c5ed489e-3790-450a-98a2-589f2e1a4325
STATUS:CONFIRMED
LAST-MODIFIED:20241127T142750Z
DESCRIPTION:Regionsliga WD Süd\nBegegnungs-Nr: 14\nHeim: HSG Lachte-Lutter\nGast: SV Garßen-Celle II\nHalle: Lachendorf\, Gymnasium (601144)\nAdresse: Alter Postweg 1\, 29331 Lachendorf\n
LOCATION:Lachendorf\, Gymnasium (601144): Alter Postweg 1\, 29331 Lachendorf
CATEGORIES:Saison 2024/25
END:VEVENT
BEGIN:VEVENT
DTSTAMP:20260419T131446Z
DTSTART;TZID=Europe/Berlin:20250118T130000
DTEND;TZID=Europe/Berlin:20250118T140000
SUMMARY:Regionsliga WD Süd HSG Lachte-Lutter vs HSG Lohheide (28)
UID:d2de2cc5-55ee-41d1-bcd5-068bba681cb1
STATUS:CONFIRMED
LAST-MODIFIED:20250122T203219Z
DESCRIPTION:Regionsliga WD Süd\nBegegnungs-Nr: 28\nHeim: HSG Lachte-Lutter\nGast: HSG Lohheide\nHalle: Lachendorf\, Gymnasium (601144)\nAdresse: Alter Postweg 1\, 29331 Lachendorf\n
LOCATION:Lachendorf\, Gymnasium (601144): Alter Postweg 1\, 29331 Lachendorf
CATEGORIES:Saison 2024/25
END:VEVENT
BEGIN:VEVENT
DTSTAMP:20260419T131446Z
DTSTART;TZID=Europe/Berlin:20250308T140000
DTEND;TZID=Europe/Berlin:20250308T150000
SUMMARY:Regionsliga WD Süd HSG Lachte-Lutter vs TuS Bergen (47)
UID:ab50cfbe-301d-4cea-8233-c6bb12a01166
STATUS:CONFIRMED
LAST-MODIFIED:20250308T154214Z
DESCRIPTION:Regionsliga WD Süd\nBegegnungs-Nr: 47\nHeim: HSG Lachte-Lutter\nGast: TuS Bergen\nHalle: Lachendorf\, Gymnasium (601144)\nAdresse: Alter Postweg 1\, 29331 Lachendorf\n
LOCATION:Lachendorf\, Gymnasium (601144): Alter Postweg 1\, 29331 Lachendorf
CATEGORIES:Saison 2024/25
END:VEVENT
BEGIN:VEVENT
DTSTAMP:20260419T131446Z
DTSTART;TZID=Europe/Berlin:20250323T110000
DTEND;TZID=Europe/Berlin:20250323T120000
SUMMARY:Regionsliga WD Süd HSG Lachte-Lutter vs TuS Oldau Ovelgönne (52)
UID:c80d7773-a889-4da5-b54a-b993e76dc6f0
STATUS:CONFIRMED
LAST-MODIFIED:20250324T100952Z
DESCRIPTION:Regionsliga WD Süd\nBegegnungs-Nr: 52\nHeim: HSG Lachte-Lutter\nGast: TuS Oldau Ovelgönne\nHalle: Lachendorf\, RS (601142)\nAdresse: Südfeld\, 29331 Lachendorf\n
LOCATION:Lachendorf\, RS (601142): Südfeld\, 29331 Lachendorf
CATEGORIES:Saison 2024/25
END:VEVENT
BEGIN:VEVENT
DTSTAMP:20260419T131446Z
DTSTART;TZID=Europe/Berlin:20240922T122000
DTEND;TZID=Europe/Berlin:20240922T132000
SUMMARY:Vorrunde WD Staffel 6 HSG Lachte-Lutter vs TuS Eschede (16)
UID:6484b795-60e3-4812-9606-3ab11281b75c
STATUS:CONFIRMED
LAST-MODIFIED:20240924T134132Z
DESCRIPTION:Vorrunde weibliche Jugend D Staffel 6\nBegegnungs-Nr: 16\nHeim: HSG Lachte-Lutter\nGast: TuS Eschede\nHalle: Fallingbostel\, Sportzentrum (607103)\nAdresse: Idinger Heide\, 29683 Fallingbostel\n
LOCATION:Fallingbostel\, Sportzentrum (607103): Idinger Heide\, 29683 Fallingbostel
CATEGORIES:Saison 2024/25
END:VEVENT
BEGIN:VEVENT
DTSTAMP:20260419T131446Z
DTSTART;TZID=Europe/Berlin:20241208T110000
DTEND;TZID=Europe/Berlin:20241208T120000
SUMMARY:Regionsliga WD Süd TuS Oldau Ovelgönne vs HSG Lachte-Lutter (24)
UID:22aa7e47-5e6e-43b9-8d0f-3833207971b9
STATUS:CONFIRMED
LAST-MODIFIED:20241209T212453Z
DESCRIPTION:Regionsliga WD Süd\nBegegnungs-Nr: 24\nHeim: TuS Oldau Ovelgönne\nGast: HSG Lachte-Lutter\nHalle: Hambühren\, Hauptschule und O-Stufe (601133)\nAdresse: Versonstraße\, 29313 Hambühren (OT Ovelgönne)\n
LOCATION:Hambühren\, Hauptschule und O-Stufe (601133): Versonstraße\, 29313 Hambühren (OT Ovelgönne)
CATEGORIES:Saison 2024/25
END:VEVENT
BEGIN:VEVENT
DTSTAMP:20260419T131446Z
DTSTART;TZID=Europe/Berlin:20240928T130000
DTEND;TZID=Europe/Berlin:20240928T140000
SUMMARY:Vorrunde WD Staffel 6 MTV Eyendorf vs HSG Lachte-Lutter (17)
UID:1f9b37d9-478d-482f-83be-2126dc2bfbb9
STATUS:CONFIRMED
LAST-MODIFIED:20241002T144308Z
DESCRIPTION:Vorrunde weibliche Jugend D Staffel 6\nBegegnungs-Nr: 17\nHeim: MTV Eyendorf\nGast: HSG Lachte-Lutter\nHalle: Salzhausen\, HRS (603127)\nAdresse: Kreuzweg\, 21376 Salzhausen\n
LOCATION:Salzhausen\, HRS (603127): Kreuzweg\, 21376 Salzhausen
CATEGORIES:Saison 2024/25
END:VEVENT
BEGIN:VEVENT
DTSTAMP:20260419T131446Z
DTSTART;TZID=Europe/Berlin:20240922T111000
DTEND;TZID=Europe/Berlin:20240922T121000
SUMMARY:Vorrunde WD Staffel 6 HSG Heidmark II vs HSG Lachte-Lutter (14)
UID:b315e2c3-28e4-4190-bf99-64a82ce6c77d
STATUS:CONFIRMED
LAST-MODIFIED:20240924T134005Z
DESCRIPTION:Vorrunde weibliche Jugend D Staffel 6\nBegegnungs-Nr: 14\nHeim: HSG Heidmark II\nGast: HSG Lachte-Lutter\nHalle: Fallingbostel\, Sportzentrum (607103)\nAdresse: Idinger Heide\, 29683 Fallingbostel\n
LOCATION:Fallingbostel\, Sportzentrum (607103): Idinger Heide\, 29683 Fallingbostel
CATEGORIES:Saison 2024/25
END:VEVENT
BEGIN:VEVENT
DTSTAMP:20260419T131446Z
DTSTART;TZID=Europe/Berlin:20241026T140000
DTEND;TZID=Europe/Berlin:20241026T150000
SUMMARY:Regionsliga WD Süd TuS Bergen II vs HSG Lachte-Lutter (3)
UID:39c678d9-5ea9-4e11-9fc4-c1935e8927ef
STATUS:CONFIRMED
LAST-MODIFIED:20241028T173717Z
DESCRIPTION:Regionsliga WD Süd\nBegegnungs-Nr: 3\nHeim: TuS Bergen II\nGast: HSG Lachte-Lutter\nHalle: Bergen\, Am Heisterkamp (601106)\nAdresse: Karlsruher Str. 1\, 29303 Bergen\n
LOCATION:Bergen\, Am Heisterkamp (601106): Karlsruher Str. 1\, 29303 Bergen
CATEGORIES:Saison 2024/25
END:VEVENT
BEGIN:VEVENT
DTSTAMP:20260419T131446Z
DTSTART;TZID=Europe/Berlin:20250302T100000
DTEND;TZID=Europe/Berlin:20250302T110000
SUMMARY:Regionsliga WD Süd SV Garßen-Celle II vs HSG Lachte-Lutter (42)
UID:b88b6114-f557-4fc8-8dec-32aac33da841
STATUS:CONFIRMED
LAST-MODIFIED:20250302T211430Z
DESCRIPTION:Regionsliga WD Süd\nBegegnungs-Nr: 42\nHeim: SV Garßen-Celle II\nGast: HSG Lachte-Lutter\nHalle: Celle\, Gewerbliche Berufsschule (601116)\nAdresse: Lönsweg\, 29225 Celle (OT Neustadt)\n
LOCATION:Celle\, Gewerbliche Berufsschule (601116): Lönsweg\, 29225 Celle (OT Neustadt)
CATEGORIES:Saison 2024/25
END:VEVENT
BEGIN:VEVENT
DTSTAMP:20260419T131446Z
DTSTART;TZID=Europe/Berlin:20241116T120000
DTEND;TZID=Europe/Berlin:20241116T130000
SUMMARY:Regionsliga WD Süd JSG Örtzetal vs HSG Lachte-Lutter (9)
UID:35783ddb-7bf6-4a1d-a85f-0acd33bea65b
STATUS:CONFIRMED
LAST-MODIFIED:20241119T111346Z
DESCRIPTION:Regionsliga WD Süd\nBegegnungs-Nr: 9\nHeim: JSG Örtzetal\nGast: HSG Lachte-Lutter\nHalle: Hermannsburg\, SH Oertzetal (601134)\nAdresse: Lutterweg\, 29320 Hermannsburg\n
LOCATION:Hermannsburg\, SH Oertzetal (601134): Lutterweg\, 29320 Hermannsburg
CATEGORIES:Saison 2024/25
END:VEVENT
BEGIN:VEVENT
DTSTAMP:20260419T131446Z
DTSTART;TZID=Europe/Berlin:20250329T141500
DTEND;TZID=Europe/Berlin:20250329T151500
SUMMARY:Regionsliga WD Süd HSG Lohheide vs HSG Lachte-Lutter (56)
UID:94f685ed-e32e-4b1f-9643-760b7a001000
STATUS:CONFIRMED
LAST-MODIFIED:20250331T142621Z
DESCRIPTION:Regionsliga WD Süd\nBegegnungs-Nr: 56\nHeim: HSG Lohheide\nGast: HSG Lachte-Lutter\nHalle: Bomlitz\, SH Schulzentrum (607102)\nAdresse: Am Hoop 15\, 29699 Bomlitz\n
LOCATION:Bomlitz\, SH Schulzentrum (607102): Am Hoop 15\, 29699 Bomlitz
CATEGORIES:Saison 2024/25
END:VEVENT
BEGIN:VEVENT
DTSTAMP:20260419T131446Z
DTSTART;TZID=Europe/Berlin:20250208T150000
DTEND;TZID=Europe/Berlin:20250208T160000
SUMMARY:Regionsliga WD Süd TuS Oldau Ovelgönne II vs HSG Lachte-Lutter (35)
UID:b4a44870-8614-4d43-b10a-aeb1900ae894
STATUS:CONFIRMED
LAST-MODIFIED:20250211T122744Z
DESCRIPTION:Regionsliga WD Süd\nBegegnungs-Nr: 35\nHeim: TuS Oldau Ovelgönne II\nGast: HSG Lachte-Lutter\nHalle: Hambühren\, Hauptschule und O-Stufe (601133)\nAdresse: Versonstraße\, 29313 Hambühren (OT Ovelgönne)\n
LOCATION:Hambühren\, Hauptschule und O-Stufe (601133): Versonstraße\, 29313 Hambühren (OT Ovelgönne)
CATEGORIES:Saison 2024/25
END:VEVENT
END:VCALENDAR
