BEGIN:VCALENDAR
PRODID:-//nuDatenautomaten//framework iCal4j //DE
VERSION:2.0
CALSCALE:GREGORIAN
BEGIN:VTIMEZONE
TZID:Europe/Berlin
LAST-MODIFIED:20260306T231828Z
TZURL:https://www.tzurl.org/zoneinfo/Europe/Berlin
X-LIC-LOCATION:Europe/Berlin
X-PROLEPTIC-TZNAME:LMT
BEGIN:STANDARD
TZNAME:CET
TZOFFSETFROM:+005328
TZOFFSETTO:+0100
DTSTART:18930401T000000
END:STANDARD
BEGIN:DAYLIGHT
TZNAME:CEST
TZOFFSETFROM:+0100
TZOFFSETTO:+0200
DTSTART:19160430T230000
RDATE:19400401T020000
RDATE:19430329T020000
RDATE:19460414T020000
RDATE:19470406T030000
RDATE:19480418T020000
RDATE:19490410T020000
RDATE:19800406T020000
END:DAYLIGHT
BEGIN:STANDARD
TZNAME:CET
TZOFFSETFROM:+0200
TZOFFSETTO:+0100
DTSTART:19161001T010000
RDATE:19421102T030000
RDATE:19431004T030000
RDATE:19441002T030000
RDATE:19451118T030000
RDATE:19461007T030000
END:STANDARD
BEGIN:DAYLIGHT
TZNAME:CEST
TZOFFSETFROM:+0100
TZOFFSETTO:+0200
DTSTART:19170416T020000
RRULE:FREQ=YEARLY;UNTIL=19180415T010000Z;BYMONTH=4;BYDAY=3MO
END:DAYLIGHT
BEGIN:STANDARD
TZNAME:CET
TZOFFSETFROM:+0200
TZOFFSETTO:+0100
DTSTART:19170917T030000
RRULE:FREQ=YEARLY;UNTIL=19180916T010000Z;BYMONTH=9;BYDAY=3MO
END:STANDARD
BEGIN:DAYLIGHT
TZNAME:CEST
TZOFFSETFROM:+0100
TZOFFSETTO:+0200
DTSTART:19440403T020000
RRULE:FREQ=YEARLY;UNTIL=19450402T010000Z;BYMONTH=4;BYDAY=1MO
END:DAYLIGHT
BEGIN:DAYLIGHT
TZNAME:CEMT
TZOFFSETFROM:+0200
TZOFFSETTO:+0300
DTSTART:19450524T020000
RDATE:19470511T030000
END:DAYLIGHT
BEGIN:DAYLIGHT
TZNAME:CEST
TZOFFSETFROM:+0300
TZOFFSETTO:+0200
DTSTART:19450924T030000
RDATE:19470629T030000
END:DAYLIGHT
BEGIN:STANDARD
TZNAME:CET
TZOFFSETFROM:+0100
TZOFFSETTO:+0100
DTSTART:19460101T000000
RDATE:19800101T000000
END:STANDARD
BEGIN:STANDARD
TZNAME:CET
TZOFFSETFROM:+0200
TZOFFSETTO:+0100
DTSTART:19471005T030000
RRULE:FREQ=YEARLY;UNTIL=19491002T010000Z;BYMONTH=10;BYDAY=1SU
END:STANDARD
BEGIN:STANDARD
TZNAME:CET
TZOFFSETFROM:+0200
TZOFFSETTO:+0100
DTSTART:19800928T030000
RRULE:FREQ=YEARLY;UNTIL=19950924T010000Z;BYMONTH=9;BYDAY=-1SU
END:STANDARD
BEGIN:DAYLIGHT
TZNAME:CEST
TZOFFSETFROM:+0100
TZOFFSETTO:+0200
DTSTART:19810329T020000
RRULE:FREQ=YEARLY;BYMONTH=3;BYDAY=-1SU
END:DAYLIGHT
BEGIN:STANDARD
TZNAME:CET
TZOFFSETFROM:+0200
TZOFFSETTO:+0100
DTSTART:19961027T030000
RRULE:FREQ=YEARLY;BYMONTH=10;BYDAY=-1SU
END:STANDARD
END:VTIMEZONE
BEGIN:VEVENT
DTSTAMP:20260419T204949Z
DTSTART;TZID=Europe/Berlin:20241103T100000
DTEND;TZID=Europe/Berlin:20241103T110000
SUMMARY:Regionsoberliga MJE West SV Sigiltra Sögel vs TuS Haren (943306)
UID:59689efb-eaab-452f-9014-ed001a43e23b
STATUS:CONFIRMED
LAST-MODIFIED:20241103T185257Z
DESCRIPTION:Regionsoberliga männl. Jugend E West\nBegegnungs-Nr: 943306\nHeim: SV Sigiltra Sögel\nGast: TuS Haren\nHalle: Sögel\, Großraum-SH  (803153)\nAdresse: Schlaunallee 14\, 49751 Sögel\n
LOCATION:Sögel\, Großraum-SH  (803153): Schlaunallee 14\, 49751 Sögel
CATEGORIES:Saison 2024/25
END:VEVENT
BEGIN:VEVENT
DTSTAMP:20260419T204949Z
DTSTART;TZID=Europe/Berlin:20241110T150000
DTEND;TZID=Europe/Berlin:20241110T160000
SUMMARY:Regionsoberliga MJE West SV Sigiltra Sögel vs FC Schüttorf 09 (943308)
UID:24032d41-4595-4d1b-8755-b6bda95dae09
STATUS:CONFIRMED
LAST-MODIFIED:20241110T162847Z
DESCRIPTION:Regionsoberliga männl. Jugend E West\nBegegnungs-Nr: 943308\nHeim: SV Sigiltra Sögel\nGast: FC Schüttorf 09\nHalle: Sögel\, Erich-Kästner-Schule  (803152)\nAdresse: Im Eickel\, 49751 Sögel\n
LOCATION:Sögel\, Erich-Kästner-Schule  (803152): Im Eickel\, 49751 Sögel
CATEGORIES:Saison 2024/25
END:VEVENT
BEGIN:VEVENT
DTSTAMP:20260419T204949Z
DTSTART;TZID=Europe/Berlin:20250119T143000
DTEND;TZID=Europe/Berlin:20250119T153000
SUMMARY:Regionsoberliga MJE West SV Sigiltra Sögel vs SG Neuenhaus/Uelsen (943323)
UID:ab5ded46-b5f1-499b-aa60-511a8cbee5c1
STATUS:CONFIRMED
LAST-MODIFIED:20250120T170424Z
DESCRIPTION:Regionsoberliga männl. Jugend E West\nBegegnungs-Nr: 943323\nHeim: SV Sigiltra Sögel\nGast: SG Neuenhaus/Uelsen\nHalle: Sögel\, Großraum-SH  (803153)\nAdresse: Schlaunallee 14\, 49751 Sögel\n
LOCATION:Sögel\, Großraum-SH  (803153): Schlaunallee 14\, 49751 Sögel
CATEGORIES:Saison 2024/25
END:VEVENT
BEGIN:VEVENT
DTSTAMP:20260419T204949Z
DTSTART;TZID=Europe/Berlin:20250112T140000
DTEND;TZID=Europe/Berlin:20250112T150000
SUMMARY:Regionsoberliga MJE West SV Sigiltra Sögel vs JMSG Aurich (943321)
UID:210fe00b-c681-4339-829b-fa348d57b456
STATUS:CONFIRMED
LAST-MODIFIED:20250116T163419Z
DESCRIPTION:Regionsoberliga männl. Jugend E West\nBegegnungs-Nr: 943321\nHeim: SV Sigiltra Sögel\nGast: JMSG Aurich\nHalle: Sögel\, Großraum-SH  (803153)\nAdresse: Schlaunallee 14\, 49751 Sögel\n
LOCATION:Sögel\, Großraum-SH  (803153): Schlaunallee 14\, 49751 Sögel
CATEGORIES:Saison 2024/25
END:VEVENT
BEGIN:VEVENT
DTSTAMP:20260419T204949Z
DTSTART;TZID=Europe/Berlin:20250323T153000
DTEND;TZID=Europe/Berlin:20250323T163000
SUMMARY:Regionsoberliga MJE West SV Sigiltra Sögel vs HSG Nordhorn e.V. (943339)
UID:64953efa-5f49-4907-91c8-84a2a32c22a8
STATUS:CONFIRMED
LAST-MODIFIED:20250326T070109Z
DESCRIPTION:Regionsoberliga männl. Jugend E West\nBegegnungs-Nr: 943339\nHeim: SV Sigiltra Sögel\nGast: HSG Nordhorn e.V.\nHalle: Sögel\, Großraum-SH  (803153)\nAdresse: Schlaunallee 14\, 49751 Sögel\n
LOCATION:Sögel\, Großraum-SH  (803153): Schlaunallee 14\, 49751 Sögel
CATEGORIES:Saison 2024/25
END:VEVENT
BEGIN:VEVENT
DTSTAMP:20260419T204949Z
DTSTART;TZID=Europe/Berlin:20240921T130000
DTEND;TZID=Europe/Berlin:20240921T140000
SUMMARY:Vorrunde MJE 7 SV Sigiltra Sögel vs BV Garrel (945624)
UID:421dad5b-6fd0-4142-a05b-e6e62669b8f4
STATUS:CONFIRMED
LAST-MODIFIED:20240925T111945Z
DESCRIPTION:Vorrunde MJE 7\nBegegnungs-Nr: 945624\nHeim: SV Sigiltra Sögel\nGast: BV Garrel\nHalle: Sögel\, Großraum-SH  (803153)\nAdresse: Schlaunallee 14\, 49751 Sögel\n
LOCATION:Sögel\, Großraum-SH  (803153): Schlaunallee 14\, 49751 Sögel
CATEGORIES:Saison 2024/25
END:VEVENT
BEGIN:VEVENT
DTSTAMP:20260419T204949Z
DTSTART;TZID=Europe/Berlin:20241201T121500
DTEND;TZID=Europe/Berlin:20241201T131500
SUMMARY:Regionsoberliga MJE West SV Sigiltra Sögel vs SG Lingen-Lohne (943315)
UID:8a81697a-9370-4bba-a103-831545edd831
STATUS:CONFIRMED
LAST-MODIFIED:20241201T171913Z
DESCRIPTION:Regionsoberliga männl. Jugend E West\nBegegnungs-Nr: 943315\nHeim: SV Sigiltra Sögel\nGast: SG Lingen-Lohne\nHalle: Sögel\, Großraum-SH  (803153)\nAdresse: Schlaunallee 14\, 49751 Sögel\n
LOCATION:Sögel\, Großraum-SH  (803153): Schlaunallee 14\, 49751 Sögel
CATEGORIES:Saison 2024/25
END:VEVENT
BEGIN:VEVENT
DTSTAMP:20260419T204949Z
DTSTART;TZID=Europe/Berlin:20240921T110000
DTEND;TZID=Europe/Berlin:20240921T120000
SUMMARY:Vorrunde MJE 7 SV Sigiltra Sögel vs TV Cloppenburg (945622)
UID:f49db242-8552-49b1-831f-4d454dbfa50d
STATUS:CONFIRMED
LAST-MODIFIED:20240925T111857Z
DESCRIPTION:Vorrunde MJE 7\nBegegnungs-Nr: 945622\nHeim: SV Sigiltra Sögel\nGast: TV Cloppenburg\nHalle: Sögel\, Großraum-SH  (803153)\nAdresse: Schlaunallee 14\, 49751 Sögel\n
LOCATION:Sögel\, Großraum-SH  (803153): Schlaunallee 14\, 49751 Sögel
CATEGORIES:Saison 2024/25
END:VEVENT
BEGIN:VEVENT
DTSTAMP:20260419T204949Z
DTSTART;TZID=Europe/Berlin:20250208T114500
DTEND;TZID=Europe/Berlin:20250208T124500
SUMMARY:Regionsoberliga MJE West FC Schüttorf 09 vs SV Sigiltra Sögel (943329)
UID:7e38aea5-402f-41d4-a980-d40b6a82916c
STATUS:CONFIRMED
LAST-MODIFIED:20250209T175638Z
DESCRIPTION:Regionsoberliga männl. Jugend E West\nBegegnungs-Nr: 943329\nHeim: FC Schüttorf 09\nGast: SV Sigiltra Sögel\nHalle: Schüttorf\, SH Jahn (803150)\nAdresse: Jahnstraße\, 48465 Schüttorf\n
LOCATION:Schüttorf\, SH Jahn (803150): Jahnstraße\, 48465 Schüttorf
CATEGORIES:Saison 2024/25
END:VEVENT
BEGIN:VEVENT
DTSTAMP:20260419T204949Z
DTSTART;TZID=Europe/Berlin:20241215T113000
DTEND;TZID=Europe/Berlin:20241215T123000
SUMMARY:Regionsoberliga MJE West HSG Nordhorn e.V. vs SV Sigiltra Sögel (943316)
UID:c65af3b5-712c-41b3-9909-2884e8c8daaf
STATUS:CONFIRMED
LAST-MODIFIED:20241215T181929Z
DESCRIPTION:Regionsoberliga männl. Jugend E West\nBegegnungs-Nr: 943316\nHeim: HSG Nordhorn e.V.\nGast: SV Sigiltra Sögel\nHalle: Nordhorn\, KSH II Euregium  (803139)\nAdresse: Wilhelm-Raabe-Straße 15\, 48527 Nordhorn (OT Mitte)\n
LOCATION:Nordhorn\, KSH II Euregium  (803139): Wilhelm-Raabe-Straße 15\, 48527 Nordhorn (OT Mitte)
CATEGORIES:Saison 2024/25
END:VEVENT
BEGIN:VEVENT
DTSTAMP:20260419T204949Z
DTSTART;TZID=Europe/Berlin:20240907T110000
DTEND;TZID=Europe/Berlin:20240907T120000
SUMMARY:Vorrunde MJE 7 SV Warsingsfehn vs SV Sigiltra Sögel (945614)
UID:d5ce5ea3-899a-4df6-8711-a0e0cc65d72b
STATUS:CONFIRMED
LAST-MODIFIED:20240908T193759Z
DESCRIPTION:Vorrunde MJE 7\nBegegnungs-Nr: 945614\nHeim: SV Warsingsfehn\nGast: SV Sigiltra Sögel\nHalle: Leer\, BBS (806122)\nAdresse: Parkplatz Emsstraße\, 26789 Leer\n
LOCATION:Leer\, BBS (806122): Parkplatz Emsstraße\, 26789 Leer
CATEGORIES:Saison 2024/25
END:VEVENT
BEGIN:VEVENT
DTSTAMP:20260419T204949Z
DTSTART;TZID=Europe/Berlin:20240825T110000
DTEND;TZID=Europe/Berlin:20240825T120000
SUMMARY:Vorrunde MJE 7 TuRa Marienhafe vs SV Sigiltra Sögel (945602)
UID:253fafbe-e176-48c9-b1a4-6818450b3e24
STATUS:CONFIRMED
LAST-MODIFIED:20240904T115211Z
DESCRIPTION:Vorrunde MJE 7\nBegegnungs-Nr: 945602\nHeim: TuRa Marienhafe\nGast: SV Sigiltra Sögel\nHalle: Aurich-Mitte\, SH (802102)\nAdresse: Am Ellernfeld\, 26603 Aurich (OT Mitte)\n
LOCATION:Aurich-Mitte\, SH (802102): Am Ellernfeld\, 26603 Aurich (OT Mitte)
CATEGORIES:Saison 2024/25
END:VEVENT
BEGIN:VEVENT
DTSTAMP:20260419T204949Z
DTSTART;TZID=Europe/Berlin:20240825T130000
DTEND;TZID=Europe/Berlin:20240825T140000
SUMMARY:Vorrunde MJE 7 JMSG Aurich vs SV Sigiltra Sögel (945604)
UID:82bddb0e-66fe-487a-beaf-64c78971d97d
STATUS:CONFIRMED
LAST-MODIFIED:20240904T115417Z
DESCRIPTION:Vorrunde MJE 7\nBegegnungs-Nr: 945604\nHeim: JMSG Aurich\nGast: SV Sigiltra Sögel\nHalle: Aurich-Mitte\, SH (802102)\nAdresse: Am Ellernfeld\, 26603 Aurich (OT Mitte)\n
LOCATION:Aurich-Mitte\, SH (802102): Am Ellernfeld\, 26603 Aurich (OT Mitte)
CATEGORIES:Saison 2024/25
END:VEVENT
BEGIN:VEVENT
DTSTAMP:20260419T204949Z
DTSTART;TZID=Europe/Berlin:20240825T140000
DTEND;TZID=Europe/Berlin:20240825T150000
SUMMARY:Vorrunde MJE 7 JSG Larrelt/ Pewsum/ Groß Midlum vs SV Sigiltra Sögel (945605)
UID:fa540b83-aa59-4d85-8ac0-433cfc6534f9
STATUS:CONFIRMED
LAST-MODIFIED:20240904T115453Z
DESCRIPTION:Vorrunde MJE 7\nBegegnungs-Nr: 945605\nHeim: JSG Larrelt/ Pewsum/ Groß Midlum\nGast: SV Sigiltra Sögel\nHalle: Aurich-Mitte\, SH (802102)\nAdresse: Am Ellernfeld\, 26603 Aurich (OT Mitte)\n
LOCATION:Aurich-Mitte\, SH (802102): Am Ellernfeld\, 26603 Aurich (OT Mitte)
CATEGORIES:Saison 2024/25
END:VEVENT
BEGIN:VEVENT
DTSTAMP:20260419T204949Z
DTSTART;TZID=Europe/Berlin:20240907T120000
DTEND;TZID=Europe/Berlin:20240907T130000
SUMMARY:Vorrunde MJE 7 TSV Ostrhauderfehn e.V. vs SV Sigiltra Sögel (945615)
UID:0c4e1ded-4034-4657-a999-ed7f17a0a5dc
STATUS:CONFIRMED
LAST-MODIFIED:20240908T193830Z
DESCRIPTION:Vorrunde MJE 7\nBegegnungs-Nr: 945615\nHeim: TSV Ostrhauderfehn e.V.\nGast: SV Sigiltra Sögel\nHalle: Leer\, BBS (806122)\nAdresse: Parkplatz Emsstraße\, 26789 Leer\n
LOCATION:Leer\, BBS (806122): Parkplatz Emsstraße\, 26789 Leer
CATEGORIES:Saison 2024/25
END:VEVENT
BEGIN:VEVENT
DTSTAMP:20260419T204949Z
DTSTART;TZID=Europe/Berlin:20250126T141500
DTEND;TZID=Europe/Berlin:20250126T151500
SUMMARY:Regionsoberliga MJE West TuS Haren vs SV Sigiltra Sögel (943325)
UID:b45c5046-5ad2-4fca-a2c8-04b368343f66
STATUS:CONFIRMED
LAST-MODIFIED:20250127T124123Z
DESCRIPTION:Regionsoberliga männl. Jugend E West\nBegegnungs-Nr: 943325\nHeim: TuS Haren\nGast: SV Sigiltra Sögel\nHalle: Haren\, SZ Jahnstraße  (803117)\nAdresse: Jahnstraße 1\, 49733 Haren\n
LOCATION:Haren\, SZ Jahnstraße  (803117): Jahnstraße 1\, 49733 Haren
CATEGORIES:Saison 2024/25
END:VEVENT
BEGIN:VEVENT
DTSTAMP:20260419T204949Z
DTSTART;TZID=Europe/Berlin:20241027T101500
DTEND;TZID=Europe/Berlin:20241027T111500
SUMMARY:Regionsoberliga MJE West JMSG Aurich vs SV Sigiltra Sögel (943301)
UID:4a4a8271-0d76-47f3-a46a-36d8b4fd473f
STATUS:CONFIRMED
LAST-MODIFIED:20241027T171637Z
DESCRIPTION:Regionsoberliga männl. Jugend E West\nBegegnungs-Nr: 943301\nHeim: JMSG Aurich\nGast: SV Sigiltra Sögel\nHalle: Aurich-Mitte\, SH (802102)\nAdresse: Am Ellernfeld\, 26603 Aurich (OT Mitte)\n
LOCATION:Aurich-Mitte\, SH (802102): Am Ellernfeld\, 26603 Aurich (OT Mitte)
CATEGORIES:Saison 2024/25
END:VEVENT
BEGIN:VEVENT
DTSTAMP:20260419T204949Z
DTSTART;TZID=Europe/Berlin:20250330T143000
DTEND;TZID=Europe/Berlin:20250330T153000
SUMMARY:Regionsoberliga MJE West SG Neuenhaus/Uelsen vs SV Sigiltra Sögel (943341)
UID:ef8d3939-9396-47c0-90d7-f1476d125e40
STATUS:CONFIRMED
LAST-MODIFIED:20250403T182845Z
DESCRIPTION:Regionsoberliga männl. Jugend E West\nBegegnungs-Nr: 943341\nHeim: SG Neuenhaus/Uelsen\nGast: SV Sigiltra Sögel\nHalle: Sportzentrum DinkelDuo Neuenhaus (803178)\nAdresse: Schulstraße 6\, 49828 Neuenhaus\n
LOCATION:Sportzentrum DinkelDuo Neuenhaus (803178): Schulstraße 6\, 49828 Neuenhaus
CATEGORIES:Saison 2024/25
END:VEVENT
BEGIN:VEVENT
DTSTAMP:20260419T204949Z
DTSTART;TZID=Europe/Berlin:20250302T110000
DTEND;TZID=Europe/Berlin:20250302T120000
SUMMARY:Regionsoberliga MJE West SG Lingen-Lohne vs SV Sigiltra Sögel (943334)
UID:c87d9cf4-bde5-4dbe-9621-2f92516767a7
STATUS:CONFIRMED
LAST-MODIFIED:20250302T170003Z
DESCRIPTION:Regionsoberliga männl. Jugend E West\nBegegnungs-Nr: 943334\nHeim: SG Lingen-Lohne\nGast: SV Sigiltra Sögel\nHalle: Lingen-Darme\, Friedensschule  (803124)\nAdresse: Kiesbergstraße 80\, 49809 Lingen (OT Darme)\n
LOCATION:Lingen-Darme\, Friedensschule  (803124): Kiesbergstraße 80\, 49809 Lingen (OT Darme)
CATEGORIES:Saison 2024/25
END:VEVENT
END:VCALENDAR
