BEGIN:VCALENDAR
PRODID:-//nuDatenautomaten//framework iCal4j //DE
VERSION:2.0
CALSCALE:GREGORIAN
BEGIN:VTIMEZONE
TZID:Europe/Berlin
LAST-MODIFIED:20260306T231828Z
TZURL:https://www.tzurl.org/zoneinfo/Europe/Berlin
X-LIC-LOCATION:Europe/Berlin
X-PROLEPTIC-TZNAME:LMT
BEGIN:STANDARD
TZNAME:CET
TZOFFSETFROM:+005328
TZOFFSETTO:+0100
DTSTART:18930401T000000
END:STANDARD
BEGIN:DAYLIGHT
TZNAME:CEST
TZOFFSETFROM:+0100
TZOFFSETTO:+0200
DTSTART:19160430T230000
RDATE:19400401T020000
RDATE:19430329T020000
RDATE:19460414T020000
RDATE:19470406T030000
RDATE:19480418T020000
RDATE:19490410T020000
RDATE:19800406T020000
END:DAYLIGHT
BEGIN:STANDARD
TZNAME:CET
TZOFFSETFROM:+0200
TZOFFSETTO:+0100
DTSTART:19161001T010000
RDATE:19421102T030000
RDATE:19431004T030000
RDATE:19441002T030000
RDATE:19451118T030000
RDATE:19461007T030000
END:STANDARD
BEGIN:DAYLIGHT
TZNAME:CEST
TZOFFSETFROM:+0100
TZOFFSETTO:+0200
DTSTART:19170416T020000
RRULE:FREQ=YEARLY;UNTIL=19180415T010000Z;BYMONTH=4;BYDAY=3MO
END:DAYLIGHT
BEGIN:STANDARD
TZNAME:CET
TZOFFSETFROM:+0200
TZOFFSETTO:+0100
DTSTART:19170917T030000
RRULE:FREQ=YEARLY;UNTIL=19180916T010000Z;BYMONTH=9;BYDAY=3MO
END:STANDARD
BEGIN:DAYLIGHT
TZNAME:CEST
TZOFFSETFROM:+0100
TZOFFSETTO:+0200
DTSTART:19440403T020000
RRULE:FREQ=YEARLY;UNTIL=19450402T010000Z;BYMONTH=4;BYDAY=1MO
END:DAYLIGHT
BEGIN:DAYLIGHT
TZNAME:CEMT
TZOFFSETFROM:+0200
TZOFFSETTO:+0300
DTSTART:19450524T020000
RDATE:19470511T030000
END:DAYLIGHT
BEGIN:DAYLIGHT
TZNAME:CEST
TZOFFSETFROM:+0300
TZOFFSETTO:+0200
DTSTART:19450924T030000
RDATE:19470629T030000
END:DAYLIGHT
BEGIN:STANDARD
TZNAME:CET
TZOFFSETFROM:+0100
TZOFFSETTO:+0100
DTSTART:19460101T000000
RDATE:19800101T000000
END:STANDARD
BEGIN:STANDARD
TZNAME:CET
TZOFFSETFROM:+0200
TZOFFSETTO:+0100
DTSTART:19471005T030000
RRULE:FREQ=YEARLY;UNTIL=19491002T010000Z;BYMONTH=10;BYDAY=1SU
END:STANDARD
BEGIN:STANDARD
TZNAME:CET
TZOFFSETFROM:+0200
TZOFFSETTO:+0100
DTSTART:19800928T030000
RRULE:FREQ=YEARLY;UNTIL=19950924T010000Z;BYMONTH=9;BYDAY=-1SU
END:STANDARD
BEGIN:DAYLIGHT
TZNAME:CEST
TZOFFSETFROM:+0100
TZOFFSETTO:+0200
DTSTART:19810329T020000
RRULE:FREQ=YEARLY;BYMONTH=3;BYDAY=-1SU
END:DAYLIGHT
BEGIN:STANDARD
TZNAME:CET
TZOFFSETFROM:+0200
TZOFFSETTO:+0100
DTSTART:19961027T030000
RRULE:FREQ=YEARLY;BYMONTH=10;BYDAY=-1SU
END:STANDARD
END:VTIMEZONE
BEGIN:VEVENT
DTSTAMP:20260419T185153Z
DTSTART;TZID=Europe/Berlin:20250330T160000
DTEND;TZID=Europe/Berlin:20250330T170000
SUMMARY:Regionsklasse WJD Ost 2 SV Holdorf II vs SV SW Osterfeine II (961842)
UID:1880760f-4321-4eb5-bbae-151b55b58e79
STATUS:CONFIRMED
LAST-MODIFIED:20250331T153815Z
DESCRIPTION:Regionsklasse weibl. D Ost 2\nBegegnungs-Nr: 961842\nHeim: SV Holdorf II\nGast: SV SW Osterfeine II\nHalle: Holdorf\, SZ  (809118)\nAdresse: Große Eschstraße\, 49451 Holdorf\n
LOCATION:Holdorf\, SZ  (809118): Große Eschstraße\, 49451 Holdorf
CATEGORIES:Saison 2024/25
END:VEVENT
BEGIN:VEVENT
DTSTAMP:20260419T185153Z
DTSTART;TZID=Europe/Berlin:20241103T160000
DTEND;TZID=Europe/Berlin:20241103T170000
SUMMARY:Regionsklasse WJD Ost 2 SV Holdorf II vs TV 01 Bohmte II (961805)
UID:817f4c13-5f38-4df7-b0a5-e5e0be1636b6
STATUS:CONFIRMED
LAST-MODIFIED:20241104T164205Z
DESCRIPTION:Regionsklasse weibl. D Ost 2\nBegegnungs-Nr: 961805\nHeim: SV Holdorf II\nGast: TV 01 Bohmte II\nHalle: Holdorf\, SZ  (809118)\nAdresse: Große Eschstraße\, 49451 Holdorf\n
LOCATION:Holdorf\, SZ  (809118): Große Eschstraße\, 49451 Holdorf
CATEGORIES:Saison 2024/25
END:VEVENT
BEGIN:VEVENT
DTSTAMP:20260419T185153Z
DTSTART;TZID=Europe/Berlin:20250302T150000
DTEND;TZID=Europe/Berlin:20250302T160000
SUMMARY:Regionsklasse WJD Ost 2 SV Holdorf II vs HSG Hunte-Aue Löwen (961835)
UID:ca8b7394-8c05-4dfe-9cd6-51c0576a890b
STATUS:CONFIRMED
LAST-MODIFIED:20250304T163039Z
DESCRIPTION:Regionsklasse weibl. D Ost 2\nBegegnungs-Nr: 961835\nHeim: SV Holdorf II\nGast: HSG Hunte-Aue Löwen\nHalle: Holdorf\, SZ  (809118)\nAdresse: Große Eschstraße\, 49451 Holdorf\n
LOCATION:Holdorf\, SZ  (809118): Große Eschstraße\, 49451 Holdorf
CATEGORIES:Saison 2024/25
END:VEVENT
BEGIN:VEVENT
DTSTAMP:20260419T185153Z
DTSTART;TZID=Europe/Berlin:20250209T170000
DTEND;TZID=Europe/Berlin:20250209T180000
SUMMARY:Regionsklasse WJD Ost 2 SV Holdorf II vs TuS FRISIA Goldenstedt (961830)
UID:5797a832-d429-45dd-b607-fbff2470b240
STATUS:CONFIRMED
LAST-MODIFIED:20250211T170954Z
DESCRIPTION:Regionsklasse weibl. D Ost 2\nBegegnungs-Nr: 961830\nHeim: SV Holdorf II\nGast: TuS FRISIA Goldenstedt\nHalle: Holdorf\, SZ  (809118)\nAdresse: Große Eschstraße\, 49451 Holdorf\n
LOCATION:Holdorf\, SZ  (809118): Große Eschstraße\, 49451 Holdorf
CATEGORIES:Saison 2024/25
END:VEVENT
BEGIN:VEVENT
DTSTAMP:20260419T185153Z
DTSTART;TZID=Europe/Berlin:20241027T160000
DTEND;TZID=Europe/Berlin:20241027T170000
SUMMARY:Regionsklasse WJD Ost 2 SV Holdorf II vs SV Rot-Weiß Damme (961803)
UID:b4d73688-fd99-4a7d-9f72-6b43cb563c72
STATUS:CONFIRMED
LAST-MODIFIED:20241027T184837Z
DESCRIPTION:Regionsklasse weibl. D Ost 2\nBegegnungs-Nr: 961803\nHeim: SV Holdorf II\nGast: SV Rot-Weiß Damme\nHalle: Holdorf\, SZ  (809118)\nAdresse: Große Eschstraße\, 49451 Holdorf\n
LOCATION:Holdorf\, SZ  (809118): Große Eschstraße\, 49451 Holdorf
CATEGORIES:Saison 2024/25
END:VEVENT
BEGIN:VEVENT
DTSTAMP:20260419T185153Z
DTSTART;TZID=Europe/Berlin:20240824T100000
DTEND;TZID=Europe/Berlin:20240824T110000
SUMMARY:Regionsliga WJD VR 1 SV Holdorf II vs SV Falke Steinfeld (7)
UID:f24052bd-8507-40b6-a2bd-8d13f85310d1
STATUS:CONFIRMED
LAST-MODIFIED:20240825T093903Z
DESCRIPTION:Regionsliga  weibl. D VR 1\nBegegnungs-Nr: 7\nHeim: SV Holdorf II\nGast: SV Falke Steinfeld\nHalle: Goldenstedt\, SZ  (809116)\nAdresse: An der Marienschule\, 49424 Goldenstedt\n
LOCATION:Goldenstedt\, SZ  (809116): An der Marienschule\, 49424 Goldenstedt
CATEGORIES:Saison 2024/25
END:VEVENT
BEGIN:VEVENT
DTSTAMP:20260419T185153Z
DTSTART;TZID=Europe/Berlin:20240824T120000
DTEND;TZID=Europe/Berlin:20240824T130000
SUMMARY:Regionsliga WJD VR 1 SV Holdorf II vs SV Höltinghausen (9)
UID:6f8d3553-00fa-4d5b-a039-dd44a0547d3a
STATUS:CONFIRMED
LAST-MODIFIED:20240825T094251Z
DESCRIPTION:Regionsliga  weibl. D VR 1\nBegegnungs-Nr: 9\nHeim: SV Holdorf II\nGast: SV Höltinghausen\nHalle: Goldenstedt\, SZ  (809116)\nAdresse: An der Marienschule\, 49424 Goldenstedt\n
LOCATION:Goldenstedt\, SZ  (809116): An der Marienschule\, 49424 Goldenstedt
CATEGORIES:Saison 2024/25
END:VEVENT
BEGIN:VEVENT
DTSTAMP:20260419T185153Z
DTSTART;TZID=Europe/Berlin:20241207T170000
DTEND;TZID=Europe/Berlin:20241207T180000
SUMMARY:Regionsklasse WJD Ost 2 SV Holdorf II vs SV Falke Steinfeld (961816)
UID:114dac3a-f947-4c79-bbb2-8c976593c971
STATUS:CONFIRMED
LAST-MODIFIED:20241208T114718Z
DESCRIPTION:Regionsklasse weibl. D Ost 2\nBegegnungs-Nr: 961816\nHeim: SV Holdorf II\nGast: SV Falke Steinfeld\nHalle: Holdorf\, SZ  (809118)\nAdresse: Große Eschstraße\, 49451 Holdorf\n
LOCATION:Holdorf\, SZ  (809118): Große Eschstraße\, 49451 Holdorf
CATEGORIES:Saison 2024/25
END:VEVENT
BEGIN:VEVENT
DTSTAMP:20260419T185153Z
DTSTART;TZID=Europe/Berlin:20240824T150000
DTEND;TZID=Europe/Berlin:20240824T160000
SUMMARY:Regionsliga WJD VR 1 SV Holdorf II vs TuS FRISIA Goldenstedt II (11)
UID:a1607032-1c07-4a04-86f7-a144d6a411b0
STATUS:CONFIRMED
LAST-MODIFIED:20240825T094704Z
DESCRIPTION:Regionsliga  weibl. D VR 1\nBegegnungs-Nr: 11\nHeim: SV Holdorf II\nGast: TuS FRISIA Goldenstedt II\nHalle: Goldenstedt\, SZ  (809116)\nAdresse: An der Marienschule\, 49424 Goldenstedt\n
LOCATION:Goldenstedt\, SZ  (809116): An der Marienschule\, 49424 Goldenstedt
CATEGORIES:Saison 2024/25
END:VEVENT
BEGIN:VEVENT
DTSTAMP:20260419T185153Z
DTSTART;TZID=Europe/Berlin:20241201T110000
DTEND;TZID=Europe/Berlin:20241201T120000
SUMMARY:Regionsklasse WJD Ost 2 HSG Hunte-Aue Löwen vs SV Holdorf II (961813)
UID:f3663c39-6df5-443f-83fa-9497b2403d19
STATUS:CONFIRMED
LAST-MODIFIED:20241202T170108Z
DESCRIPTION:Regionsklasse weibl. D Ost 2\nBegegnungs-Nr: 961813\nHeim: HSG Hunte-Aue Löwen\nGast: SV Holdorf II\nHalle: Diepholz\, SH Mühlenkamp  (809137)\nAdresse: Moorstraße 39\, 49356 Diepholz\n
LOCATION:Diepholz\, SH Mühlenkamp  (809137): Moorstraße 39\, 49356 Diepholz
CATEGORIES:Saison 2024/25
END:VEVENT
BEGIN:VEVENT
DTSTAMP:20260419T185153Z
DTSTART;TZID=Europe/Berlin:20250126T130000
DTEND;TZID=Europe/Berlin:20250126T140000
SUMMARY:Regionsklasse WJD Ost 2 TV 01 Bohmte II vs SV Holdorf II (961827)
UID:7b4c4b58-924c-4fb3-9a70-e70fc6ec69ce
STATUS:CONFIRMED
LAST-MODIFIED:20250128T193055Z
DESCRIPTION:Regionsklasse weibl. D Ost 2\nBegegnungs-Nr: 961827\nHeim: TV 01 Bohmte II\nGast: SV Holdorf II\nHalle: Bohmte\, SZ  (808125)\nAdresse: Jahnstraße\, 49163 Bohmte\n
LOCATION:Bohmte\, SZ  (808125): Jahnstraße\, 49163 Bohmte
CATEGORIES:Saison 2024/25
END:VEVENT
BEGIN:VEVENT
DTSTAMP:20260419T185153Z
DTSTART;TZID=Europe/Berlin:20250111T143000
DTEND;TZID=Europe/Berlin:20250111T153000
SUMMARY:Regionsklasse WJD Ost 2 SV SW Osterfeine II vs SV Holdorf II (961820)
UID:42fceeee-0c21-4a4b-8073-ab71a169fecb
STATUS:CONFIRMED
LAST-MODIFIED:20250113T162434Z
DESCRIPTION:Regionsklasse weibl. D Ost 2\nBegegnungs-Nr: 961820\nHeim: SV SW Osterfeine II\nGast: SV Holdorf II\nHalle: Damme-Osterfeine\, VSH SWO  (809133)\nAdresse: Klünenberg 11\, 49401 Damme (OT Osterfeine)\n
LOCATION:Damme-Osterfeine\, VSH SWO  (809133): Klünenberg 11\, 49401 Damme (OT Osterfeine)
CATEGORIES:Saison 2024/25
END:VEVENT
BEGIN:VEVENT
DTSTAMP:20260419T185153Z
DTSTART;TZID=Europe/Berlin:20250323T100000
DTEND;TZID=Europe/Berlin:20250323T110000
SUMMARY:Regionsklasse WJD Ost 2 SV Falke Steinfeld vs SV Holdorf II (961839)
UID:45e80131-cff5-4f1e-bb05-a4a90e07b568
STATUS:CONFIRMED
LAST-MODIFIED:20250323T132757Z
DESCRIPTION:Regionsklasse weibl. D Ost 2\nBegegnungs-Nr: 961839\nHeim: SV Falke Steinfeld\nGast: SV Holdorf II\nHalle: Steinfeld\, SZ  (809138)\nAdresse: Am Mühlenbach  5\, 49439 Steinfeld\n
LOCATION:Steinfeld\, SZ  (809138): Am Mühlenbach  5\, 49439 Steinfeld
CATEGORIES:Saison 2024/25
END:VEVENT
BEGIN:VEVENT
DTSTAMP:20260419T185153Z
DTSTART;TZID=Europe/Berlin:20250119T114500
DTEND;TZID=Europe/Berlin:20250119T124500
SUMMARY:Regionsklasse WJD Ost 2 SV Rot-Weiß Damme vs SV Holdorf II (961823)
UID:da8d8928-3791-4952-bf1b-561e021c084f
STATUS:CONFIRMED
LAST-MODIFIED:20250122T194238Z
DESCRIPTION:Regionsklasse weibl. D Ost 2\nBegegnungs-Nr: 961823\nHeim: SV Rot-Weiß Damme\nGast: SV Holdorf II\nHalle: Damme\, HS  (809105)\nAdresse: Schützenstraße 1\, 49401 Damme\n
LOCATION:Damme\, HS  (809105): Schützenstraße 1\, 49401 Damme
CATEGORIES:Saison 2024/25
END:VEVENT
BEGIN:VEVENT
DTSTAMP:20260419T185153Z
DTSTART;TZID=Europe/Berlin:20240908T100000
DTEND;TZID=Europe/Berlin:20240908T110000
SUMMARY:Regionsliga WJD VR 1 SFN Vechta II vs SV Holdorf II (13)
UID:32264db0-8a6e-41a0-80de-e703decd481c
STATUS:CONFIRMED
LAST-MODIFIED:20240908T164610Z
DESCRIPTION:Regionsliga  weibl. D VR 1\nBegegnungs-Nr: 13\nHeim: SFN Vechta II\nGast: SV Holdorf II\nHalle: Holdorf\, SZ  (809118)\nAdresse: Große Eschstraße\, 49451 Holdorf\n
LOCATION:Holdorf\, SZ  (809118): Große Eschstraße\, 49451 Holdorf
CATEGORIES:Saison 2024/25
END:VEVENT
BEGIN:VEVENT
DTSTAMP:20260419T185153Z
DTSTART;TZID=Europe/Berlin:20240908T130000
DTEND;TZID=Europe/Berlin:20240908T140000
SUMMARY:Regionsliga WJD VR 1 TuS BW Lohne II vs SV Holdorf II (16)
UID:b0a5c9a5-3ec0-4eb5-82dc-60136f767b41
STATUS:CONFIRMED
LAST-MODIFIED:20240908T165314Z
DESCRIPTION:Regionsliga  weibl. D VR 1\nBegegnungs-Nr: 16\nHeim: TuS BW Lohne II\nGast: SV Holdorf II\nHalle: Holdorf\, SZ  (809118)\nAdresse: Große Eschstraße\, 49451 Holdorf\n
LOCATION:Holdorf\, SZ  (809118): Große Eschstraße\, 49451 Holdorf
CATEGORIES:Saison 2024/25
END:VEVENT
BEGIN:VEVENT
DTSTAMP:20260419T185153Z
DTSTART;TZID=Europe/Berlin:20240921T110000
DTEND;TZID=Europe/Berlin:20240921T120000
SUMMARY:Regionsliga WJD VR 1 SV SW Osterfeine II vs SV Holdorf II (25)
UID:1a4da0db-c880-454d-b812-60f8f02bbefd
STATUS:CONFIRMED
LAST-MODIFIED:20240922T085259Z
DESCRIPTION:Regionsliga  weibl. D VR 1\nBegegnungs-Nr: 25\nHeim: SV SW Osterfeine II\nGast: SV Holdorf II\nHalle: Steinfeld\, SZ  (809138)\nAdresse: Am Mühlenbach  5\, 49439 Steinfeld\n
LOCATION:Steinfeld\, SZ  (809138): Am Mühlenbach  5\, 49439 Steinfeld
CATEGORIES:Saison 2024/25
END:VEVENT
BEGIN:VEVENT
DTSTAMP:20260419T185153Z
DTSTART;TZID=Europe/Berlin:20240921T130000
DTEND;TZID=Europe/Berlin:20240921T140000
SUMMARY:Regionsliga WJD VR 1 BV Garrel vs SV Holdorf II (28)
UID:e77a500c-24c3-407e-8bc0-2e1ec3343b83
STATUS:CONFIRMED
LAST-MODIFIED:20240922T085423Z
DESCRIPTION:Regionsliga  weibl. D VR 1\nBegegnungs-Nr: 28\nHeim: BV Garrel\nGast: SV Holdorf II\nHalle: Steinfeld\, SZ  (809138)\nAdresse: Am Mühlenbach  5\, 49439 Steinfeld\n
LOCATION:Steinfeld\, SZ  (809138): Am Mühlenbach  5\, 49439 Steinfeld
CATEGORIES:Saison 2024/25
END:VEVENT
BEGIN:VEVENT
DTSTAMP:20260419T185153Z
DTSTART;TZID=Europe/Berlin:20241109T134500
DTEND;TZID=Europe/Berlin:20241109T144500
SUMMARY:Regionsklasse WJD Ost 2 TuS FRISIA Goldenstedt vs SV Holdorf II (961806)
UID:64d523a8-6fe2-49f8-a96b-b07421a44e41
STATUS:CONFIRMED
LAST-MODIFIED:20241113T155533Z
DESCRIPTION:Regionsklasse weibl. D Ost 2\nBegegnungs-Nr: 961806\nHeim: TuS FRISIA Goldenstedt\nGast: SV Holdorf II\nHalle: Goldenstedt\, SZ  (809116)\nAdresse: An der Marienschule\, 49424 Goldenstedt\n
LOCATION:Goldenstedt\, SZ  (809116): An der Marienschule\, 49424 Goldenstedt
CATEGORIES:Saison 2024/25
END:VEVENT
END:VCALENDAR
