BEGIN:VCALENDAR
PRODID:-//nuDatenautomaten//framework iCal4j //DE
VERSION:2.0
CALSCALE:GREGORIAN
BEGIN:VTIMEZONE
TZID:Europe/Berlin
LAST-MODIFIED:20260306T231828Z
TZURL:https://www.tzurl.org/zoneinfo/Europe/Berlin
X-LIC-LOCATION:Europe/Berlin
X-PROLEPTIC-TZNAME:LMT
BEGIN:STANDARD
TZNAME:CET
TZOFFSETFROM:+005328
TZOFFSETTO:+0100
DTSTART:18930401T000000
END:STANDARD
BEGIN:DAYLIGHT
TZNAME:CEST
TZOFFSETFROM:+0100
TZOFFSETTO:+0200
DTSTART:19160430T230000
RDATE:19400401T020000
RDATE:19430329T020000
RDATE:19460414T020000
RDATE:19470406T030000
RDATE:19480418T020000
RDATE:19490410T020000
RDATE:19800406T020000
END:DAYLIGHT
BEGIN:STANDARD
TZNAME:CET
TZOFFSETFROM:+0200
TZOFFSETTO:+0100
DTSTART:19161001T010000
RDATE:19421102T030000
RDATE:19431004T030000
RDATE:19441002T030000
RDATE:19451118T030000
RDATE:19461007T030000
END:STANDARD
BEGIN:DAYLIGHT
TZNAME:CEST
TZOFFSETFROM:+0100
TZOFFSETTO:+0200
DTSTART:19170416T020000
RRULE:FREQ=YEARLY;UNTIL=19180415T010000Z;BYMONTH=4;BYDAY=3MO
END:DAYLIGHT
BEGIN:STANDARD
TZNAME:CET
TZOFFSETFROM:+0200
TZOFFSETTO:+0100
DTSTART:19170917T030000
RRULE:FREQ=YEARLY;UNTIL=19180916T010000Z;BYMONTH=9;BYDAY=3MO
END:STANDARD
BEGIN:DAYLIGHT
TZNAME:CEST
TZOFFSETFROM:+0100
TZOFFSETTO:+0200
DTSTART:19440403T020000
RRULE:FREQ=YEARLY;UNTIL=19450402T010000Z;BYMONTH=4;BYDAY=1MO
END:DAYLIGHT
BEGIN:DAYLIGHT
TZNAME:CEMT
TZOFFSETFROM:+0200
TZOFFSETTO:+0300
DTSTART:19450524T020000
RDATE:19470511T030000
END:DAYLIGHT
BEGIN:DAYLIGHT
TZNAME:CEST
TZOFFSETFROM:+0300
TZOFFSETTO:+0200
DTSTART:19450924T030000
RDATE:19470629T030000
END:DAYLIGHT
BEGIN:STANDARD
TZNAME:CET
TZOFFSETFROM:+0100
TZOFFSETTO:+0100
DTSTART:19460101T000000
RDATE:19800101T000000
END:STANDARD
BEGIN:STANDARD
TZNAME:CET
TZOFFSETFROM:+0200
TZOFFSETTO:+0100
DTSTART:19471005T030000
RRULE:FREQ=YEARLY;UNTIL=19491002T010000Z;BYMONTH=10;BYDAY=1SU
END:STANDARD
BEGIN:STANDARD
TZNAME:CET
TZOFFSETFROM:+0200
TZOFFSETTO:+0100
DTSTART:19800928T030000
RRULE:FREQ=YEARLY;UNTIL=19950924T010000Z;BYMONTH=9;BYDAY=-1SU
END:STANDARD
BEGIN:DAYLIGHT
TZNAME:CEST
TZOFFSETFROM:+0100
TZOFFSETTO:+0200
DTSTART:19810329T020000
RRULE:FREQ=YEARLY;BYMONTH=3;BYDAY=-1SU
END:DAYLIGHT
BEGIN:STANDARD
TZNAME:CET
TZOFFSETFROM:+0200
TZOFFSETTO:+0100
DTSTART:19961027T030000
RRULE:FREQ=YEARLY;BYMONTH=10;BYDAY=-1SU
END:STANDARD
END:VTIMEZONE
BEGIN:VEVENT
DTSTAMP:20260424T113822Z
DTSTART;TZID=Europe/Berlin:20241201T093000
DTEND;TZID=Europe/Berlin:20241201T103000
SUMMARY:Regionsliga MJE Nord   TV Meppen vs TuS Haren II (944007)
UID:4ecefdde-f276-49bc-96bb-8c8596312dcd
STATUS:CONFIRMED
LAST-MODIFIED:20241205T162322Z
DESCRIPTION:Regionsliga männl. Jugend E Nord\nBegegnungs-Nr: 944007\nHeim: TV Meppen\nGast: TuS Haren II\nHalle:  Meppen\, Kardinal-von-Galen-Halle (803135)\nAdresse: Dammstr.\, 49716 Meppen\n
LOCATION: Meppen\, Kardinal-von-Galen-Halle (803135): Dammstr.\, 49716 Meppen
CATEGORIES:Saison 2024/25
END:VEVENT
BEGIN:VEVENT
DTSTAMP:20260424T113822Z
DTSTART;TZID=Europe/Berlin:20250427T113000
DTEND;TZID=Europe/Berlin:20250427T123000
SUMMARY:Regionsliga MJE Nord   TV Meppen vs SV Warsingsfehn (944025)
UID:9c724877-bd69-470e-8788-0bab06eab354
STATUS:CONFIRMED
LAST-MODIFIED:20250503T081217Z
DESCRIPTION:Regionsliga männl. Jugend E Nord\nBegegnungs-Nr: 944025\nHeim: TV Meppen\nGast: SV Warsingsfehn\nHalle: Haren\, SZ Jahnstraße  (803117)\nAdresse: Jahnstraße 1\, 49733 Haren\n
LOCATION:Haren\, SZ Jahnstraße  (803117): Jahnstraße 1\, 49733 Haren
CATEGORIES:Saison 2024/25
END:VEVENT
BEGIN:VEVENT
DTSTAMP:20260424T113822Z
DTSTART;TZID=Europe/Berlin:20250329T110000
DTEND;TZID=Europe/Berlin:20250329T120000
SUMMARY:Regionsliga MJE Nord   TV Meppen vs TuS Haren II (944023)
UID:179954e5-4a8c-47ae-b61e-e57fdd2146a5
STATUS:CONFIRMED
LAST-MODIFIED:20250406T112700Z
DESCRIPTION:Regionsliga männl. Jugend E Nord\nBegegnungs-Nr: 944023\nHeim: TV Meppen\nGast: TuS Haren II\nHalle:  Meppen\, Kardinal-von-Galen-Halle (803135)\nAdresse: Dammstr.\, 49716 Meppen\n
LOCATION: Meppen\, Kardinal-von-Galen-Halle (803135): Dammstr.\, 49716 Meppen
CATEGORIES:Saison 2024/25
END:VEVENT
BEGIN:VEVENT
DTSTAMP:20260424T113822Z
DTSTART;TZID=Europe/Berlin:20240831T110000
DTEND;TZID=Europe/Berlin:20240831T120000
SUMMARY:Vorrunde MJE 6 TV Meppen vs SV Dalum (945510)
UID:536c8cb3-07d7-42f6-a41f-b0f1ed51a942
STATUS:CONFIRMED
LAST-MODIFIED:20240831T174123Z
DESCRIPTION:Vorrunde MJE 6\nBegegnungs-Nr: 945510\nHeim: TV Meppen\nGast: SV Dalum\nHalle: Geeste-Dalum\, SH  (803105)\nAdresse: Am Rathaus/Neuer Diek\, 49744 Geeste (OT Dalum)\n
LOCATION:Geeste-Dalum\, SH  (803105): Am Rathaus/Neuer Diek\, 49744 Geeste (OT Dalum)
CATEGORIES:Saison 2024/25
END:VEVENT
BEGIN:VEVENT
DTSTAMP:20260424T113822Z
DTSTART;TZID=Europe/Berlin:20250118T110000
DTEND;TZID=Europe/Berlin:20250118T120000
SUMMARY:Regionsliga MJE Nord   TV Meppen vs SV Dalum (944012)
UID:b2c3dc33-2877-48d7-a5dc-ebc30e3a36f5
STATUS:CONFIRMED
LAST-MODIFIED:20250118T222732Z
DESCRIPTION:Regionsliga männl. Jugend E Nord\nBegegnungs-Nr: 944012\nHeim: TV Meppen\nGast: SV Dalum\nHalle: Meppen-Altstadt\, Nagelshof I und II  (Stadt-SH)  (803130)\nAdresse: Nagelshof\, 49716 Meppen (OT Altstadt)\n
LOCATION:Meppen-Altstadt\, Nagelshof I und II  (Stadt-SH)  (803130): Nagelshof\, 49716 Meppen (OT Altstadt)
CATEGORIES:Saison 2024/25
END:VEVENT
BEGIN:VEVENT
DTSTAMP:20260424T113822Z
DTSTART;TZID=Europe/Berlin:20250223T120000
DTEND;TZID=Europe/Berlin:20250223T130000
SUMMARY:Regionsliga MJE Nord   TV Meppen vs SV Dalum (944018)
UID:c706374f-90e6-4fe4-9231-bc98ad4a7408
STATUS:CONFIRMED
LAST-MODIFIED:20250224T232234Z
DESCRIPTION:Regionsliga männl. Jugend E Nord\nBegegnungs-Nr: 944018\nHeim: TV Meppen\nGast: SV Dalum\nHalle:  Meppen\, Kardinal-von-Galen-Halle (803135)\nAdresse: Dammstr.\, 49716 Meppen\n
LOCATION: Meppen\, Kardinal-von-Galen-Halle (803135): Dammstr.\, 49716 Meppen
CATEGORIES:Saison 2024/25
END:VEVENT
BEGIN:VEVENT
DTSTAMP:20260424T113822Z
DTSTART;TZID=Europe/Berlin:20240817T100000
DTEND;TZID=Europe/Berlin:20240817T110000
SUMMARY:Vorrunde MJE 6 TV Meppen vs SV Dalum (945501)
UID:9f1370b9-2d4c-4bb7-b12f-2be091ab5934
STATUS:CONFIRMED
LAST-MODIFIED:20240821T074418Z
DESCRIPTION:Vorrunde MJE 6\nBegegnungs-Nr: 945501\nHeim: TV Meppen\nGast: SV Dalum\nHalle:  Meppen\, Kardinal-von-Galen-Halle (803135)\nAdresse: Dammstr.\, 49716 Meppen\n
LOCATION: Meppen\, Kardinal-von-Galen-Halle (803135): Dammstr.\, 49716 Meppen
CATEGORIES:Saison 2024/25
END:VEVENT
BEGIN:VEVENT
DTSTAMP:20260424T113822Z
DTSTART;TZID=Europe/Berlin:20240817T110000
DTEND;TZID=Europe/Berlin:20240817T120000
SUMMARY:Vorrunde MJE 6 TV Meppen vs SG Lingen-Lohne (945502)
UID:f16773b1-be0d-4de1-9837-73ea95c4817d
STATUS:CONFIRMED
LAST-MODIFIED:20240821T074619Z
DESCRIPTION:Vorrunde MJE 6\nBegegnungs-Nr: 945502\nHeim: TV Meppen\nGast: SG Lingen-Lohne\nHalle:  Meppen\, Kardinal-von-Galen-Halle (803135)\nAdresse: Dammstr.\, 49716 Meppen\n
LOCATION: Meppen\, Kardinal-von-Galen-Halle (803135): Dammstr.\, 49716 Meppen
CATEGORIES:Saison 2024/25
END:VEVENT
BEGIN:VEVENT
DTSTAMP:20260424T113822Z
DTSTART;TZID=Europe/Berlin:20240831T100000
DTEND;TZID=Europe/Berlin:20240831T110000
SUMMARY:Vorrunde MJE 6 FC Schüttorf 09 II vs TV Meppen (945509)
UID:0f88224b-f1e6-4919-8323-811111bbc91e
STATUS:CONFIRMED
LAST-MODIFIED:20240831T174031Z
DESCRIPTION:Vorrunde MJE 6\nBegegnungs-Nr: 945509\nHeim: FC Schüttorf 09 II\nGast: TV Meppen\nHalle: Geeste-Dalum\, SH  (803105)\nAdresse: Am Rathaus/Neuer Diek\, 49744 Geeste (OT Dalum)\n
LOCATION:Geeste-Dalum\, SH  (803105): Am Rathaus/Neuer Diek\, 49744 Geeste (OT Dalum)
CATEGORIES:Saison 2024/25
END:VEVENT
BEGIN:VEVENT
DTSTAMP:20260424T113822Z
DTSTART;TZID=Europe/Berlin:20250315T130000
DTEND;TZID=Europe/Berlin:20250315T140000
SUMMARY:Regionsliga MJE Nord   SV Dalum vs TV Meppen (944019)
UID:6077e2f4-64f4-4c84-a979-f45e4c5de9ef
STATUS:CONFIRMED
LAST-MODIFIED:20250317T112557Z
DESCRIPTION:Regionsliga männl. Jugend E Nord\nBegegnungs-Nr: 944019\nHeim: SV Dalum\nGast: TV Meppen\nHalle: Geeste-Dalum\, SH  (803105)\nAdresse: Am Rathaus/Neuer Diek\, 49744 Geeste (OT Dalum)\n
LOCATION:Geeste-Dalum\, SH  (803105): Am Rathaus/Neuer Diek\, 49744 Geeste (OT Dalum)
CATEGORIES:Saison 2024/25
END:VEVENT
BEGIN:VEVENT
DTSTAMP:20260424T113822Z
DTSTART;TZID=Europe/Berlin:20250208T130000
DTEND;TZID=Europe/Berlin:20250208T140000
SUMMARY:Regionsliga MJE Nord   TuS Haren II vs TV Meppen (944015)
UID:1eeaecfd-e1aa-433f-a54c-6f912f3488f5
STATUS:CONFIRMED
LAST-MODIFIED:20250209T105833Z
DESCRIPTION:Regionsliga männl. Jugend E Nord\nBegegnungs-Nr: 944015\nHeim: TuS Haren II\nGast: TV Meppen\nHalle: Haren\, SZ Jahnstraße  (803117)\nAdresse: Jahnstraße 1\, 49733 Haren\n
LOCATION:Haren\, SZ Jahnstraße  (803117): Jahnstraße 1\, 49733 Haren
CATEGORIES:Saison 2024/25
END:VEVENT
BEGIN:VEVENT
DTSTAMP:20260424T113822Z
DTSTART;TZID=Europe/Berlin:20240908T120000
DTEND;TZID=Europe/Berlin:20240908T130000
SUMMARY:Vorrunde MJE 6 TuS Haren vs TV Meppen (945515)
UID:99b020b1-0420-489b-86cc-92c26cb172d0
STATUS:CONFIRMED
LAST-MODIFIED:20240909T134626Z
DESCRIPTION:Vorrunde MJE 6\nBegegnungs-Nr: 945515\nHeim: TuS Haren\nGast: TV Meppen\nHalle: Haren\, SZ Jahnstraße  (803117)\nAdresse: Jahnstraße 1\, 49733 Haren\n
LOCATION:Haren\, SZ Jahnstraße  (803117): Jahnstraße 1\, 49733 Haren
CATEGORIES:Saison 2024/25
END:VEVENT
BEGIN:VEVENT
DTSTAMP:20260424T113822Z
DTSTART;TZID=Europe/Berlin:20241109T100000
DTEND;TZID=Europe/Berlin:20241109T110000
SUMMARY:Regionsliga MJE Nord   SV Dalum vs TV Meppen (944003)
UID:704fef0c-853a-4822-9caa-146d16fdb190
STATUS:CONFIRMED
LAST-MODIFIED:20241112T211607Z
DESCRIPTION:Regionsliga männl. Jugend E Nord\nBegegnungs-Nr: 944003\nHeim: SV Dalum\nGast: TV Meppen\nHalle: Geeste-Dalum\, SH  (803105)\nAdresse: Am Rathaus/Neuer Diek\, 49744 Geeste (OT Dalum)\n
LOCATION:Geeste-Dalum\, SH  (803105): Am Rathaus/Neuer Diek\, 49744 Geeste (OT Dalum)
CATEGORIES:Saison 2024/25
END:VEVENT
BEGIN:VEVENT
DTSTAMP:20260424T113822Z
DTSTART;TZID=Europe/Berlin:20241026T100000
DTEND;TZID=Europe/Berlin:20241026T110000
SUMMARY:Regionsliga MJE Nord   TuS Haren II vs TV Meppen (944001)
UID:4c20c74e-5ee0-4b59-8acf-aebdfe403b90
STATUS:CONFIRMED
LAST-MODIFIED:20241101T090132Z
DESCRIPTION:Regionsliga männl. Jugend E Nord\nBegegnungs-Nr: 944001\nHeim: TuS Haren II\nGast: TV Meppen\nHalle: Haren\, SZ Jahnstraße  (803117)\nAdresse: Jahnstraße 1\, 49733 Haren\n
LOCATION:Haren\, SZ Jahnstraße  (803117): Jahnstraße 1\, 49733 Haren
CATEGORIES:Saison 2024/25
END:VEVENT
BEGIN:VEVENT
DTSTAMP:20260424T113822Z
DTSTART;TZID=Europe/Berlin:20240908T100000
DTEND;TZID=Europe/Berlin:20240908T110000
SUMMARY:Vorrunde MJE 6 HSG Nordhorn e.V. II vs TV Meppen (945513)
UID:ff6a4e20-c4c4-47ea-b8e0-0aac4ae8fe6b
STATUS:CONFIRMED
LAST-MODIFIED:20240909T134456Z
DESCRIPTION:Vorrunde MJE 6\nBegegnungs-Nr: 945513\nHeim: HSG Nordhorn e.V. II\nGast: TV Meppen\nHalle: Haren\, SZ Jahnstraße  (803117)\nAdresse: Jahnstraße 1\, 49733 Haren\n
LOCATION:Haren\, SZ Jahnstraße  (803117): Jahnstraße 1\, 49733 Haren
CATEGORIES:Saison 2024/25
END:VEVENT
END:VCALENDAR
