BEGIN:VCALENDAR
PRODID:-//nuDatenautomaten//framework iCal4j //DE
VERSION:2.0
CALSCALE:GREGORIAN
BEGIN:VTIMEZONE
TZID:Europe/Berlin
LAST-MODIFIED:20260306T231828Z
TZURL:https://www.tzurl.org/zoneinfo/Europe/Berlin
X-LIC-LOCATION:Europe/Berlin
X-PROLEPTIC-TZNAME:LMT
BEGIN:STANDARD
TZNAME:CET
TZOFFSETFROM:+005328
TZOFFSETTO:+0100
DTSTART:18930401T000000
END:STANDARD
BEGIN:DAYLIGHT
TZNAME:CEST
TZOFFSETFROM:+0100
TZOFFSETTO:+0200
DTSTART:19160430T230000
RDATE:19400401T020000
RDATE:19430329T020000
RDATE:19460414T020000
RDATE:19470406T030000
RDATE:19480418T020000
RDATE:19490410T020000
RDATE:19800406T020000
END:DAYLIGHT
BEGIN:STANDARD
TZNAME:CET
TZOFFSETFROM:+0200
TZOFFSETTO:+0100
DTSTART:19161001T010000
RDATE:19421102T030000
RDATE:19431004T030000
RDATE:19441002T030000
RDATE:19451118T030000
RDATE:19461007T030000
END:STANDARD
BEGIN:DAYLIGHT
TZNAME:CEST
TZOFFSETFROM:+0100
TZOFFSETTO:+0200
DTSTART:19170416T020000
RRULE:FREQ=YEARLY;UNTIL=19180415T010000Z;BYMONTH=4;BYDAY=3MO
END:DAYLIGHT
BEGIN:STANDARD
TZNAME:CET
TZOFFSETFROM:+0200
TZOFFSETTO:+0100
DTSTART:19170917T030000
RRULE:FREQ=YEARLY;UNTIL=19180916T010000Z;BYMONTH=9;BYDAY=3MO
END:STANDARD
BEGIN:DAYLIGHT
TZNAME:CEST
TZOFFSETFROM:+0100
TZOFFSETTO:+0200
DTSTART:19440403T020000
RRULE:FREQ=YEARLY;UNTIL=19450402T010000Z;BYMONTH=4;BYDAY=1MO
END:DAYLIGHT
BEGIN:DAYLIGHT
TZNAME:CEMT
TZOFFSETFROM:+0200
TZOFFSETTO:+0300
DTSTART:19450524T020000
RDATE:19470511T030000
END:DAYLIGHT
BEGIN:DAYLIGHT
TZNAME:CEST
TZOFFSETFROM:+0300
TZOFFSETTO:+0200
DTSTART:19450924T030000
RDATE:19470629T030000
END:DAYLIGHT
BEGIN:STANDARD
TZNAME:CET
TZOFFSETFROM:+0100
TZOFFSETTO:+0100
DTSTART:19460101T000000
RDATE:19800101T000000
END:STANDARD
BEGIN:STANDARD
TZNAME:CET
TZOFFSETFROM:+0200
TZOFFSETTO:+0100
DTSTART:19471005T030000
RRULE:FREQ=YEARLY;UNTIL=19491002T010000Z;BYMONTH=10;BYDAY=1SU
END:STANDARD
BEGIN:STANDARD
TZNAME:CET
TZOFFSETFROM:+0200
TZOFFSETTO:+0100
DTSTART:19800928T030000
RRULE:FREQ=YEARLY;UNTIL=19950924T010000Z;BYMONTH=9;BYDAY=-1SU
END:STANDARD
BEGIN:DAYLIGHT
TZNAME:CEST
TZOFFSETFROM:+0100
TZOFFSETTO:+0200
DTSTART:19810329T020000
RRULE:FREQ=YEARLY;BYMONTH=3;BYDAY=-1SU
END:DAYLIGHT
BEGIN:STANDARD
TZNAME:CET
TZOFFSETFROM:+0200
TZOFFSETTO:+0100
DTSTART:19961027T030000
RRULE:FREQ=YEARLY;BYMONTH=10;BYDAY=-1SU
END:STANDARD
END:VTIMEZONE
BEGIN:VEVENT
DTSTAMP:20260419T193334Z
DTSTART;TZID=Europe/Berlin:20250126T120000
DTEND;TZID=Europe/Berlin:20250126T130000
SUMMARY:Regionsliga MD Nord MTV Wisch vs HSG Bützfleth/Drochtersen (30)
UID:2555ac69-0370-47cc-af48-470cfa2da254
STATUS:CONFIRMED
LAST-MODIFIED:20250130T151536Z
DESCRIPTION:Regionsliga männliche Jugend D Nord\nBegegnungs-Nr: 30\nHeim: MTV Wisch\nGast: HSG Bützfleth/Drochtersen\nHalle: Jork\, SH Schulzentrum  (608125)\nAdresse: Schulstraße\, 21635 Jork\n
LOCATION:Jork\, SH Schulzentrum  (608125): Schulstraße\, 21635 Jork
CATEGORIES:Saison 2024/25
END:VEVENT
BEGIN:VEVENT
DTSTAMP:20260419T193334Z
DTSTART;TZID=Europe/Berlin:20241103T121500
DTEND;TZID=Europe/Berlin:20241103T131500
SUMMARY:Regionsliga MD Nord MTV Wisch vs TuS Harsefeld II (5)
UID:8b026241-a216-4eff-96ed-f746a66c2c19
STATUS:CONFIRMED
LAST-MODIFIED:20241105T101333Z
DESCRIPTION:Regionsliga männliche Jugend D Nord\nBegegnungs-Nr: 5\nHeim: MTV Wisch\nGast: TuS Harsefeld II\nHalle: Jork\, SH Schulzentrum  (608125)\nAdresse: Schulstraße\, 21635 Jork\n
LOCATION:Jork\, SH Schulzentrum  (608125): Schulstraße\, 21635 Jork
CATEGORIES:Saison 2024/25
END:VEVENT
BEGIN:VEVENT
DTSTAMP:20260419T193334Z
DTSTART;TZID=Europe/Berlin:20250323T114500
DTEND;TZID=Europe/Berlin:20250323T124500
SUMMARY:Regionsliga MD Nord MTV Wisch vs JSG Fredenbeck/Stade III (51)
UID:eca9f756-eb18-445a-9549-b1fba5822712
STATUS:CONFIRMED
LAST-MODIFIED:20250325T084356Z
DESCRIPTION:Regionsliga männliche Jugend D Nord\nBegegnungs-Nr: 51\nHeim: MTV Wisch\nGast: JSG Fredenbeck/Stade III\nHalle: Jork\, SH Schulzentrum  (608125)\nAdresse: Schulstraße\, 21635 Jork\n
LOCATION:Jork\, SH Schulzentrum  (608125): Schulstraße\, 21635 Jork
CATEGORIES:Saison 2024/25
END:VEVENT
BEGIN:VEVENT
DTSTAMP:20260419T193334Z
DTSTART;TZID=Europe/Berlin:20250112T143000
DTEND;TZID=Europe/Berlin:20250112T153000
SUMMARY:Regionsliga MD Nord MTV Wisch vs JSG Himmelpforten/Oldendorf gem. (15)
UID:6b042621-5ffd-4518-853c-0e64e129ebbb
STATUS:CONFIRMED
LAST-MODIFIED:20250112T203922Z
DESCRIPTION:Regionsliga männliche Jugend D Nord\nBegegnungs-Nr: 15\nHeim: MTV Wisch\nGast: JSG Himmelpforten/Oldendorf gem.\nHalle: Estebrügge\, SH (608145)\nAdresse: Wetternweg\, 21635 Jork-Estebrügge\n
LOCATION:Estebrügge\, SH (608145): Wetternweg\, 21635 Jork-Estebrügge
CATEGORIES:Saison 2024/25
END:VEVENT
BEGIN:VEVENT
DTSTAMP:20260419T193334Z
DTSTART;TZID=Europe/Berlin:20241201T120000
DTEND;TZID=Europe/Berlin:20241201T130000
SUMMARY:Regionsliga MD Nord MTV Wisch vs TSV Bremervörde (19)
UID:f551c3ac-4457-4c01-b815-3d79523e65b6
STATUS:CONFIRMED
LAST-MODIFIED:20241203T112546Z
DESCRIPTION:Regionsliga männliche Jugend D Nord\nBegegnungs-Nr: 19\nHeim: MTV Wisch\nGast: TSV Bremervörde\nHalle: Jork\, SH Schulzentrum  (608125)\nAdresse: Schulstraße\, 21635 Jork\n
LOCATION:Jork\, SH Schulzentrum  (608125): Schulstraße\, 21635 Jork
CATEGORIES:Saison 2024/25
END:VEVENT
BEGIN:VEVENT
DTSTAMP:20260419T193334Z
DTSTART;TZID=Europe/Berlin:20250118T143000
DTEND;TZID=Europe/Berlin:20250118T153000
SUMMARY:Regionsliga MD Nord MTV Wisch vs mJSG Buxtehude/ Beckdorf III (27)
UID:50e919cf-a26f-411f-aa88-78a7929ceefc
STATUS:CONFIRMED
LAST-MODIFIED:20250211T134124Z
DESCRIPTION:Regionsliga männliche Jugend D Nord\nBegegnungs-Nr: 27\nHeim: MTV Wisch\nGast: mJSG Buxtehude/ Beckdorf III\nHalle: Jork\, SH Schulzentrum  (608125)\nAdresse: Schulstraße\, 21635 Jork\n
LOCATION:Jork\, SH Schulzentrum  (608125): Schulstraße\, 21635 Jork
CATEGORIES:Saison 2024/25
END:VEVENT
BEGIN:VEVENT
DTSTAMP:20260419T193334Z
DTSTART;TZID=Europe/Berlin:20250316T110000
DTEND;TZID=Europe/Berlin:20250316T120000
SUMMARY:Regionsliga MD Nord MTV Wisch vs TVV Neu-Wulmstorf II (38)
UID:cca72570-21db-4aad-b84c-4596005df128
STATUS:CONFIRMED
LAST-MODIFIED:20250316T192406Z
DESCRIPTION:Regionsliga männliche Jugend D Nord\nBegegnungs-Nr: 38\nHeim: MTV Wisch\nGast: TVV Neu-Wulmstorf II\nHalle: Jork\, SH Schulzentrum  (608125)\nAdresse: Schulstraße\, 21635 Jork\n
LOCATION:Jork\, SH Schulzentrum  (608125): Schulstraße\, 21635 Jork
CATEGORIES:Saison 2024/25
END:VEVENT
BEGIN:VEVENT
DTSTAMP:20260419T193334Z
DTSTART;TZID=Europe/Berlin:20240928T130000
DTEND;TZID=Europe/Berlin:20240928T140000
SUMMARY:Vorrunde MD Staffel 5 MTV Wisch vs JSG Himmelpforten/Oldendorf gem. (11)
UID:16d71bf6-3807-4d71-94c8-9ad7c1fe2e81
STATUS:CONFIRMED
LAST-MODIFIED:20240930T120848Z
DESCRIPTION:Vorrunde männliche Jugend D Staffel 5\nBegegnungs-Nr: 11\nHeim: MTV Wisch\nGast: JSG Himmelpforten/Oldendorf gem.\nHalle: Neu Wulmstorf\, SH Gymnasium (603116)\nAdresse: Ernst-Moritz-Arndt-Straße 18 (Oberschule) \, 21629 Neu-Wulmstorf\n
LOCATION:Neu Wulmstorf\, SH Gymnasium (603116): Ernst-Moritz-Arndt-Straße 18 (Oberschule) \, 21629 Neu-Wulmstorf
CATEGORIES:Saison 2024/25
END:VEVENT
BEGIN:VEVENT
DTSTAMP:20260419T193334Z
DTSTART;TZID=Europe/Berlin:20240922T112500
DTEND;TZID=Europe/Berlin:20240922T122500
SUMMARY:Vorrunde MD Staffel 5 MTV Wisch vs TuS Harsefeld II (8)
UID:ab1948a3-b95a-4d53-87c3-01bb32cc18cd
STATUS:CONFIRMED
LAST-MODIFIED:20240922T075215Z
DESCRIPTION:Vorrunde männliche Jugend D Staffel 5\nBegegnungs-Nr: 8\nHeim: MTV Wisch\nGast: TuS Harsefeld II\nHalle: Jork\, SH Schulzentrum  (608125)\nAdresse: Schulstraße\, 21635 Jork\n
LOCATION:Jork\, SH Schulzentrum  (608125): Schulstraße\, 21635 Jork
CATEGORIES:Saison 2024/25
END:VEVENT
BEGIN:VEVENT
DTSTAMP:20260419T193334Z
DTSTART;TZID=Europe/Berlin:20240928T142500
DTEND;TZID=Europe/Berlin:20240928T152500
SUMMARY:Vorrunde MD Staffel 5 MTV Wisch vs TVV Neu-Wulmstorf II (13)
UID:0c3fcbb8-349e-4fc7-b468-5a20bdff59fd
STATUS:CONFIRMED
LAST-MODIFIED:20240930T121055Z
DESCRIPTION:Vorrunde männliche Jugend D Staffel 5\nBegegnungs-Nr: 13\nHeim: MTV Wisch\nGast: TVV Neu-Wulmstorf II\nHalle: Neu Wulmstorf\, SH Gymnasium (603116)\nAdresse: Ernst-Moritz-Arndt-Straße 18 (Oberschule) \, 21629 Neu-Wulmstorf\n
LOCATION:Neu Wulmstorf\, SH Gymnasium (603116): Ernst-Moritz-Arndt-Straße 18 (Oberschule) \, 21629 Neu-Wulmstorf
CATEGORIES:Saison 2024/25
END:VEVENT
BEGIN:VEVENT
DTSTAMP:20260419T193334Z
DTSTART;TZID=Europe/Berlin:20250319T181500
DTEND;TZID=Europe/Berlin:20250319T191500
SUMMARY:Regionsliga MD Nord JSG Himmelpforten/Oldendorf gem. vs MTV Wisch (43)
UID:a1957c23-1bda-48a7-8775-2300d5f4dacc
STATUS:CONFIRMED
LAST-MODIFIED:20250320T075602Z
DESCRIPTION:Regionsliga männliche Jugend D Nord\nBegegnungs-Nr: 43\nHeim: JSG Himmelpforten/Oldendorf gem.\nGast: MTV Wisch\nHalle: Himmelpforten\, SH Porta-Coeli-Schule (608114)\nAdresse: Schulstraße 11\, 21709 Himmelpforten\n
LOCATION:Himmelpforten\, SH Porta-Coeli-Schule (608114): Schulstraße 11\, 21709 Himmelpforten
CATEGORIES:Saison 2024/25
END:VEVENT
BEGIN:VEVENT
DTSTAMP:20260419T193334Z
DTSTART;TZID=Europe/Berlin:20250309T130000
DTEND;TZID=Europe/Berlin:20250309T140000
SUMMARY:Regionsliga MD Nord TSV Bremervörde vs MTV Wisch (47)
UID:761f39d8-5e05-4c39-bc9a-6f936979f7ec
STATUS:CONFIRMED
LAST-MODIFIED:20250312T132123Z
DESCRIPTION:Regionsliga männliche Jugend D Nord\nBegegnungs-Nr: 47\nHeim: TSV Bremervörde\nGast: MTV Wisch\nHalle: Bremervörde\, SH Gymnasium (608153)\nAdresse: Tetjus-Tügel-Straße\, 27432 Bremervörde\n
LOCATION:Bremervörde\, SH Gymnasium (608153): Tetjus-Tügel-Straße\, 27432 Bremervörde
CATEGORIES:Saison 2024/25
END:VEVENT
BEGIN:VEVENT
DTSTAMP:20260419T193334Z
DTSTART;TZID=Europe/Berlin:20241109T180000
DTEND;TZID=Europe/Berlin:20241109T190000
SUMMARY:Regionsliga MD Nord TVV Neu-Wulmstorf II vs MTV Wisch (10)
UID:37c6b31e-7ead-4b26-bcf2-8d04c9bc45c9
STATUS:CONFIRMED
LAST-MODIFIED:20241111T103713Z
DESCRIPTION:Regionsliga männliche Jugend D Nord\nBegegnungs-Nr: 10\nHeim: TVV Neu-Wulmstorf II\nGast: MTV Wisch\nHalle: Neu Wulmstorf\, SH Gymnasium (603116)\nAdresse: Ernst-Moritz-Arndt-Straße 18 (Oberschule) \, 21629 Neu-Wulmstorf\n
LOCATION:Neu Wulmstorf\, SH Gymnasium (603116): Ernst-Moritz-Arndt-Straße 18 (Oberschule) \, 21629 Neu-Wulmstorf
CATEGORIES:Saison 2024/25
END:VEVENT
BEGIN:VEVENT
DTSTAMP:20260419T193334Z
DTSTART;TZID=Europe/Berlin:20250330T170000
DTEND;TZID=Europe/Berlin:20250330T180000
SUMMARY:Regionsliga MD Nord mJSG Buxtehude/ Beckdorf III vs MTV Wisch (55)
UID:f73dd9f3-f610-4f3c-9eea-97780cec9db2
STATUS:CONFIRMED
LAST-MODIFIED:20250331T131404Z
DESCRIPTION:Regionsliga männliche Jugend D Nord\nBegegnungs-Nr: 55\nHeim: mJSG Buxtehude/ Beckdorf III\nGast: MTV Wisch\nHalle: Buxtehude\, Halle Nord (608163)\nAdresse: Hansestraße 15\, 21614 Buxtehude\n
LOCATION:Buxtehude\, Halle Nord (608163): Hansestraße 15\, 21614 Buxtehude
CATEGORIES:Saison 2024/25
END:VEVENT
BEGIN:VEVENT
DTSTAMP:20260419T193334Z
DTSTART;TZID=Europe/Berlin:20250208T150000
DTEND;TZID=Europe/Berlin:20250208T160000
SUMMARY:Regionsliga MD Nord TuS Harsefeld II vs MTV Wisch (33)
UID:b22950c7-f701-480e-a9b1-dd69a12d014b
STATUS:CONFIRMED
LAST-MODIFIED:20250212T092905Z
DESCRIPTION:Regionsliga männliche Jugend D Nord\nBegegnungs-Nr: 33\nHeim: TuS Harsefeld II\nGast: MTV Wisch\nHalle: Harsefeld\, Oberschule Jahnstraße (608113)\nAdresse: Jahnstraße\, 21698 Harsefeld\n
LOCATION:Harsefeld\, Oberschule Jahnstraße (608113): Jahnstraße\, 21698 Harsefeld
CATEGORIES:Saison 2024/25
END:VEVENT
BEGIN:VEVENT
DTSTAMP:20260419T193334Z
DTSTART;TZID=Europe/Berlin:20241027T120000
DTEND;TZID=Europe/Berlin:20241027T130000
SUMMARY:Regionsliga MD Nord HSG Bützfleth/Drochtersen vs MTV Wisch (2)
UID:a4accce2-accf-4c80-a638-ec135763e818
STATUS:CONFIRMED
LAST-MODIFIED:20241029T181920Z
DESCRIPTION:Regionsliga männliche Jugend D Nord\nBegegnungs-Nr: 2\nHeim: HSG Bützfleth/Drochtersen\nGast: MTV Wisch\nHalle: Drochtersen\,SH (608107)\nAdresse: Am Sportplatz 19\, 21706 Drochtersen\n
LOCATION:Drochtersen\,SH (608107): Am Sportplatz 19\, 21706 Drochtersen
CATEGORIES:Saison 2024/25
END:VEVENT
BEGIN:VEVENT
DTSTAMP:20260419T193334Z
DTSTART;TZID=Europe/Berlin:20241207T133000
DTEND;TZID=Europe/Berlin:20241207T143000
SUMMARY:Regionsliga MD Nord JSG Fredenbeck/Stade III vs MTV Wisch (23)
UID:bc3dd690-03cd-4421-9ec2-ce7f66f639e2
STATUS:CONFIRMED
LAST-MODIFIED:20241211T091419Z
DESCRIPTION:Regionsliga männliche Jugend D Nord\nBegegnungs-Nr: 23\nHeim: JSG Fredenbeck/Stade III\nGast: MTV Wisch\nHalle: Sportcampus Stade (BCR) (608178)\nAdresse: Harsefelder Landstr. 200\, 21684 Stade\n
LOCATION:Sportcampus Stade (BCR) (608178): Harsefelder Landstr. 200\, 21684 Stade
CATEGORIES:Saison 2024/25
END:VEVENT
BEGIN:VEVENT
DTSTAMP:20260419T193334Z
DTSTART;TZID=Europe/Berlin:20240922T125000
DTEND;TZID=Europe/Berlin:20240922T135000
SUMMARY:Vorrunde MD Staffel 5 HSG Bützfleth/Drochtersen vs MTV Wisch (10)
UID:8abd406f-6073-43fe-bee0-d1ff9bf1f139
STATUS:CONFIRMED
LAST-MODIFIED:20240924T151124Z
DESCRIPTION:Vorrunde männliche Jugend D Staffel 5\nBegegnungs-Nr: 10\nHeim: HSG Bützfleth/Drochtersen\nGast: MTV Wisch\nHalle: Jork\, SH Schulzentrum  (608125)\nAdresse: Schulstraße\, 21635 Jork\n
LOCATION:Jork\, SH Schulzentrum  (608125): Schulstraße\, 21635 Jork
CATEGORIES:Saison 2024/25
END:VEVENT
BEGIN:VEVENT
DTSTAMP:20260419T193334Z
DTSTART;TZID=Europe/Berlin:20240922T103500
DTEND;TZID=Europe/Berlin:20240922T113500
SUMMARY:Vorrunde MD Staffel 5 JSG Fredenbeck/Stade vs MTV Wisch (7)
UID:af1d0e75-198f-449f-81e6-9446b14f30cc
STATUS:CONFIRMED
LAST-MODIFIED:20240924T151033Z
DESCRIPTION:Vorrunde männliche Jugend D Staffel 5\nBegegnungs-Nr: 7\nHeim: JSG Fredenbeck/Stade\nGast: MTV Wisch\nHalle: Jork\, SH Schulzentrum  (608125)\nAdresse: Schulstraße\, 21635 Jork\n
LOCATION:Jork\, SH Schulzentrum  (608125): Schulstraße\, 21635 Jork
CATEGORIES:Saison 2024/25
END:VEVENT
END:VCALENDAR
