BEGIN:VCALENDAR
PRODID:-//nuDatenautomaten//framework iCal4j //DE
VERSION:2.0
CALSCALE:GREGORIAN
BEGIN:VTIMEZONE
TZID:Europe/Berlin
LAST-MODIFIED:20260306T231828Z
TZURL:https://www.tzurl.org/zoneinfo/Europe/Berlin
X-LIC-LOCATION:Europe/Berlin
X-PROLEPTIC-TZNAME:LMT
BEGIN:STANDARD
TZNAME:CET
TZOFFSETFROM:+005328
TZOFFSETTO:+0100
DTSTART:18930401T000000
END:STANDARD
BEGIN:DAYLIGHT
TZNAME:CEST
TZOFFSETFROM:+0100
TZOFFSETTO:+0200
DTSTART:19160430T230000
RDATE:19400401T020000
RDATE:19430329T020000
RDATE:19460414T020000
RDATE:19470406T030000
RDATE:19480418T020000
RDATE:19490410T020000
RDATE:19800406T020000
END:DAYLIGHT
BEGIN:STANDARD
TZNAME:CET
TZOFFSETFROM:+0200
TZOFFSETTO:+0100
DTSTART:19161001T010000
RDATE:19421102T030000
RDATE:19431004T030000
RDATE:19441002T030000
RDATE:19451118T030000
RDATE:19461007T030000
END:STANDARD
BEGIN:DAYLIGHT
TZNAME:CEST
TZOFFSETFROM:+0100
TZOFFSETTO:+0200
DTSTART:19170416T020000
RRULE:FREQ=YEARLY;UNTIL=19180415T010000Z;BYMONTH=4;BYDAY=3MO
END:DAYLIGHT
BEGIN:STANDARD
TZNAME:CET
TZOFFSETFROM:+0200
TZOFFSETTO:+0100
DTSTART:19170917T030000
RRULE:FREQ=YEARLY;UNTIL=19180916T010000Z;BYMONTH=9;BYDAY=3MO
END:STANDARD
BEGIN:DAYLIGHT
TZNAME:CEST
TZOFFSETFROM:+0100
TZOFFSETTO:+0200
DTSTART:19440403T020000
RRULE:FREQ=YEARLY;UNTIL=19450402T010000Z;BYMONTH=4;BYDAY=1MO
END:DAYLIGHT
BEGIN:DAYLIGHT
TZNAME:CEMT
TZOFFSETFROM:+0200
TZOFFSETTO:+0300
DTSTART:19450524T020000
RDATE:19470511T030000
END:DAYLIGHT
BEGIN:DAYLIGHT
TZNAME:CEST
TZOFFSETFROM:+0300
TZOFFSETTO:+0200
DTSTART:19450924T030000
RDATE:19470629T030000
END:DAYLIGHT
BEGIN:STANDARD
TZNAME:CET
TZOFFSETFROM:+0100
TZOFFSETTO:+0100
DTSTART:19460101T000000
RDATE:19800101T000000
END:STANDARD
BEGIN:STANDARD
TZNAME:CET
TZOFFSETFROM:+0200
TZOFFSETTO:+0100
DTSTART:19471005T030000
RRULE:FREQ=YEARLY;UNTIL=19491002T010000Z;BYMONTH=10;BYDAY=1SU
END:STANDARD
BEGIN:STANDARD
TZNAME:CET
TZOFFSETFROM:+0200
TZOFFSETTO:+0100
DTSTART:19800928T030000
RRULE:FREQ=YEARLY;UNTIL=19950924T010000Z;BYMONTH=9;BYDAY=-1SU
END:STANDARD
BEGIN:DAYLIGHT
TZNAME:CEST
TZOFFSETFROM:+0100
TZOFFSETTO:+0200
DTSTART:19810329T020000
RRULE:FREQ=YEARLY;BYMONTH=3;BYDAY=-1SU
END:DAYLIGHT
BEGIN:STANDARD
TZNAME:CET
TZOFFSETFROM:+0200
TZOFFSETTO:+0100
DTSTART:19961027T030000
RRULE:FREQ=YEARLY;BYMONTH=10;BYDAY=-1SU
END:STANDARD
END:VTIMEZONE
BEGIN:VEVENT
DTSTAMP:20260419T122104Z
DTSTART;TZID=Europe/Berlin:20241201T110000
DTEND;TZID=Europe/Berlin:20241201T123000
SUMMARY:Bezirksklasse Staffel West SV Buckenhofen II vs SG Rohr/Pavelsbach II (24024031)
UID:81020f82-8d0b-4c7b-9578-d182b07dc9fa
STATUS:CONFIRMED
LAST-MODIFIED:20250123T121931Z
DESCRIPTION:Bezirksklasse Frauen Staffel West\nBegegnungs-Nr: 24024031\nHeim: SV Buckenhofen II\nGast: SG Rohr/Pavelsbach II\nHalle: Forchheim\, Ehrenbürg-Gymnasium (240103)\nAdresse: Ruhalmstraße 10\, 91301 Forchheim\n
LOCATION:Forchheim\, Ehrenbürg-Gymnasium (240103): Ruhalmstraße 10\, 91301 Forchheim
CATEGORIES:Saison 2024/25
END:VEVENT
BEGIN:VEVENT
DTSTAMP:20260419T122104Z
DTSTART;TZID=Europe/Berlin:20250309T150000
DTEND;TZID=Europe/Berlin:20250309T163000
SUMMARY:Bezirksklasse Staffel West SV Buckenhofen II vs HSG Pyrbaum/Seligenporten II (24024065)
UID:bdaeb1c2-783c-4a91-bb9a-c6124a17de4e
STATUS:CONFIRMED
LAST-MODIFIED:20250311T181938Z
DESCRIPTION:Bezirksklasse Frauen Staffel West\nBegegnungs-Nr: 24024065\nHeim: SV Buckenhofen II\nGast: HSG Pyrbaum/Seligenporten II\nHalle: Forchheim\, Ehrenbürg-Gymnasium (240103)\nAdresse: Ruhalmstraße 10\, 91301 Forchheim\n
LOCATION:Forchheim\, Ehrenbürg-Gymnasium (240103): Ruhalmstraße 10\, 91301 Forchheim
CATEGORIES:Saison 2024/25
END:VEVENT
BEGIN:VEVENT
DTSTAMP:20260419T122104Z
DTSTART;TZID=Europe/Berlin:20240922T130000
DTEND;TZID=Europe/Berlin:20240922T143000
SUMMARY:Bezirksklasse Staffel West SV Buckenhofen II vs DJK SV Berg (24024001)
UID:c425db53-33f1-4ae2-ba9e-08efbd349bc1
STATUS:CONFIRMED
LAST-MODIFIED:20240922T145044Z
DESCRIPTION:Bezirksklasse Frauen Staffel West\nBegegnungs-Nr: 24024001\nHeim: SV Buckenhofen II\nGast: DJK SV Berg\nHalle: Forchheim\, Ehrenbürg-Gymnasium (240103)\nAdresse: Ruhalmstraße 10\, 91301 Forchheim\n
LOCATION:Forchheim\, Ehrenbürg-Gymnasium (240103): Ruhalmstraße 10\, 91301 Forchheim
CATEGORIES:Saison 2024/25
END:VEVENT
BEGIN:VEVENT
DTSTAMP:20260419T122104Z
DTSTART;TZID=Europe/Berlin:20241117T150000
DTEND;TZID=Europe/Berlin:20241117T163000
SUMMARY:Bezirksklasse Staffel West SV Buckenhofen II vs HSG Pyrbaum/Seligenporten III (24024025)
UID:8644325b-0f13-42dc-94b9-d0ef679cadce
STATUS:CONFIRMED
LAST-MODIFIED:20241118T192935Z
DESCRIPTION:Bezirksklasse Frauen Staffel West\nBegegnungs-Nr: 24024025\nHeim: SV Buckenhofen II\nGast: HSG Pyrbaum/Seligenporten III\nHalle: Forchheim\, Ehrenbürg-Gymnasium (240103)\nAdresse: Ruhalmstraße 10\, 91301 Forchheim\n
LOCATION:Forchheim\, Ehrenbürg-Gymnasium (240103): Ruhalmstraße 10\, 91301 Forchheim
CATEGORIES:Saison 2024/25
END:VEVENT
BEGIN:VEVENT
DTSTAMP:20260419T122104Z
DTSTART;TZID=Europe/Berlin:20250119T130000
DTEND;TZID=Europe/Berlin:20250119T143000
SUMMARY:Bezirksklasse Staffel West SV Buckenhofen II vs SG DJK Erlangen/Baiersdorf II (24024042)
UID:1ef74126-e6af-4ece-8a95-651566f91ce1
STATUS:CONFIRMED
LAST-MODIFIED:20250119T162403Z
DESCRIPTION:Bezirksklasse Frauen Staffel West\nBegegnungs-Nr: 24024042\nHeim: SV Buckenhofen II\nGast: SG DJK Erlangen/Baiersdorf II\nHalle: Forchheim\, Ehrenbürg-Gymnasium (240103)\nAdresse: Ruhalmstraße 10\, 91301 Forchheim\n
LOCATION:Forchheim\, Ehrenbürg-Gymnasium (240103): Ruhalmstraße 10\, 91301 Forchheim
CATEGORIES:Saison 2024/25
END:VEVENT
BEGIN:VEVENT
DTSTAMP:20260419T122104Z
DTSTART;TZID=Europe/Berlin:20250323T130000
DTEND;TZID=Europe/Berlin:20250323T143000
SUMMARY:Bezirksklasse Staffel West SV Buckenhofen II vs TSV Winkelhaid (24024072)
UID:90c48ef9-5c9f-4847-9f04-e3934d305c9f
STATUS:CONFIRMED
LAST-MODIFIED:20250323T210528Z
DESCRIPTION:Bezirksklasse Frauen Staffel West\nBegegnungs-Nr: 24024072\nHeim: SV Buckenhofen II\nGast: TSV Winkelhaid\nHalle: Forchheim\, Ehrenbürg-Gymnasium (240103)\nAdresse: Ruhalmstraße 10\, 91301 Forchheim\n
LOCATION:Forchheim\, Ehrenbürg-Gymnasium (240103): Ruhalmstraße 10\, 91301 Forchheim
CATEGORIES:Saison 2024/25
END:VEVENT
BEGIN:VEVENT
DTSTAMP:20260419T122104Z
DTSTART;TZID=Europe/Berlin:20250209T170000
DTEND;TZID=Europe/Berlin:20250209T183000
SUMMARY:Bezirksklasse Staffel West SV Buckenhofen II vs TV Hilpoltstein II (24024052)
UID:7497eb1b-ed85-48fb-bf33-e3b116a87e01
STATUS:CONFIRMED
LAST-MODIFIED:20250313T091301Z
DESCRIPTION:Bezirksklasse Frauen Staffel West\nBegegnungs-Nr: 24024052\nHeim: SV Buckenhofen II\nGast: TV Hilpoltstein II\nHalle: Forchheim\, Ehrenbürg-Gymnasium (240103)\nAdresse: Ruhalmstraße 10\, 91301 Forchheim\n
LOCATION:Forchheim\, Ehrenbürg-Gymnasium (240103): Ruhalmstraße 10\, 91301 Forchheim
CATEGORIES:Saison 2024/25
END:VEVENT
BEGIN:VEVENT
DTSTAMP:20260419T122104Z
DTSTART;TZID=Europe/Berlin:20241006T150000
DTEND;TZID=Europe/Berlin:20241006T163000
SUMMARY:Bezirksklasse Staffel West SV Buckenhofen II vs TV 1881 Altdorf II (24024008)
UID:18a5a6af-3bcd-4f70-a349-31f31436a7e6
STATUS:CONFIRMED
LAST-MODIFIED:20241006T172439Z
DESCRIPTION:Bezirksklasse Frauen Staffel West\nBegegnungs-Nr: 24024008\nHeim: SV Buckenhofen II\nGast: TV 1881 Altdorf II\nHalle: Forchheim\, Sporthalle Realschule (240102)\nAdresse: Pestalozzistraße 2\, 91301 Forchheim\n
LOCATION:Forchheim\, Sporthalle Realschule (240102): Pestalozzistraße 2\, 91301 Forchheim
CATEGORIES:Saison 2024/25
END:VEVENT
BEGIN:VEVENT
DTSTAMP:20260419T122104Z
DTSTART;TZID=Europe/Berlin:20241207T160000
DTEND;TZID=Europe/Berlin:20241207T173000
SUMMARY:Bezirksklasse Staffel West TSV Winkelhaid vs SV Buckenhofen II (24024033)
UID:e30eebf0-a599-4a66-9a25-3a87de4bce8c
STATUS:CONFIRMED
LAST-MODIFIED:20241208T204641Z
DESCRIPTION:Bezirksklasse Frauen Staffel West\nBegegnungs-Nr: 24024033\nHeim: TSV Winkelhaid\nGast: SV Buckenhofen II\nHalle: Winkelhaid\, Dr. Dietmar-Trautmann-Sportanlage (240465)\nAdresse: Sportparkstraße 2\, 90610 Winkelhaid\n
LOCATION:Winkelhaid\, Dr. Dietmar-Trautmann-Sportanlage (240465): Sportparkstraße 2\, 90610 Winkelhaid
CATEGORIES:Saison 2024/25
END:VEVENT
BEGIN:VEVENT
DTSTAMP:20260419T122104Z
DTSTART;TZID=Europe/Berlin:20250125T120000
DTEND;TZID=Europe/Berlin:20250125T133000
SUMMARY:Bezirksklasse Staffel West TV 1881 Altdorf II vs SV Buckenhofen II (24024043)
UID:2a1f6da8-618f-4ba0-95d0-1ce31b0e3920
STATUS:CONFIRMED
LAST-MODIFIED:20250126T175528Z
DESCRIPTION:Bezirksklasse Frauen Staffel West\nBegegnungs-Nr: 24024043\nHeim: TV 1881 Altdorf II\nGast: SV Buckenhofen II\nHalle: Altdorf\, Schulturnhalle Grundschule (neu) (240000)\nAdresse: Hagenhausener Str. 5\, 90518 Altdorf\n
LOCATION:Altdorf\, Schulturnhalle Grundschule (neu) (240000): Hagenhausener Str. 5\, 90518 Altdorf
CATEGORIES:Saison 2024/25
END:VEVENT
BEGIN:VEVENT
DTSTAMP:20260419T122104Z
DTSTART;TZID=Europe/Berlin:20250222T160000
DTEND;TZID=Europe/Berlin:20250222T173000
SUMMARY:Bezirksklasse Staffel West HSG Pyrbaum/Seligenporten III vs SV Buckenhofen II (24024059)
UID:0a1a735d-12ba-466a-8bb4-3b2e37012f17
STATUS:CONFIRMED
LAST-MODIFIED:20250223T115152Z
DESCRIPTION:Bezirksklasse Frauen Staffel West\nBegegnungs-Nr: 24024059\nHeim: HSG Pyrbaum/Seligenporten III\nGast: SV Buckenhofen II\nHalle: Postbauer-Heng\, Schulsporthalle (240320)\nAdresse: Im Centrum 5\, 92353 Postbauer-Heng\n
LOCATION:Postbauer-Heng\, Schulsporthalle (240320): Im Centrum 5\, 92353 Postbauer-Heng
CATEGORIES:Saison 2024/25
END:VEVENT
BEGIN:VEVENT
DTSTAMP:20260419T122104Z
DTSTART;TZID=Europe/Berlin:20241012T180000
DTEND;TZID=Europe/Berlin:20241012T193000
SUMMARY:Bezirksklasse Staffel West TV Hilpoltstein II vs SV Buckenhofen II (24024011)
UID:e2c464fb-7c8e-4941-b1fc-3680fd17b13e
STATUS:CONFIRMED
LAST-MODIFIED:20241012T195731Z
DESCRIPTION:Bezirksklasse Frauen Staffel West\nBegegnungs-Nr: 24024011\nHeim: TV Hilpoltstein II\nGast: SV Buckenhofen II\nHalle: Hilpoltstein\, Sporthalle Gymnasium (240147)\nAdresse: Patersholzer Weg 19\, 91161 Hilpoltstein\n
LOCATION:Hilpoltstein\, Sporthalle Gymnasium (240147): Patersholzer Weg 19\, 91161 Hilpoltstein
CATEGORIES:Saison 2024/25
END:VEVENT
BEGIN:VEVENT
DTSTAMP:20260419T122104Z
DTSTART;TZID=Europe/Berlin:20241123T160000
DTEND;TZID=Europe/Berlin:20241123T173000
SUMMARY:Bezirksklasse Staffel West HSG Pyrbaum/Seligenporten II vs SV Buckenhofen II (24024027)
UID:5e3394b2-665b-4ac9-bfd3-e5f8a5bd306e
STATUS:CONFIRMED
LAST-MODIFIED:20241123T210311Z
DESCRIPTION:Bezirksklasse Frauen Staffel West\nBegegnungs-Nr: 24024027\nHeim: HSG Pyrbaum/Seligenporten II\nGast: SV Buckenhofen II\nHalle: Postbauer-Heng\, Schulsporthalle (240320)\nAdresse: Im Centrum 5\, 92353 Postbauer-Heng\n
LOCATION:Postbauer-Heng\, Schulsporthalle (240320): Im Centrum 5\, 92353 Postbauer-Heng
CATEGORIES:Saison 2024/25
END:VEVENT
BEGIN:VEVENT
DTSTAMP:20260419T122104Z
DTSTART;TZID=Europe/Berlin:20250112T174500
DTEND;TZID=Europe/Berlin:20250112T191500
SUMMARY:Bezirksklasse Staffel West DJK SV Berg vs SV Buckenhofen II (24024039)
UID:2a319121-7c07-43e9-ada4-f2512b782180
STATUS:CONFIRMED
LAST-MODIFIED:20250116T081739Z
DESCRIPTION:Bezirksklasse Frauen Staffel West\nBegegnungs-Nr: 24024039\nHeim: DJK SV Berg\nGast: SV Buckenhofen II\nHalle: Berg\, Schulturnhalle (240027)\nAdresse: Schulstr. 9\, 92348 Berg\n
LOCATION:Berg\, Schulturnhalle (240027): Schulstr. 9\, 92348 Berg
CATEGORIES:Saison 2024/25
END:VEVENT
BEGIN:VEVENT
DTSTAMP:20260419T122104Z
DTSTART;TZID=Europe/Berlin:20240929T110000
DTEND;TZID=Europe/Berlin:20240929T123000
SUMMARY:Bezirksklasse Staffel West SG DJK Erlangen/Baiersdorf II vs SV Buckenhofen II (24024005)
UID:05607fd9-d98a-49a9-bc3b-daa2babafbd0
STATUS:CONFIRMED
LAST-MODIFIED:20240930T151154Z
DESCRIPTION:Bezirksklasse Frauen Staffel West\nBegegnungs-Nr: 24024005\nHeim: SG DJK Erlangen/Baiersdorf II\nGast: SV Buckenhofen II\nHalle: Erlangen\, Sporthalle am Europakanal (240083)\nAdresse: Schallershoferstraße 20\, 91056 Erlangen\n
LOCATION:Erlangen\, Sporthalle am Europakanal (240083): Schallershoferstraße 20\, 91056 Erlangen
CATEGORIES:Saison 2024/25
END:VEVENT
END:VCALENDAR
