BEGIN:VCALENDAR
PRODID:-//nuDatenautomaten//framework iCal4j //DE
VERSION:2.0
CALSCALE:GREGORIAN
BEGIN:VTIMEZONE
TZID:Europe/Berlin
LAST-MODIFIED:20260306T231828Z
TZURL:https://www.tzurl.org/zoneinfo/Europe/Berlin
X-LIC-LOCATION:Europe/Berlin
X-PROLEPTIC-TZNAME:LMT
BEGIN:STANDARD
TZNAME:CET
TZOFFSETFROM:+005328
TZOFFSETTO:+0100
DTSTART:18930401T000000
END:STANDARD
BEGIN:DAYLIGHT
TZNAME:CEST
TZOFFSETFROM:+0100
TZOFFSETTO:+0200
DTSTART:19160430T230000
RDATE:19400401T020000
RDATE:19430329T020000
RDATE:19460414T020000
RDATE:19470406T030000
RDATE:19480418T020000
RDATE:19490410T020000
RDATE:19800406T020000
END:DAYLIGHT
BEGIN:STANDARD
TZNAME:CET
TZOFFSETFROM:+0200
TZOFFSETTO:+0100
DTSTART:19161001T010000
RDATE:19421102T030000
RDATE:19431004T030000
RDATE:19441002T030000
RDATE:19451118T030000
RDATE:19461007T030000
END:STANDARD
BEGIN:DAYLIGHT
TZNAME:CEST
TZOFFSETFROM:+0100
TZOFFSETTO:+0200
DTSTART:19170416T020000
RRULE:FREQ=YEARLY;UNTIL=19180415T010000Z;BYMONTH=4;BYDAY=3MO
END:DAYLIGHT
BEGIN:STANDARD
TZNAME:CET
TZOFFSETFROM:+0200
TZOFFSETTO:+0100
DTSTART:19170917T030000
RRULE:FREQ=YEARLY;UNTIL=19180916T010000Z;BYMONTH=9;BYDAY=3MO
END:STANDARD
BEGIN:DAYLIGHT
TZNAME:CEST
TZOFFSETFROM:+0100
TZOFFSETTO:+0200
DTSTART:19440403T020000
RRULE:FREQ=YEARLY;UNTIL=19450402T010000Z;BYMONTH=4;BYDAY=1MO
END:DAYLIGHT
BEGIN:DAYLIGHT
TZNAME:CEMT
TZOFFSETFROM:+0200
TZOFFSETTO:+0300
DTSTART:19450524T020000
RDATE:19470511T030000
END:DAYLIGHT
BEGIN:DAYLIGHT
TZNAME:CEST
TZOFFSETFROM:+0300
TZOFFSETTO:+0200
DTSTART:19450924T030000
RDATE:19470629T030000
END:DAYLIGHT
BEGIN:STANDARD
TZNAME:CET
TZOFFSETFROM:+0100
TZOFFSETTO:+0100
DTSTART:19460101T000000
RDATE:19800101T000000
END:STANDARD
BEGIN:STANDARD
TZNAME:CET
TZOFFSETFROM:+0200
TZOFFSETTO:+0100
DTSTART:19471005T030000
RRULE:FREQ=YEARLY;UNTIL=19491002T010000Z;BYMONTH=10;BYDAY=1SU
END:STANDARD
BEGIN:STANDARD
TZNAME:CET
TZOFFSETFROM:+0200
TZOFFSETTO:+0100
DTSTART:19800928T030000
RRULE:FREQ=YEARLY;UNTIL=19950924T010000Z;BYMONTH=9;BYDAY=-1SU
END:STANDARD
BEGIN:DAYLIGHT
TZNAME:CEST
TZOFFSETFROM:+0100
TZOFFSETTO:+0200
DTSTART:19810329T020000
RRULE:FREQ=YEARLY;BYMONTH=3;BYDAY=-1SU
END:DAYLIGHT
BEGIN:STANDARD
TZNAME:CET
TZOFFSETFROM:+0200
TZOFFSETTO:+0100
DTSTART:19961027T030000
RRULE:FREQ=YEARLY;BYMONTH=10;BYDAY=-1SU
END:STANDARD
END:VTIMEZONE
BEGIN:VEVENT
DTSTAMP:20260422T104302Z
DTSTART;TZID=Europe/Berlin:20240908T160000
DTEND;TZID=Europe/Berlin:20240908T170000
SUMMARY:Landesliga MJB TV Meppen vs TV Cloppenburg (908005)
UID:a77835bb-a0d3-40ef-9401-2608a0e38c78
STATUS:CONFIRMED
LAST-MODIFIED:20240912T080037Z
DESCRIPTION:Landesliga männl. Jugend B\nBegegnungs-Nr: 908005\nHeim: TV Meppen\nGast: TV Cloppenburg\nHalle: Meppen-Altstadt\, Nagelshof I und II  (Stadt-SH)  (803130)\nAdresse: Nagelshof\, 49716 Meppen (OT Altstadt)\n
LOCATION:Meppen-Altstadt\, Nagelshof I und II  (Stadt-SH)  (803130): Nagelshof\, 49716 Meppen (OT Altstadt)
CATEGORIES:Saison 2024/25
END:VEVENT
BEGIN:VEVENT
DTSTAMP:20260422T104302Z
DTSTART;TZID=Europe/Berlin:20250305T190000
DTEND;TZID=Europe/Berlin:20250305T200000
SUMMARY:Landesliga MJB TV Meppen vs SFN Vechta (908064)
UID:600632c5-b713-4410-99a4-902403e34b37
STATUS:CONFIRMED
LAST-MODIFIED:20250311T100333Z
DESCRIPTION:Landesliga männl. Jugend B\nBegegnungs-Nr: 908064\nHeim: TV Meppen\nGast: SFN Vechta\nHalle: Meppen-Altstadt\, Nagelshof I und II  (Stadt-SH)  (803130)\nAdresse: Nagelshof\, 49716 Meppen (OT Altstadt)\n
LOCATION:Meppen-Altstadt\, Nagelshof I und II  (Stadt-SH)  (803130): Nagelshof\, 49716 Meppen (OT Altstadt)
CATEGORIES:Saison 2024/25
END:VEVENT
BEGIN:VEVENT
DTSTAMP:20260422T104302Z
DTSTART;TZID=Europe/Berlin:20250118T154500
DTEND;TZID=Europe/Berlin:20250118T164500
SUMMARY:Landesliga MJB TV Meppen vs TuRa Marienhafe (908052)
UID:37cf4ac1-0d8d-409a-aaf1-e92a3fcb6ce6
STATUS:CONFIRMED
LAST-MODIFIED:20250121T094634Z
DESCRIPTION:Landesliga männl. Jugend B\nBegegnungs-Nr: 908052\nHeim: TV Meppen\nGast: TuRa Marienhafe\nHalle: Meppen-Altstadt\, Nagelshof I und II  (Stadt-SH)  (803130)\nAdresse: Nagelshof\, 49716 Meppen (OT Altstadt)\n
LOCATION:Meppen-Altstadt\, Nagelshof I und II  (Stadt-SH)  (803130): Nagelshof\, 49716 Meppen (OT Altstadt)
CATEGORIES:Saison 2024/25
END:VEVENT
BEGIN:VEVENT
DTSTAMP:20260422T104302Z
DTSTART;TZID=Europe/Berlin:20250222T160000
DTEND;TZID=Europe/Berlin:20250222T170000
SUMMARY:Landesliga MJB TV Meppen vs TV Georgsmarienhütte (908036)
UID:182627b6-3557-4e7c-a5b4-995a5c332c7b
STATUS:CONFIRMED
LAST-MODIFIED:20250228T080655Z
DESCRIPTION:Landesliga männl. Jugend B\nBegegnungs-Nr: 908036\nHeim: TV Meppen\nGast: TV Georgsmarienhütte\nHalle: Meppen-Altstadt\, Nagelshof I und II  (Stadt-SH)  (803130)\nAdresse: Nagelshof\, 49716 Meppen (OT Altstadt)\n
LOCATION:Meppen-Altstadt\, Nagelshof I und II  (Stadt-SH)  (803130): Nagelshof\, 49716 Meppen (OT Altstadt)
CATEGORIES:Saison 2024/25
END:VEVENT
BEGIN:VEVENT
DTSTAMP:20260422T104302Z
DTSTART;TZID=Europe/Berlin:20250322T160000
DTEND;TZID=Europe/Berlin:20250322T170000
SUMMARY:Landesliga MJB TV Meppen vs TV Bissendorf-Holte II (908086)
UID:88371b37-b094-4e7b-aa13-408466adaab8
STATUS:CONFIRMED
LAST-MODIFIED:20250325T100654Z
DESCRIPTION:Landesliga männl. Jugend B\nBegegnungs-Nr: 908086\nHeim: TV Meppen\nGast: TV Bissendorf-Holte II\nHalle: Meppen-Altstadt\, Nagelshof I und II  (Stadt-SH)  (803130)\nAdresse: Nagelshof\, 49716 Meppen (OT Altstadt)\n
LOCATION:Meppen-Altstadt\, Nagelshof I und II  (Stadt-SH)  (803130): Nagelshof\, 49716 Meppen (OT Altstadt)
CATEGORIES:Saison 2024/25
END:VEVENT
BEGIN:VEVENT
DTSTAMP:20260422T104302Z
DTSTART;TZID=Europe/Berlin:20250302T150000
DTEND;TZID=Europe/Berlin:20250302T160000
SUMMARY:Landesliga MJB TV Meppen vs TuS Bramsche (908075)
UID:224c420b-19e6-458b-8e89-81a7f33e3f19
STATUS:CONFIRMED
LAST-MODIFIED:20250304T100420Z
DESCRIPTION:Landesliga männl. Jugend B\nBegegnungs-Nr: 908075\nHeim: TV Meppen\nGast: TuS Bramsche\nHalle: Meppen-Altstadt\, Nagelshof I und II  (Stadt-SH)  (803130)\nAdresse: Nagelshof\, 49716 Meppen (OT Altstadt)\n
LOCATION:Meppen-Altstadt\, Nagelshof I und II  (Stadt-SH)  (803130): Nagelshof\, 49716 Meppen (OT Altstadt)
CATEGORIES:Saison 2024/25
END:VEVENT
BEGIN:VEVENT
DTSTAMP:20260422T104302Z
DTSTART;TZID=Europe/Berlin:20241117T170000
DTEND;TZID=Europe/Berlin:20241117T180000
SUMMARY:Landesliga MJB TV Meppen vs HSG Emden (908035)
UID:db766be8-5a15-4ae4-8262-66d7a96d4767
STATUS:CONFIRMED
LAST-MODIFIED:20241119T112027Z
DESCRIPTION:Landesliga männl. Jugend B\nBegegnungs-Nr: 908035\nHeim: TV Meppen\nGast: HSG Emden\nHalle: Meppen-Altstadt\, Nagelshof I und II  (Stadt-SH)  (803130)\nAdresse: Nagelshof\, 49716 Meppen (OT Altstadt)\n
LOCATION:Meppen-Altstadt\, Nagelshof I und II  (Stadt-SH)  (803130): Nagelshof\, 49716 Meppen (OT Altstadt)
CATEGORIES:Saison 2024/25
END:VEVENT
BEGIN:VEVENT
DTSTAMP:20260422T104302Z
DTSTART;TZID=Europe/Berlin:20241026T180000
DTEND;TZID=Europe/Berlin:20241026T190000
SUMMARY:Landesliga MJB TV Meppen vs SV Quitt Ankum (908024)
UID:ece044d9-27cc-4f24-b1ab-3e67e3948768
STATUS:CONFIRMED
LAST-MODIFIED:20241030T090015Z
DESCRIPTION:Landesliga männl. Jugend B\nBegegnungs-Nr: 908024\nHeim: TV Meppen\nGast: SV Quitt Ankum\nHalle: Meppen-Altstadt\, Nagelshof I und II  (Stadt-SH)  (803130)\nAdresse: Nagelshof\, 49716 Meppen (OT Altstadt)\n
LOCATION:Meppen-Altstadt\, Nagelshof I und II  (Stadt-SH)  (803130): Nagelshof\, 49716 Meppen (OT Altstadt)
CATEGORIES:Saison 2024/25
END:VEVENT
BEGIN:VEVENT
DTSTAMP:20260422T104302Z
DTSTART;TZID=Europe/Berlin:20240922T163000
DTEND;TZID=Europe/Berlin:20240922T173000
SUMMARY:Landesliga MJB TV Meppen vs FC Schüttorf 09 (908015)
UID:f8ca2ba6-ba38-47ff-8247-8ae4d42f251c
STATUS:CONFIRMED
LAST-MODIFIED:20241008T070754Z
DESCRIPTION:Landesliga männl. Jugend B\nBegegnungs-Nr: 908015\nHeim: TV Meppen\nGast: FC Schüttorf 09\nHalle: Meppen-Altstadt\, Nagelshof I und II  (Stadt-SH)  (803130)\nAdresse: Nagelshof\, 49716 Meppen (OT Altstadt)\n
LOCATION:Meppen-Altstadt\, Nagelshof I und II  (Stadt-SH)  (803130): Nagelshof\, 49716 Meppen (OT Altstadt)
CATEGORIES:Saison 2024/25
END:VEVENT
BEGIN:VEVENT
DTSTAMP:20260422T104302Z
DTSTART;TZID=Europe/Berlin:20241130T174500
DTEND;TZID=Europe/Berlin:20241130T184500
SUMMARY:Landesliga MJB TV Bissendorf-Holte II vs TV Meppen (908038)
UID:53683090-d4ec-4e29-86cb-1a47d510e005
STATUS:CONFIRMED
LAST-MODIFIED:20241205T075734Z
DESCRIPTION:Landesliga männl. Jugend B\nBegegnungs-Nr: 908038\nHeim: TV Bissendorf-Holte II\nGast: TV Meppen\nHalle: Bissendorf\, SH (808121)\nAdresse: Werscher Straße 24\, 49143 Bissendorf\n
LOCATION:Bissendorf\, SH (808121): Werscher Straße 24\, 49143 Bissendorf
CATEGORIES:Saison 2024/25
END:VEVENT
BEGIN:VEVENT
DTSTAMP:20260422T104302Z
DTSTART;TZID=Europe/Berlin:20241103T131500
DTEND;TZID=Europe/Berlin:20241103T141500
SUMMARY:Landesliga MJB TuS Bramsche vs TV Meppen (908030)
UID:57127664-8268-4065-b121-a1cb0cf6b2dd
STATUS:CONFIRMED
LAST-MODIFIED:20241105T084108Z
DESCRIPTION:Landesliga männl. Jugend B\nBegegnungs-Nr: 908030\nHeim: TuS Bramsche\nGast: TV Meppen\nHalle: Sporthalle Bramsche IGS (808128)\nAdresse: Malgartener Straße 58\, 49565 Bramsche\n
LOCATION:Sporthalle Bramsche IGS (808128): Malgartener Straße 58\, 49565 Bramsche
CATEGORIES:Saison 2024/25
END:VEVENT
BEGIN:VEVENT
DTSTAMP:20260422T104302Z
DTSTART;TZID=Europe/Berlin:20250111T164500
DTEND;TZID=Europe/Berlin:20250111T174500
SUMMARY:Landesliga MJB TV Cloppenburg vs TV Meppen (908046)
UID:38387449-af14-41a9-8097-9670d2439560
STATUS:CONFIRMED
LAST-MODIFIED:20250115T075859Z
DESCRIPTION:Landesliga männl. Jugend B\nBegegnungs-Nr: 908046\nHeim: TV Cloppenburg\nGast: TV Meppen\nHalle: Cloppenburg\, TVC-SH  (809102)\nAdresse: Schulstraße\, 49661 Cloppenburg\n
LOCATION:Cloppenburg\, TVC-SH  (809102): Schulstraße\, 49661 Cloppenburg
CATEGORIES:Saison 2024/25
END:VEVENT
BEGIN:VEVENT
DTSTAMP:20260422T104302Z
DTSTART;TZID=Europe/Berlin:20250215T174500
DTEND;TZID=Europe/Berlin:20250215T184500
SUMMARY:Landesliga MJB SV Quitt Ankum vs TV Meppen (908068)
UID:f6d25b0b-a11a-4c3c-b3fe-6e088b60473a
STATUS:CONFIRMED
LAST-MODIFIED:20250219T090858Z
DESCRIPTION:Landesliga männl. Jugend B\nBegegnungs-Nr: 908068\nHeim: SV Quitt Ankum\nGast: TV Meppen\nHalle: Ankum\, Ballsporthalle  (808154)\nAdresse: Am Kattenboll\, 49577 Ankum\n
LOCATION:Ankum\, Ballsporthalle  (808154): Am Kattenboll\, 49577 Ankum
CATEGORIES:Saison 2024/25
END:VEVENT
BEGIN:VEVENT
DTSTAMP:20260422T104302Z
DTSTART;TZID=Europe/Berlin:20250126T170000
DTEND;TZID=Europe/Berlin:20250126T180000
SUMMARY:Landesliga MJB FC Schüttorf 09 vs TV Meppen (908060)
UID:4cbb78da-b73b-4823-a586-4e5a33d417c9
STATUS:CONFIRMED
LAST-MODIFIED:20250128T083308Z
DESCRIPTION:Landesliga männl. Jugend B\nBegegnungs-Nr: 908060\nHeim: FC Schüttorf 09\nGast: TV Meppen\nHalle: Schüttorf\, SH Jahn (803150)\nAdresse: Jahnstraße\, 48465 Schüttorf\n
LOCATION:Schüttorf\, SH Jahn (803150): Jahnstraße\, 48465 Schüttorf
CATEGORIES:Saison 2024/25
END:VEVENT
BEGIN:VEVENT
DTSTAMP:20260422T104302Z
DTSTART;TZID=Europe/Berlin:20250315T170000
DTEND;TZID=Europe/Berlin:20250315T180000
SUMMARY:Landesliga MJB HSG Emden vs TV Meppen (908078)
UID:355c92f5-9775-4d09-8207-8c3354220711
STATUS:CONFIRMED
LAST-MODIFIED:20250318T075943Z
DESCRIPTION:Landesliga männl. Jugend B\nBegegnungs-Nr: 908078\nHeim: HSG Emden\nGast: TV Meppen\nHalle: Emden\, SH BBS II (806109)\nAdresse: Steinweg\, 26721 Emden\n
LOCATION:Emden\, SH BBS II (806109): Steinweg\, 26721 Emden
CATEGORIES:Saison 2024/25
END:VEVENT
BEGIN:VEVENT
DTSTAMP:20260422T104302Z
DTSTART;TZID=Europe/Berlin:20250309T113000
DTEND;TZID=Europe/Berlin:20250309T123000
SUMMARY:Landesliga MJB TV Georgsmarienhütte vs TV Meppen (908076)
UID:47196d28-f27b-431e-a4f4-c833179b76e6
STATUS:CONFIRMED
LAST-MODIFIED:20250311T100459Z
DESCRIPTION:Landesliga männl. Jugend B\nBegegnungs-Nr: 908076\nHeim: TV Georgsmarienhütte\nGast: TV Meppen\nHalle: Georgsmarienhütte\, SZ  (808132)\nAdresse: Carl-Stahmer-Weg 16\, 49124 Georgsmarienhütte\n
LOCATION:Georgsmarienhütte\, SZ  (808132): Carl-Stahmer-Weg 16\, 49124 Georgsmarienhütte
CATEGORIES:Saison 2024/25
END:VEVENT
BEGIN:VEVENT
DTSTAMP:20260422T104302Z
DTSTART;TZID=Europe/Berlin:20240928T130000
DTEND;TZID=Europe/Berlin:20240928T140000
SUMMARY:Landesliga MJB SFN Vechta vs TV Meppen (908016)
UID:bb09eed8-f72e-4713-ac08-b76a0d82c592
STATUS:CONFIRMED
LAST-MODIFIED:20241008T070855Z
DESCRIPTION:Landesliga männl. Jugend B\nBegegnungs-Nr: 908016\nHeim: SFN Vechta\nGast: TV Meppen\nHalle: Vechta-West\, SH  (809140)\nAdresse: Brüsseler Str. 37\, 49377 Vechta\n
LOCATION:Vechta-West\, SH  (809140): Brüsseler Str. 37\, 49377 Vechta
CATEGORIES:Saison 2024/25
END:VEVENT
BEGIN:VEVENT
DTSTAMP:20260422T104302Z
DTSTART;TZID=Europe/Berlin:20250330T140000
DTEND;TZID=Europe/Berlin:20250330T150000
SUMMARY:Landesliga MJB TuRa Marienhafe vs TV Meppen (908006)
UID:f57b2709-693e-4669-ac61-91b6b4ac1a5d
STATUS:CONFIRMED
LAST-MODIFIED:20250401T082856Z
DESCRIPTION:Landesliga männl. Jugend B\nBegegnungs-Nr: 908006\nHeim: TuRa Marienhafe\nGast: TV Meppen\nHalle: Marienhafe\, Kurt - Knippelmeyer-SH (802128)\nAdresse: Speckweg\, 26529 Marienhafe\n
LOCATION:Marienhafe\, Kurt - Knippelmeyer-SH (802128): Speckweg\, 26529 Marienhafe
CATEGORIES:Saison 2024/25
END:VEVENT
END:VCALENDAR
