BEGIN:VCALENDAR
PRODID:-//nuDatenautomaten//framework iCal4j //DE
VERSION:2.0
CALSCALE:GREGORIAN
BEGIN:VTIMEZONE
TZID:Europe/Berlin
LAST-MODIFIED:20260306T231828Z
TZURL:https://www.tzurl.org/zoneinfo/Europe/Berlin
X-LIC-LOCATION:Europe/Berlin
X-PROLEPTIC-TZNAME:LMT
BEGIN:STANDARD
TZNAME:CET
TZOFFSETFROM:+005328
TZOFFSETTO:+0100
DTSTART:18930401T000000
END:STANDARD
BEGIN:DAYLIGHT
TZNAME:CEST
TZOFFSETFROM:+0100
TZOFFSETTO:+0200
DTSTART:19160430T230000
RDATE:19400401T020000
RDATE:19430329T020000
RDATE:19460414T020000
RDATE:19470406T030000
RDATE:19480418T020000
RDATE:19490410T020000
RDATE:19800406T020000
END:DAYLIGHT
BEGIN:STANDARD
TZNAME:CET
TZOFFSETFROM:+0200
TZOFFSETTO:+0100
DTSTART:19161001T010000
RDATE:19421102T030000
RDATE:19431004T030000
RDATE:19441002T030000
RDATE:19451118T030000
RDATE:19461007T030000
END:STANDARD
BEGIN:DAYLIGHT
TZNAME:CEST
TZOFFSETFROM:+0100
TZOFFSETTO:+0200
DTSTART:19170416T020000
RRULE:FREQ=YEARLY;UNTIL=19180415T010000Z;BYMONTH=4;BYDAY=3MO
END:DAYLIGHT
BEGIN:STANDARD
TZNAME:CET
TZOFFSETFROM:+0200
TZOFFSETTO:+0100
DTSTART:19170917T030000
RRULE:FREQ=YEARLY;UNTIL=19180916T010000Z;BYMONTH=9;BYDAY=3MO
END:STANDARD
BEGIN:DAYLIGHT
TZNAME:CEST
TZOFFSETFROM:+0100
TZOFFSETTO:+0200
DTSTART:19440403T020000
RRULE:FREQ=YEARLY;UNTIL=19450402T010000Z;BYMONTH=4;BYDAY=1MO
END:DAYLIGHT
BEGIN:DAYLIGHT
TZNAME:CEMT
TZOFFSETFROM:+0200
TZOFFSETTO:+0300
DTSTART:19450524T020000
RDATE:19470511T030000
END:DAYLIGHT
BEGIN:DAYLIGHT
TZNAME:CEST
TZOFFSETFROM:+0300
TZOFFSETTO:+0200
DTSTART:19450924T030000
RDATE:19470629T030000
END:DAYLIGHT
BEGIN:STANDARD
TZNAME:CET
TZOFFSETFROM:+0100
TZOFFSETTO:+0100
DTSTART:19460101T000000
RDATE:19800101T000000
END:STANDARD
BEGIN:STANDARD
TZNAME:CET
TZOFFSETFROM:+0200
TZOFFSETTO:+0100
DTSTART:19471005T030000
RRULE:FREQ=YEARLY;UNTIL=19491002T010000Z;BYMONTH=10;BYDAY=1SU
END:STANDARD
BEGIN:STANDARD
TZNAME:CET
TZOFFSETFROM:+0200
TZOFFSETTO:+0100
DTSTART:19800928T030000
RRULE:FREQ=YEARLY;UNTIL=19950924T010000Z;BYMONTH=9;BYDAY=-1SU
END:STANDARD
BEGIN:DAYLIGHT
TZNAME:CEST
TZOFFSETFROM:+0100
TZOFFSETTO:+0200
DTSTART:19810329T020000
RRULE:FREQ=YEARLY;BYMONTH=3;BYDAY=-1SU
END:DAYLIGHT
BEGIN:STANDARD
TZNAME:CET
TZOFFSETFROM:+0200
TZOFFSETTO:+0100
DTSTART:19961027T030000
RRULE:FREQ=YEARLY;BYMONTH=10;BYDAY=-1SU
END:STANDARD
END:VTIMEZONE
BEGIN:VEVENT
DTSTAMP:20260419T164558Z
DTSTART;TZID=Europe/Berlin:20241123T110000
DTEND;TZID=Europe/Berlin:20241123T120000
SUMMARY:Bezirksoberliga wD TSV Schwabmünchen vs JSG Friedberg-Kissing (25067029)
UID:685413f6-48a6-49ce-ac48-160ce09d5df0
STATUS:CONFIRMED
LAST-MODIFIED:20241123T154013Z
DESCRIPTION:Bezirksoberliga wD\nBegegnungs-Nr: 25067029\nHeim: TSV Schwabmünchen\nGast: JSG Friedberg-Kissing\nHalle: Schwabmünchen\, Hans-Nebauer-Sporthalle (250361)\nAdresse: Holzheystr. 18\, 86830 Schwabmünchen\n
LOCATION:Schwabmünchen\, Hans-Nebauer-Sporthalle (250361): Holzheystr. 18\, 86830 Schwabmünchen
CATEGORIES:Saison 2024/25
END:VEVENT
BEGIN:VEVENT
DTSTAMP:20260419T164558Z
DTSTART;TZID=Europe/Berlin:20241208T100000
DTEND;TZID=Europe/Berlin:20241208T110000
SUMMARY:Bezirksoberliga wD TSV Schwabmünchen vs FC Burlafingen (25067037)
UID:dc2ace49-9ff3-48aa-b84f-4ddb19522936
STATUS:CONFIRMED
LAST-MODIFIED:20241210T220641Z
DESCRIPTION:Bezirksoberliga wD\nBegegnungs-Nr: 25067037\nHeim: TSV Schwabmünchen\nGast: FC Burlafingen\nHalle: Haunstetten\, Sporthalle  TSV (250008)\nAdresse: Landsberger Str. 3a\, 86179 A.-Haunstetten\n
LOCATION:Haunstetten\, Sporthalle  TSV (250008): Landsberger Str. 3a\, 86179 A.-Haunstetten
CATEGORIES:Saison 2024/25
END:VEVENT
BEGIN:VEVENT
DTSTAMP:20260419T164558Z
DTSTART;TZID=Europe/Berlin:20250209T140000
DTEND;TZID=Europe/Berlin:20250209T150000
SUMMARY:Bezirksoberliga wD TSV Schwabmünchen vs VfL Günzburg (25067053)
UID:060922d9-88aa-4e45-b78b-55cac811a49d
STATUS:CONFIRMED
LAST-MODIFIED:20250209T163859Z
DESCRIPTION:Bezirksoberliga wD\nBegegnungs-Nr: 25067053\nHeim: TSV Schwabmünchen\nGast: VfL Günzburg\nHalle: Günzburg\, Sporthalle  (250125)\nAdresse: Rebaystr. 11\, 89312 Günzburg\n
LOCATION:Günzburg\, Sporthalle  (250125): Rebaystr. 11\, 89312 Günzburg
CATEGORIES:Saison 2024/25
END:VEVENT
BEGIN:VEVENT
DTSTAMP:20260419T164558Z
DTSTART;TZID=Europe/Berlin:20250316T104500
DTEND;TZID=Europe/Berlin:20250316T114500
SUMMARY:Bezirksoberliga wD TSV Schwabmünchen vs TSV Haunstetten (25067061)
UID:552d691c-47ed-45c7-87cf-567fbbd75e1b
STATUS:CONFIRMED
LAST-MODIFIED:20250318T094201Z
DESCRIPTION:Bezirksoberliga wD\nBegegnungs-Nr: 25067061\nHeim: TSV Schwabmünchen\nGast: TSV Haunstetten\nHalle: Aichach\, Sporthalle Gymnasium (250000)\nAdresse: Ludwigstr. 60\, 86551 Aichach\n
LOCATION:Aichach\, Sporthalle Gymnasium (250000): Ludwigstr. 60\, 86551 Aichach
CATEGORIES:Saison 2024/25
END:VEVENT
BEGIN:VEVENT
DTSTAMP:20260419T164558Z
DTSTART;TZID=Europe/Berlin:20240922T100000
DTEND;TZID=Europe/Berlin:20240922T110000
SUMMARY:Bezirksoberliga wD TSV Schwabmünchen vs TSV Niederraunau (25067002)
UID:502203c2-a1c8-4b19-ac6c-8ec76054120a
STATUS:CONFIRMED
LAST-MODIFIED:20240924T091518Z
DESCRIPTION:Bezirksoberliga wD\nBegegnungs-Nr: 25067002\nHeim: TSV Schwabmünchen\nGast: TSV Niederraunau\nHalle: Haunstetten\, Sporthalle  TSV (250008)\nAdresse: Landsberger Str. 3a\, 86179 A.-Haunstetten\n
LOCATION:Haunstetten\, Sporthalle  TSV (250008): Landsberger Str. 3a\, 86179 A.-Haunstetten
CATEGORIES:Saison 2024/25
END:VEVENT
BEGIN:VEVENT
DTSTAMP:20260419T164558Z
DTSTART;TZID=Europe/Berlin:20240929T120000
DTEND;TZID=Europe/Berlin:20240929T130000
SUMMARY:Bezirksoberliga wD TSV Schwabmünchen vs TSV Aichach (25067012)
UID:1e226ad2-2696-43ef-8f5a-76b1454666c2
STATUS:CONFIRMED
LAST-MODIFIED:20240930T081322Z
DESCRIPTION:Bezirksoberliga wD\nBegegnungs-Nr: 25067012\nHeim: TSV Schwabmünchen\nGast: TSV Aichach\nHalle: Aichach\, Sporthalle Gymnasium (250000)\nAdresse: Ludwigstr. 60\, 86551 Aichach\n
LOCATION:Aichach\, Sporthalle Gymnasium (250000): Ludwigstr. 60\, 86551 Aichach
CATEGORIES:Saison 2024/25
END:VEVENT
BEGIN:VEVENT
DTSTAMP:20260419T164558Z
DTSTART;TZID=Europe/Berlin:20241020T100000
DTEND;TZID=Europe/Berlin:20241020T110000
SUMMARY:Bezirksoberliga wD TSV Schwabmünchen vs TSV Aichach (25067023)
UID:9973f0eb-34a1-4f3e-8344-d0a0a14337a3
STATUS:CONFIRMED
LAST-MODIFIED:20241023T090600Z
DESCRIPTION:Bezirksoberliga wD\nBegegnungs-Nr: 25067023\nHeim: TSV Schwabmünchen\nGast: TSV Aichach\nHalle: Schwabmünchen\, Hans-Nebauer-Sporthalle (250361)\nAdresse: Holzheystr. 18\, 86830 Schwabmünchen\n
LOCATION:Schwabmünchen\, Hans-Nebauer-Sporthalle (250361): Holzheystr. 18\, 86830 Schwabmünchen
CATEGORIES:Saison 2024/25
END:VEVENT
BEGIN:VEVENT
DTSTAMP:20260419T164558Z
DTSTART;TZID=Europe/Berlin:20250126T140000
DTEND;TZID=Europe/Berlin:20250126T150000
SUMMARY:Bezirksoberliga wD TSV Schwabmünchen vs FC Burlafingen (25067046)
UID:85ac1432-0681-4bd7-aad4-99d500737a15
STATUS:CONFIRMED
LAST-MODIFIED:20250129T181659Z
DESCRIPTION:Bezirksoberliga wD\nBegegnungs-Nr: 25067046\nHeim: TSV Schwabmünchen\nGast: FC Burlafingen\nHalle: Neu-Ulm\, Sporthalle 1 Schulzentrum Pfuhl (250264)\nAdresse: Heerstr. 111\, 89233 Neu-Ulm / Pfuhl\n
LOCATION:Neu-Ulm\, Sporthalle 1 Schulzentrum Pfuhl (250264): Heerstr. 111\, 89233 Neu-Ulm / Pfuhl
CATEGORIES:Saison 2024/25
END:VEVENT
BEGIN:VEVENT
DTSTAMP:20260419T164558Z
DTSTART;TZID=Europe/Berlin:20250222T104500
DTEND;TZID=Europe/Berlin:20250222T114500
SUMMARY:Bezirksoberliga wD TSV Schwabmünchen vs TSV Aichach (25067054)
UID:6fd18341-b8a9-4e01-a032-a91800afe6c8
STATUS:CONFIRMED
LAST-MODIFIED:20250228T023528Z
DESCRIPTION:Bezirksoberliga wD\nBegegnungs-Nr: 25067054\nHeim: TSV Schwabmünchen\nGast: TSV Aichach\nHalle: Schwabmünchen\, Hans-Nebauer-Sporthalle (250361)\nAdresse: Holzheystr. 18\, 86830 Schwabmünchen\n
LOCATION:Schwabmünchen\, Hans-Nebauer-Sporthalle (250361): Holzheystr. 18\, 86830 Schwabmünchen
CATEGORIES:Saison 2024/25
END:VEVENT
BEGIN:VEVENT
DTSTAMP:20260419T164558Z
DTSTART;TZID=Europe/Berlin:20250316T114500
DTEND;TZID=Europe/Berlin:20250316T124500
SUMMARY:Bezirksoberliga wD JSG Friedberg-Kissing vs TSV Schwabmünchen (25067062)
UID:700ea45a-6163-48d8-900c-9c611eb091ba
STATUS:CONFIRMED
LAST-MODIFIED:20250318T094255Z
DESCRIPTION:Bezirksoberliga wD\nBegegnungs-Nr: 25067062\nHeim: JSG Friedberg-Kissing\nGast: TSV Schwabmünchen\nHalle: Aichach\, Sporthalle Gymnasium (250000)\nAdresse: Ludwigstr. 60\, 86551 Aichach\n
LOCATION:Aichach\, Sporthalle Gymnasium (250000): Ludwigstr. 60\, 86551 Aichach
CATEGORIES:Saison 2024/25
END:VEVENT
BEGIN:VEVENT
DTSTAMP:20260419T164558Z
DTSTART;TZID=Europe/Berlin:20241123T140000
DTEND;TZID=Europe/Berlin:20241123T150000
SUMMARY:Bezirksoberliga wD TSV Niederraunau vs TSV Schwabmünchen (25067032)
UID:f26c28b1-06d8-4b79-bfb8-767771c9cd99
STATUS:CONFIRMED
LAST-MODIFIED:20241123T154242Z
DESCRIPTION:Bezirksoberliga wD\nBegegnungs-Nr: 25067032\nHeim: TSV Niederraunau\nGast: TSV Schwabmünchen\nHalle: Schwabmünchen\, Hans-Nebauer-Sporthalle (250361)\nAdresse: Holzheystr. 18\, 86830 Schwabmünchen\n
LOCATION:Schwabmünchen\, Hans-Nebauer-Sporthalle (250361): Holzheystr. 18\, 86830 Schwabmünchen
CATEGORIES:Saison 2024/25
END:VEVENT
BEGIN:VEVENT
DTSTAMP:20260419T164558Z
DTSTART;TZID=Europe/Berlin:20250209T130000
DTEND;TZID=Europe/Berlin:20250209T140000
SUMMARY:Bezirksoberliga wD TSV Niederraunau vs TSV Schwabmünchen (25067052)
UID:9c6cb6a6-805d-4655-8da2-485ef3c2e227
STATUS:CONFIRMED
LAST-MODIFIED:20250209T163647Z
DESCRIPTION:Bezirksoberliga wD\nBegegnungs-Nr: 25067052\nHeim: TSV Niederraunau\nGast: TSV Schwabmünchen\nHalle: Günzburg\, Sporthalle  (250125)\nAdresse: Rebaystr. 11\, 89312 Günzburg\n
LOCATION:Günzburg\, Sporthalle  (250125): Rebaystr. 11\, 89312 Günzburg
CATEGORIES:Saison 2024/25
END:VEVENT
BEGIN:VEVENT
DTSTAMP:20260419T164558Z
DTSTART;TZID=Europe/Berlin:20250126T130000
DTEND;TZID=Europe/Berlin:20250126T140000
SUMMARY:Bezirksoberliga wD VfL Günzburg vs TSV Schwabmünchen (25067044)
UID:3330f004-8b49-4371-bfa6-5511c0ff67d7
STATUS:CONFIRMED
LAST-MODIFIED:20250129T181555Z
DESCRIPTION:Bezirksoberliga wD\nBegegnungs-Nr: 25067044\nHeim: VfL Günzburg\nGast: TSV Schwabmünchen\nHalle: Neu-Ulm\, Sporthalle 1 Schulzentrum Pfuhl (250264)\nAdresse: Heerstr. 111\, 89233 Neu-Ulm / Pfuhl\n
LOCATION:Neu-Ulm\, Sporthalle 1 Schulzentrum Pfuhl (250264): Heerstr. 111\, 89233 Neu-Ulm / Pfuhl
CATEGORIES:Saison 2024/25
END:VEVENT
BEGIN:VEVENT
DTSTAMP:20260419T164558Z
DTSTART;TZID=Europe/Berlin:20241020T120000
DTEND;TZID=Europe/Berlin:20241020T130000
SUMMARY:Bezirksoberliga wD VfL Günzburg vs TSV Schwabmünchen (25067025)
UID:d41901dd-af30-405e-8e85-922a478027b9
STATUS:CONFIRMED
LAST-MODIFIED:20241023T090931Z
DESCRIPTION:Bezirksoberliga wD\nBegegnungs-Nr: 25067025\nHeim: VfL Günzburg\nGast: TSV Schwabmünchen\nHalle: Schwabmünchen\, Hans-Nebauer-Sporthalle (250361)\nAdresse: Holzheystr. 18\, 86830 Schwabmünchen\n
LOCATION:Schwabmünchen\, Hans-Nebauer-Sporthalle (250361): Holzheystr. 18\, 86830 Schwabmünchen
CATEGORIES:Saison 2024/25
END:VEVENT
BEGIN:VEVENT
DTSTAMP:20260419T164558Z
DTSTART;TZID=Europe/Berlin:20240922T110000
DTEND;TZID=Europe/Berlin:20240922T120000
SUMMARY:Bezirksoberliga wD JSG Friedberg-Kissing vs TSV Schwabmünchen (25067003)
UID:cc4cfab2-fef6-4ff9-b884-7e56f615aab6
STATUS:CONFIRMED
LAST-MODIFIED:20240925T170154Z
DESCRIPTION:Bezirksoberliga wD\nBegegnungs-Nr: 25067003\nHeim: JSG Friedberg-Kissing\nGast: TSV Schwabmünchen\nHalle: Haunstetten\, Sporthalle  TSV (250008)\nAdresse: Landsberger Str. 3a\, 86179 A.-Haunstetten\n
LOCATION:Haunstetten\, Sporthalle  TSV (250008): Landsberger Str. 3a\, 86179 A.-Haunstetten
CATEGORIES:Saison 2024/25
END:VEVENT
BEGIN:VEVENT
DTSTAMP:20260419T164558Z
DTSTART;TZID=Europe/Berlin:20240929T110000
DTEND;TZID=Europe/Berlin:20240929T120000
SUMMARY:Bezirksoberliga wD TSV Haunstetten vs TSV Schwabmünchen (25067010)
UID:fbcafe58-af0f-4e0f-9c55-d753ce6bb24f
STATUS:CONFIRMED
LAST-MODIFIED:20240930T081155Z
DESCRIPTION:Bezirksoberliga wD\nBegegnungs-Nr: 25067010\nHeim: TSV Haunstetten\nGast: TSV Schwabmünchen\nHalle: Aichach\, Sporthalle Gymnasium (250000)\nAdresse: Ludwigstr. 60\, 86551 Aichach\n
LOCATION:Aichach\, Sporthalle Gymnasium (250000): Ludwigstr. 60\, 86551 Aichach
CATEGORIES:Saison 2024/25
END:VEVENT
BEGIN:VEVENT
DTSTAMP:20260419T164558Z
DTSTART;TZID=Europe/Berlin:20241208T090000
DTEND;TZID=Europe/Berlin:20241208T100000
SUMMARY:Bezirksoberliga wD TSV Haunstetten vs TSV Schwabmünchen (25067036)
UID:59bb1fca-4de3-4fb4-9650-c67bab668281
STATUS:CONFIRMED
LAST-MODIFIED:20250114T092302Z
DESCRIPTION:Bezirksoberliga wD\nBegegnungs-Nr: 25067036\nHeim: TSV Haunstetten\nGast: TSV Schwabmünchen\nHalle: Haunstetten\, Sporthalle  TSV (250008)\nAdresse: Landsberger Str. 3a\, 86179 A.-Haunstetten\n
LOCATION:Haunstetten\, Sporthalle  TSV (250008): Landsberger Str. 3a\, 86179 A.-Haunstetten
CATEGORIES:Saison 2024/25
END:VEVENT
BEGIN:VEVENT
DTSTAMP:20260419T164558Z
DTSTART;TZID=Europe/Berlin:20250222T124500
DTEND;TZID=Europe/Berlin:20250222T134500
SUMMARY:Bezirksoberliga wD FC Burlafingen vs TSV Schwabmünchen (25067056)
UID:f846c015-2035-4224-8023-025d606690aa
STATUS:CONFIRMED
LAST-MODIFIED:20250228T023659Z
DESCRIPTION:Bezirksoberliga wD\nBegegnungs-Nr: 25067056\nHeim: FC Burlafingen\nGast: TSV Schwabmünchen\nHalle: Schwabmünchen\, Hans-Nebauer-Sporthalle (250361)\nAdresse: Holzheystr. 18\, 86830 Schwabmünchen\n
LOCATION:Schwabmünchen\, Hans-Nebauer-Sporthalle (250361): Holzheystr. 18\, 86830 Schwabmünchen
CATEGORIES:Saison 2024/25
END:VEVENT
END:VCALENDAR
