BEGIN:VCALENDAR
PRODID:-//nuDatenautomaten//framework iCal4j //DE
VERSION:2.0
CALSCALE:GREGORIAN
BEGIN:VTIMEZONE
TZID:Europe/Berlin
LAST-MODIFIED:20260306T231828Z
TZURL:https://www.tzurl.org/zoneinfo/Europe/Berlin
X-LIC-LOCATION:Europe/Berlin
X-PROLEPTIC-TZNAME:LMT
BEGIN:STANDARD
TZNAME:CET
TZOFFSETFROM:+005328
TZOFFSETTO:+0100
DTSTART:18930401T000000
END:STANDARD
BEGIN:DAYLIGHT
TZNAME:CEST
TZOFFSETFROM:+0100
TZOFFSETTO:+0200
DTSTART:19160430T230000
RDATE:19400401T020000
RDATE:19430329T020000
RDATE:19460414T020000
RDATE:19470406T030000
RDATE:19480418T020000
RDATE:19490410T020000
RDATE:19800406T020000
END:DAYLIGHT
BEGIN:STANDARD
TZNAME:CET
TZOFFSETFROM:+0200
TZOFFSETTO:+0100
DTSTART:19161001T010000
RDATE:19421102T030000
RDATE:19431004T030000
RDATE:19441002T030000
RDATE:19451118T030000
RDATE:19461007T030000
END:STANDARD
BEGIN:DAYLIGHT
TZNAME:CEST
TZOFFSETFROM:+0100
TZOFFSETTO:+0200
DTSTART:19170416T020000
RRULE:FREQ=YEARLY;UNTIL=19180415T010000Z;BYMONTH=4;BYDAY=3MO
END:DAYLIGHT
BEGIN:STANDARD
TZNAME:CET
TZOFFSETFROM:+0200
TZOFFSETTO:+0100
DTSTART:19170917T030000
RRULE:FREQ=YEARLY;UNTIL=19180916T010000Z;BYMONTH=9;BYDAY=3MO
END:STANDARD
BEGIN:DAYLIGHT
TZNAME:CEST
TZOFFSETFROM:+0100
TZOFFSETTO:+0200
DTSTART:19440403T020000
RRULE:FREQ=YEARLY;UNTIL=19450402T010000Z;BYMONTH=4;BYDAY=1MO
END:DAYLIGHT
BEGIN:DAYLIGHT
TZNAME:CEMT
TZOFFSETFROM:+0200
TZOFFSETTO:+0300
DTSTART:19450524T020000
RDATE:19470511T030000
END:DAYLIGHT
BEGIN:DAYLIGHT
TZNAME:CEST
TZOFFSETFROM:+0300
TZOFFSETTO:+0200
DTSTART:19450924T030000
RDATE:19470629T030000
END:DAYLIGHT
BEGIN:STANDARD
TZNAME:CET
TZOFFSETFROM:+0100
TZOFFSETTO:+0100
DTSTART:19460101T000000
RDATE:19800101T000000
END:STANDARD
BEGIN:STANDARD
TZNAME:CET
TZOFFSETFROM:+0200
TZOFFSETTO:+0100
DTSTART:19471005T030000
RRULE:FREQ=YEARLY;UNTIL=19491002T010000Z;BYMONTH=10;BYDAY=1SU
END:STANDARD
BEGIN:STANDARD
TZNAME:CET
TZOFFSETFROM:+0200
TZOFFSETTO:+0100
DTSTART:19800928T030000
RRULE:FREQ=YEARLY;UNTIL=19950924T010000Z;BYMONTH=9;BYDAY=-1SU
END:STANDARD
BEGIN:DAYLIGHT
TZNAME:CEST
TZOFFSETFROM:+0100
TZOFFSETTO:+0200
DTSTART:19810329T020000
RRULE:FREQ=YEARLY;BYMONTH=3;BYDAY=-1SU
END:DAYLIGHT
BEGIN:STANDARD
TZNAME:CET
TZOFFSETFROM:+0200
TZOFFSETTO:+0100
DTSTART:19961027T030000
RRULE:FREQ=YEARLY;BYMONTH=10;BYDAY=-1SU
END:STANDARD
END:VTIMEZONE
BEGIN:VEVENT
DTSTAMP:20260419T202837Z
DTSTART;TZID=Europe/Berlin:20241116T150000
DTEND;TZID=Europe/Berlin:20241116T160000
SUMMARY:Bezirksoberliga mD TSV Schwabmünchen vs VfL Günzburg (25057037)
UID:1cb1eb27-db33-465e-ac72-7143a6cbfbc1
STATUS:CONFIRMED
LAST-MODIFIED:20241117T153038Z
DESCRIPTION:Bezirksoberliga mD\nBegegnungs-Nr: 25057037\nHeim: TSV Schwabmünchen\nGast: VfL Günzburg\nHalle: Günzburg\, Sporthalle  (250125)\nAdresse: Rebaystr. 11\, 89312 Günzburg\n
LOCATION:Günzburg\, Sporthalle  (250125): Rebaystr. 11\, 89312 Günzburg
CATEGORIES:Saison 2024/25
END:VEVENT
BEGIN:VEVENT
DTSTAMP:20260419T202837Z
DTSTART;TZID=Europe/Berlin:20241020T110000
DTEND;TZID=Europe/Berlin:20241020T120000
SUMMARY:Bezirksoberliga mD TSV Schwabmünchen vs TSV Niederraunau (25057025)
UID:4a655248-dc49-4336-b0fd-61f3480692f4
STATUS:CONFIRMED
LAST-MODIFIED:20241021T062552Z
DESCRIPTION:Bezirksoberliga mD\nBegegnungs-Nr: 25057025\nHeim: TSV Schwabmünchen\nGast: TSV Niederraunau\nHalle: Mering\, Eduard-Ettensberger-Halle (250222)\nAdresse: Tratteilstr.\, 86415 Mering\n
LOCATION:Mering\, Eduard-Ettensberger-Halle (250222): Tratteilstr.\, 86415 Mering
CATEGORIES:Saison 2024/25
END:VEVENT
BEGIN:VEVENT
DTSTAMP:20260419T202837Z
DTSTART;TZID=Europe/Berlin:20241215T100000
DTEND;TZID=Europe/Berlin:20241215T110000
SUMMARY:Zusatz mD TSV Schwabmünchen vs BHC Königsbr.09 (2)
UID:3bcd0ea3-6ce1-4816-8b74-8793caf03c16
STATUS:CONFIRMED
LAST-MODIFIED:20241223T071434Z
DESCRIPTION:Zusatz mD\nBegegnungs-Nr: 2\nHeim: TSV Schwabmünchen\nGast: BHC Königsbr.09\nHalle: Haunstetten\, Sporthalle  TSV (250008)\nAdresse: Landsberger Str. 3a\, 86179 A.-Haunstetten\n
LOCATION:Haunstetten\, Sporthalle  TSV (250008): Landsberger Str. 3a\, 86179 A.-Haunstetten
CATEGORIES:Saison 2024/25
END:VEVENT
BEGIN:VEVENT
DTSTAMP:20260419T202837Z
DTSTART;TZID=Europe/Berlin:20241006T090000
DTEND;TZID=Europe/Berlin:20241006T100000
SUMMARY:Bezirksoberliga mD TSV Schwabmünchen vs TSV Friedberg (25057011)
UID:227ae09b-cad4-4589-bc55-5ff76841a34c
STATUS:CONFIRMED
LAST-MODIFIED:20241007T062741Z
DESCRIPTION:Bezirksoberliga mD\nBegegnungs-Nr: 25057011\nHeim: TSV Schwabmünchen\nGast: TSV Friedberg\nHalle: Schwabmünchen\, Hans-Nebauer-Sporthalle (250361)\nAdresse: Holzheystr. 18\, 86830 Schwabmünchen\n
LOCATION:Schwabmünchen\, Hans-Nebauer-Sporthalle (250361): Holzheystr. 18\, 86830 Schwabmünchen
CATEGORIES:Saison 2024/25
END:VEVENT
BEGIN:VEVENT
DTSTAMP:20260419T202837Z
DTSTART;TZID=Europe/Berlin:20250315T120000
DTEND;TZID=Europe/Berlin:20250315T130000
SUMMARY:Bezirksoberliga mD TSV Schwabmünchen vs BHC Königsbr.09 (25057086)
UID:b4c7a588-f046-430f-9703-04287a39bd2a
STATUS:CONFIRMED
LAST-MODIFIED:20250316T125128Z
DESCRIPTION:Bezirksoberliga mD\nBegegnungs-Nr: 25057086\nHeim: TSV Schwabmünchen\nGast: BHC Königsbr.09\nHalle: Königsbrunn\, Dreifachhalle (250181)\nAdresse: Karwendelstr. 14\, 86343 Königsbrunn\n
LOCATION:Königsbrunn\, Dreifachhalle (250181): Karwendelstr. 14\, 86343 Königsbrunn
CATEGORIES:Saison 2024/25
END:VEVENT
BEGIN:VEVENT
DTSTAMP:20260419T202837Z
DTSTART;TZID=Europe/Berlin:20250223T100000
DTEND;TZID=Europe/Berlin:20250223T110000
SUMMARY:Bezirksoberliga mD TSV Schwabmünchen vs HSG Lauingen-Wittislingen (25057077)
UID:6561ab91-c5a8-49ad-8778-04e2486ed453
STATUS:CONFIRMED
LAST-MODIFIED:20250224T072426Z
DESCRIPTION:Bezirksoberliga mD\nBegegnungs-Nr: 25057077\nHeim: TSV Schwabmünchen\nGast: HSG Lauingen-Wittislingen\nHalle: Haunstetten\, Sporthalle  TSV (250008)\nAdresse: Landsberger Str. 3a\, 86179 A.-Haunstetten\n
LOCATION:Haunstetten\, Sporthalle  TSV (250008): Landsberger Str. 3a\, 86179 A.-Haunstetten
CATEGORIES:Saison 2024/25
END:VEVENT
BEGIN:VEVENT
DTSTAMP:20260419T202837Z
DTSTART;TZID=Europe/Berlin:20250202T093000
DTEND;TZID=Europe/Berlin:20250202T103000
SUMMARY:Bezirksoberliga mD TSV Schwabmünchen vs SV Mering (25057064)
UID:b0786508-282a-4cf6-8890-265ef47c60a1
STATUS:CONFIRMED
LAST-MODIFIED:20250203T084602Z
DESCRIPTION:Bezirksoberliga mD\nBegegnungs-Nr: 25057064\nHeim: TSV Schwabmünchen\nGast: SV Mering\nHalle: Schwabmünchen\, Hans-Nebauer-Sporthalle (250361)\nAdresse: Holzheystr. 18\, 86830 Schwabmünchen\n
LOCATION:Schwabmünchen\, Hans-Nebauer-Sporthalle (250361): Holzheystr. 18\, 86830 Schwabmünchen
CATEGORIES:Saison 2024/25
END:VEVENT
BEGIN:VEVENT
DTSTAMP:20260419T202837Z
DTSTART;TZID=Europe/Berlin:20240922T110000
DTEND;TZID=Europe/Berlin:20240922T120000
SUMMARY:Bezirksoberliga mD TSV Schwabmünchen vs BHC Königsbr.09 (25057008)
UID:009b4552-122b-43e5-9ac3-42af1bffee10
STATUS:CONFIRMED
LAST-MODIFIED:20241001T145140Z
DESCRIPTION:Bezirksoberliga mD\nBegegnungs-Nr: 25057008\nHeim: TSV Schwabmünchen\nGast: BHC Königsbr.09\nHalle: Lauingen\, Stadthalle (250200)\nAdresse: Brüderstr. 15\, 89415 Lauingen\n
LOCATION:Lauingen\, Stadthalle (250200): Brüderstr. 15\, 89415 Lauingen
CATEGORIES:Saison 2024/25
END:VEVENT
BEGIN:VEVENT
DTSTAMP:20260419T202837Z
DTSTART;TZID=Europe/Berlin:20250112T100000
DTEND;TZID=Europe/Berlin:20250112T110000
SUMMARY:Bezirksoberliga mD TSV Schwabmünchen vs TSV Haunstetten (25057053)
UID:8c928582-b562-46b8-b6e6-41d2d5cb893c
STATUS:CONFIRMED
LAST-MODIFIED:20250112T170426Z
DESCRIPTION:Bezirksoberliga mD\nBegegnungs-Nr: 25057053\nHeim: TSV Schwabmünchen\nGast: TSV Haunstetten\nHalle: Schwabmünchen\, Hans-Nebauer-Sporthalle (250361)\nAdresse: Holzheystr. 18\, 86830 Schwabmünchen\n
LOCATION:Schwabmünchen\, Hans-Nebauer-Sporthalle (250361): Holzheystr. 18\, 86830 Schwabmünchen
CATEGORIES:Saison 2024/25
END:VEVENT
BEGIN:VEVENT
DTSTAMP:20260419T202837Z
DTSTART;TZID=Europe/Berlin:20241130T123000
DTEND;TZID=Europe/Berlin:20241130T133000
SUMMARY:Bezirksoberliga mD TSV Schwabmünchen vs SC Vöhringen (25057044)
UID:6f8b46b4-f556-4d5e-938b-45b2becc7225
STATUS:CONFIRMED
LAST-MODIFIED:20250107T165942Z
DESCRIPTION:Bezirksoberliga mD\nBegegnungs-Nr: 25057044\nHeim: TSV Schwabmünchen\nGast: SC Vöhringen\nHalle: Vöhringen\, Sportpark  (250440)\nAdresse: Sportparkstraße 8\, 89269 Vöhringen\n
LOCATION:Vöhringen\, Sportpark  (250440): Sportparkstraße 8\, 89269 Vöhringen
CATEGORIES:Saison 2024/25
END:VEVENT
BEGIN:VEVENT
DTSTAMP:20260419T202837Z
DTSTART;TZID=Europe/Berlin:20250223T090000
DTEND;TZID=Europe/Berlin:20250223T100000
SUMMARY:Bezirksoberliga mD TSV Haunstetten vs TSV Schwabmünchen (25057076)
UID:16ce5cb9-c8df-4c93-a354-5d0ccf52b2b6
STATUS:CONFIRMED
LAST-MODIFIED:20250224T072400Z
DESCRIPTION:Bezirksoberliga mD\nBegegnungs-Nr: 25057076\nHeim: TSV Haunstetten\nGast: TSV Schwabmünchen\nHalle: Haunstetten\, Sporthalle  TSV (250008)\nAdresse: Landsberger Str. 3a\, 86179 A.-Haunstetten\n
LOCATION:Haunstetten\, Sporthalle  TSV (250008): Landsberger Str. 3a\, 86179 A.-Haunstetten
CATEGORIES:Saison 2024/25
END:VEVENT
BEGIN:VEVENT
DTSTAMP:20260419T202837Z
DTSTART;TZID=Europe/Berlin:20241130T113000
DTEND;TZID=Europe/Berlin:20241130T123000
SUMMARY:Bezirksoberliga mD HSG Lauingen-Wittislingen vs TSV Schwabmünchen (25057043)
UID:f2f7d747-7f6c-47d3-a42b-adf701be69c0
STATUS:CONFIRMED
LAST-MODIFIED:20250107T165920Z
DESCRIPTION:Bezirksoberliga mD\nBegegnungs-Nr: 25057043\nHeim: HSG Lauingen-Wittislingen\nGast: TSV Schwabmünchen\nHalle: Vöhringen\, Sportpark  (250440)\nAdresse: Sportparkstraße 8\, 89269 Vöhringen\n
LOCATION:Vöhringen\, Sportpark  (250440): Sportparkstraße 8\, 89269 Vöhringen
CATEGORIES:Saison 2024/25
END:VEVENT
BEGIN:VEVENT
DTSTAMP:20260419T202837Z
DTSTART;TZID=Europe/Berlin:20241116T140000
DTEND;TZID=Europe/Berlin:20241116T150000
SUMMARY:Bezirksoberliga mD TSV Aichach vs TSV Schwabmünchen (25057035)
UID:eb9ca1fe-d26d-428c-b28b-3ce688850c83
STATUS:CONFIRMED
LAST-MODIFIED:20241117T152923Z
DESCRIPTION:Bezirksoberliga mD\nBegegnungs-Nr: 25057035\nHeim: TSV Aichach\nGast: TSV Schwabmünchen\nHalle: Günzburg\, Sporthalle  (250125)\nAdresse: Rebaystr. 11\, 89312 Günzburg\n
LOCATION:Günzburg\, Sporthalle  (250125): Rebaystr. 11\, 89312 Günzburg
CATEGORIES:Saison 2024/25
END:VEVENT
BEGIN:VEVENT
DTSTAMP:20260419T202837Z
DTSTART;TZID=Europe/Berlin:20240922T120000
DTEND;TZID=Europe/Berlin:20240922T130000
SUMMARY:Bezirksoberliga mD VfL Günzburg vs TSV Schwabmünchen (25057009)
UID:a3ca02a4-e21a-40a8-9761-ca022acbb660
STATUS:CONFIRMED
LAST-MODIFIED:20241001T145058Z
DESCRIPTION:Bezirksoberliga mD\nBegegnungs-Nr: 25057009\nHeim: VfL Günzburg\nGast: TSV Schwabmünchen\nHalle: Lauingen\, Stadthalle (250200)\nAdresse: Brüderstr. 15\, 89415 Lauingen\n
LOCATION:Lauingen\, Stadthalle (250200): Brüderstr. 15\, 89415 Lauingen
CATEGORIES:Saison 2024/25
END:VEVENT
BEGIN:VEVENT
DTSTAMP:20260419T202837Z
DTSTART;TZID=Europe/Berlin:20241215T110000
DTEND;TZID=Europe/Berlin:20241215T120000
SUMMARY:Zusatz mD SV Mering vs TSV Schwabmünchen (3)
UID:5f738f47-cf72-431c-8f64-a67c5a126bde
STATUS:CONFIRMED
LAST-MODIFIED:20241223T071517Z
DESCRIPTION:Zusatz mD\nBegegnungs-Nr: 3\nHeim: SV Mering\nGast: TSV Schwabmünchen\nHalle: Haunstetten\, Sporthalle  TSV (250008)\nAdresse: Landsberger Str. 3a\, 86179 A.-Haunstetten\n
LOCATION:Haunstetten\, Sporthalle  TSV (250008): Landsberger Str. 3a\, 86179 A.-Haunstetten
CATEGORIES:Saison 2024/25
END:VEVENT
BEGIN:VEVENT
DTSTAMP:20260419T202837Z
DTSTART;TZID=Europe/Berlin:20241006T110000
DTEND;TZID=Europe/Berlin:20241006T120000
SUMMARY:Bezirksoberliga mD SC Vöhringen vs TSV Schwabmünchen (25057015)
UID:885c5bd6-8299-445c-902e-197cffc22da7
STATUS:CONFIRMED
LAST-MODIFIED:20241007T062458Z
DESCRIPTION:Bezirksoberliga mD\nBegegnungs-Nr: 25057015\nHeim: SC Vöhringen\nGast: TSV Schwabmünchen\nHalle: Schwabmünchen\, Hans-Nebauer-Sporthalle (250361)\nAdresse: Holzheystr. 18\, 86830 Schwabmünchen\n
LOCATION:Schwabmünchen\, Hans-Nebauer-Sporthalle (250361): Holzheystr. 18\, 86830 Schwabmünchen
CATEGORIES:Saison 2024/25
END:VEVENT
BEGIN:VEVENT
DTSTAMP:20260419T202837Z
DTSTART;TZID=Europe/Berlin:20250112T120000
DTEND;TZID=Europe/Berlin:20250112T130000
SUMMARY:Bezirksoberliga mD TSV Aichach vs TSV Schwabmünchen (25057057)
UID:0fa1085b-397d-401b-ac62-82fcc95bc62f
STATUS:CONFIRMED
LAST-MODIFIED:20250112T170515Z
DESCRIPTION:Bezirksoberliga mD\nBegegnungs-Nr: 25057057\nHeim: TSV Aichach\nGast: TSV Schwabmünchen\nHalle: Schwabmünchen\, Hans-Nebauer-Sporthalle (250361)\nAdresse: Holzheystr. 18\, 86830 Schwabmünchen\n
LOCATION:Schwabmünchen\, Hans-Nebauer-Sporthalle (250361): Holzheystr. 18\, 86830 Schwabmünchen
CATEGORIES:Saison 2024/25
END:VEVENT
BEGIN:VEVENT
DTSTAMP:20260419T202837Z
DTSTART;TZID=Europe/Berlin:20250202T113000
DTEND;TZID=Europe/Berlin:20250202T123000
SUMMARY:Bezirksoberliga mD TSV Niederraunau vs TSV Schwabmünchen (25057066)
UID:91d015b5-cec4-41ac-bbed-e0a29843f6c6
STATUS:CONFIRMED
LAST-MODIFIED:20250203T084721Z
DESCRIPTION:Bezirksoberliga mD\nBegegnungs-Nr: 25057066\nHeim: TSV Niederraunau\nGast: TSV Schwabmünchen\nHalle: Schwabmünchen\, Hans-Nebauer-Sporthalle (250361)\nAdresse: Holzheystr. 18\, 86830 Schwabmünchen\n
LOCATION:Schwabmünchen\, Hans-Nebauer-Sporthalle (250361): Holzheystr. 18\, 86830 Schwabmünchen
CATEGORIES:Saison 2024/25
END:VEVENT
BEGIN:VEVENT
DTSTAMP:20260419T202837Z
DTSTART;TZID=Europe/Berlin:20250315T110000
DTEND;TZID=Europe/Berlin:20250315T120000
SUMMARY:Bezirksoberliga mD TSV Friedberg vs TSV Schwabmünchen (25057084)
UID:9218d42a-3c10-4127-8ce0-212155dbf13d
STATUS:CONFIRMED
LAST-MODIFIED:20250316T125033Z
DESCRIPTION:Bezirksoberliga mD\nBegegnungs-Nr: 25057084\nHeim: TSV Friedberg\nGast: TSV Schwabmünchen\nHalle: Königsbrunn\, Dreifachhalle (250181)\nAdresse: Karwendelstr. 14\, 86343 Königsbrunn\n
LOCATION:Königsbrunn\, Dreifachhalle (250181): Karwendelstr. 14\, 86343 Königsbrunn
CATEGORIES:Saison 2024/25
END:VEVENT
BEGIN:VEVENT
DTSTAMP:20260419T202837Z
DTSTART;TZID=Europe/Berlin:20241020T100000
DTEND;TZID=Europe/Berlin:20241020T110000
SUMMARY:Bezirksoberliga mD SV Mering vs TSV Schwabmünchen (25057024)
UID:dd557277-4ce0-438d-8f38-ebf4c3dc1a03
STATUS:CONFIRMED
LAST-MODIFIED:20241021T062649Z
DESCRIPTION:Bezirksoberliga mD\nBegegnungs-Nr: 25057024\nHeim: SV Mering\nGast: TSV Schwabmünchen\nHalle: Mering\, Eduard-Ettensberger-Halle (250222)\nAdresse: Tratteilstr.\, 86415 Mering\n
LOCATION:Mering\, Eduard-Ettensberger-Halle (250222): Tratteilstr.\, 86415 Mering
CATEGORIES:Saison 2024/25
END:VEVENT
END:VCALENDAR
