BEGIN:VCALENDAR
PRODID:-//nuDatenautomaten//framework iCal4j //DE
VERSION:2.0
CALSCALE:GREGORIAN
BEGIN:VTIMEZONE
TZID:Europe/Berlin
LAST-MODIFIED:20260306T231828Z
TZURL:https://www.tzurl.org/zoneinfo/Europe/Berlin
X-LIC-LOCATION:Europe/Berlin
X-PROLEPTIC-TZNAME:LMT
BEGIN:STANDARD
TZNAME:CET
TZOFFSETFROM:+005328
TZOFFSETTO:+0100
DTSTART:18930401T000000
END:STANDARD
BEGIN:DAYLIGHT
TZNAME:CEST
TZOFFSETFROM:+0100
TZOFFSETTO:+0200
DTSTART:19160430T230000
RDATE:19400401T020000
RDATE:19430329T020000
RDATE:19460414T020000
RDATE:19470406T030000
RDATE:19480418T020000
RDATE:19490410T020000
RDATE:19800406T020000
END:DAYLIGHT
BEGIN:STANDARD
TZNAME:CET
TZOFFSETFROM:+0200
TZOFFSETTO:+0100
DTSTART:19161001T010000
RDATE:19421102T030000
RDATE:19431004T030000
RDATE:19441002T030000
RDATE:19451118T030000
RDATE:19461007T030000
END:STANDARD
BEGIN:DAYLIGHT
TZNAME:CEST
TZOFFSETFROM:+0100
TZOFFSETTO:+0200
DTSTART:19170416T020000
RRULE:FREQ=YEARLY;UNTIL=19180415T010000Z;BYMONTH=4;BYDAY=3MO
END:DAYLIGHT
BEGIN:STANDARD
TZNAME:CET
TZOFFSETFROM:+0200
TZOFFSETTO:+0100
DTSTART:19170917T030000
RRULE:FREQ=YEARLY;UNTIL=19180916T010000Z;BYMONTH=9;BYDAY=3MO
END:STANDARD
BEGIN:DAYLIGHT
TZNAME:CEST
TZOFFSETFROM:+0100
TZOFFSETTO:+0200
DTSTART:19440403T020000
RRULE:FREQ=YEARLY;UNTIL=19450402T010000Z;BYMONTH=4;BYDAY=1MO
END:DAYLIGHT
BEGIN:DAYLIGHT
TZNAME:CEMT
TZOFFSETFROM:+0200
TZOFFSETTO:+0300
DTSTART:19450524T020000
RDATE:19470511T030000
END:DAYLIGHT
BEGIN:DAYLIGHT
TZNAME:CEST
TZOFFSETFROM:+0300
TZOFFSETTO:+0200
DTSTART:19450924T030000
RDATE:19470629T030000
END:DAYLIGHT
BEGIN:STANDARD
TZNAME:CET
TZOFFSETFROM:+0100
TZOFFSETTO:+0100
DTSTART:19460101T000000
RDATE:19800101T000000
END:STANDARD
BEGIN:STANDARD
TZNAME:CET
TZOFFSETFROM:+0200
TZOFFSETTO:+0100
DTSTART:19471005T030000
RRULE:FREQ=YEARLY;UNTIL=19491002T010000Z;BYMONTH=10;BYDAY=1SU
END:STANDARD
BEGIN:STANDARD
TZNAME:CET
TZOFFSETFROM:+0200
TZOFFSETTO:+0100
DTSTART:19800928T030000
RRULE:FREQ=YEARLY;UNTIL=19950924T010000Z;BYMONTH=9;BYDAY=-1SU
END:STANDARD
BEGIN:DAYLIGHT
TZNAME:CEST
TZOFFSETFROM:+0100
TZOFFSETTO:+0200
DTSTART:19810329T020000
RRULE:FREQ=YEARLY;BYMONTH=3;BYDAY=-1SU
END:DAYLIGHT
BEGIN:STANDARD
TZNAME:CET
TZOFFSETFROM:+0200
TZOFFSETTO:+0100
DTSTART:19961027T030000
RRULE:FREQ=YEARLY;BYMONTH=10;BYDAY=-1SU
END:STANDARD
END:VTIMEZONE
BEGIN:VEVENT
DTSTAMP:20260425T111948Z
DTSTART;TZID=Europe/Berlin:20241212T200000
DTEND;TZID=Europe/Berlin:20241212T213000
SUMMARY:Landesliga MA HSG Seevetal/Ashausen vs MTV Schwarmstedt (30)
UID:2785acb2-d811-4068-8d59-fbe0914335e7
STATUS:CONFIRMED
LAST-MODIFIED:20241213T084719Z
DESCRIPTION:Landesliga männliche Jugend A\nBegegnungs-Nr: 30\nHeim: HSG Seevetal/Ashausen\nGast: MTV Schwarmstedt\nHalle: Stelle\, MTV VSH (603101)\nAdresse: Holtorfsloher Weg\, 21435 Stelle (OT Ashausen)\n
LOCATION:Stelle\, MTV VSH (603101): Holtorfsloher Weg\, 21435 Stelle (OT Ashausen)
CATEGORIES:Saison 2024/25
END:VEVENT
BEGIN:VEVENT
DTSTAMP:20260425T111948Z
DTSTART;TZID=Europe/Berlin:20250313T184500
DTEND;TZID=Europe/Berlin:20250313T201500
SUMMARY:Landesliga MA HSG Seevetal/Ashausen vs TuS Jahn Hollenstedt (71)
UID:5bb691fd-d589-4c38-8710-6a05b804e6eb
STATUS:CONFIRMED
LAST-MODIFIED:20250317T154137Z
DESCRIPTION:Landesliga männliche Jugend A\nBegegnungs-Nr: 71\nHeim: HSG Seevetal/Ashausen\nGast: TuS Jahn Hollenstedt\nHalle: Stelle\, MTV VSH (603101)\nAdresse: Holtorfsloher Weg\, 21435 Stelle (OT Ashausen)\n
LOCATION:Stelle\, MTV VSH (603101): Holtorfsloher Weg\, 21435 Stelle (OT Ashausen)
CATEGORIES:Saison 2024/25
END:VEVENT
BEGIN:VEVENT
DTSTAMP:20260425T111948Z
DTSTART;TZID=Europe/Berlin:20240914T140000
DTEND;TZID=Europe/Berlin:20240914T153000
SUMMARY:Landesliga MA HSG Seevetal/Ashausen vs JMSG Winsen-Elbmarsch (5)
UID:21b70b00-74dd-4b85-9cf8-93f5fdc288c1
STATUS:CONFIRMED
LAST-MODIFIED:20240916T174500Z
DESCRIPTION:Landesliga männliche Jugend A\nBegegnungs-Nr: 5\nHeim: HSG Seevetal/Ashausen\nGast: JMSG Winsen-Elbmarsch\nHalle: Stelle\, MTV VSH (603101)\nAdresse: Holtorfsloher Weg\, 21435 Stelle (OT Ashausen)\n
LOCATION:Stelle\, MTV VSH (603101): Holtorfsloher Weg\, 21435 Stelle (OT Ashausen)
CATEGORIES:Saison 2024/25
END:VEVENT
BEGIN:VEVENT
DTSTAMP:20260425T111948Z
DTSTART;TZID=Europe/Berlin:20241027T160000
DTEND;TZID=Europe/Berlin:20241027T173000
SUMMARY:Landesliga MA HSG Seevetal/Ashausen vs VfL Westercelle (19)
UID:4e92b61e-2838-4996-b576-ec0eda4ec740
STATUS:CONFIRMED
LAST-MODIFIED:20241028T080546Z
DESCRIPTION:Landesliga männliche Jugend A\nBegegnungs-Nr: 19\nHeim: HSG Seevetal/Ashausen\nGast: VfL Westercelle\nHalle: Stelle\, MTV VSH (603101)\nAdresse: Holtorfsloher Weg\, 21435 Stelle (OT Ashausen)\n
LOCATION:Stelle\, MTV VSH (603101): Holtorfsloher Weg\, 21435 Stelle (OT Ashausen)
CATEGORIES:Saison 2024/25
END:VEVENT
BEGIN:VEVENT
DTSTAMP:20260425T111948Z
DTSTART;TZID=Europe/Berlin:20241109T153000
DTEND;TZID=Europe/Berlin:20241109T170000
SUMMARY:Landesliga MA HSG Seevetal/Ashausen vs JMSG Gellersen/Lüneburg (27)
UID:43be5553-3d57-41ac-8c6f-636de46993f8
STATUS:CONFIRMED
LAST-MODIFIED:20241111T094942Z
DESCRIPTION:Landesliga männliche Jugend A\nBegegnungs-Nr: 27\nHeim: HSG Seevetal/Ashausen\nGast: JMSG Gellersen/Lüneburg\nHalle: Stelle\, MTV VSH (603101)\nAdresse: Holtorfsloher Weg\, 21435 Stelle (OT Ashausen)\n
LOCATION:Stelle\, MTV VSH (603101): Holtorfsloher Weg\, 21435 Stelle (OT Ashausen)
CATEGORIES:Saison 2024/25
END:VEVENT
BEGIN:VEVENT
DTSTAMP:20260425T111948Z
DTSTART;TZID=Europe/Berlin:20241208T170000
DTEND;TZID=Europe/Berlin:20241208T183000
SUMMARY:Landesliga MA HSG Seevetal/Ashausen vs TuS Bergen (38)
UID:4cd27b8a-9e44-43d3-8fa3-9b3c8730f2fa
STATUS:CONFIRMED
LAST-MODIFIED:20241209T191722Z
DESCRIPTION:Landesliga männliche Jugend A\nBegegnungs-Nr: 38\nHeim: HSG Seevetal/Ashausen\nGast: TuS Bergen\nHalle: Stelle\, MTV VSH (603101)\nAdresse: Holtorfsloher Weg\, 21435 Stelle (OT Ashausen)\n
LOCATION:Stelle\, MTV VSH (603101): Holtorfsloher Weg\, 21435 Stelle (OT Ashausen)
CATEGORIES:Saison 2024/25
END:VEVENT
BEGIN:VEVENT
DTSTAMP:20260425T111948Z
DTSTART;TZID=Europe/Berlin:20250118T130000
DTEND;TZID=Europe/Berlin:20250118T143000
SUMMARY:Landesliga MA HSG Seevetal/Ashausen vs HSG Sottrum/ Ottersberg (51)
UID:c7d155f7-8bcc-46fd-a40b-9f706f0df7f0
STATUS:CONFIRMED
LAST-MODIFIED:20250214T132958Z
DESCRIPTION:Landesliga männliche Jugend A\nBegegnungs-Nr: 51\nHeim: HSG Seevetal/Ashausen\nGast: HSG Sottrum/ Ottersberg\nHalle: Stelle\, MTV VSH (603101)\nAdresse: Holtorfsloher Weg\, 21435 Stelle (OT Ashausen)\n
LOCATION:Stelle\, MTV VSH (603101): Holtorfsloher Weg\, 21435 Stelle (OT Ashausen)
CATEGORIES:Saison 2024/25
END:VEVENT
BEGIN:VEVENT
DTSTAMP:20260425T111948Z
DTSTART;TZID=Europe/Berlin:20250216T160000
DTEND;TZID=Europe/Berlin:20250216T173000
SUMMARY:Landesliga MA HSG Seevetal/Ashausen vs JMSG Winsen-Elbmarsch (61)
UID:774c7f47-e2ad-4a43-9709-20b321c03ca3
STATUS:CONFIRMED
LAST-MODIFIED:20250217T083012Z
DESCRIPTION:Landesliga männliche Jugend A\nBegegnungs-Nr: 61\nHeim: HSG Seevetal/Ashausen\nGast: JMSG Winsen-Elbmarsch\nHalle: Stelle\, MTV VSH (603101)\nAdresse: Holtorfsloher Weg\, 21435 Stelle (OT Ashausen)\n
LOCATION:Stelle\, MTV VSH (603101): Holtorfsloher Weg\, 21435 Stelle (OT Ashausen)
CATEGORIES:Saison 2024/25
END:VEVENT
BEGIN:VEVENT
DTSTAMP:20260425T111948Z
DTSTART;TZID=Europe/Berlin:20250315T130000
DTEND;TZID=Europe/Berlin:20250315T143000
SUMMARY:Landesliga MA HSG Seevetal/Ashausen vs VfL Westercelle (75)
UID:6a83e05f-3e19-4b16-a7c3-544ebb5a905e
STATUS:CONFIRMED
LAST-MODIFIED:20250317T154227Z
DESCRIPTION:Landesliga männliche Jugend A\nBegegnungs-Nr: 75\nHeim: HSG Seevetal/Ashausen\nGast: VfL Westercelle\nHalle: Stelle\, MTV VSH (603101)\nAdresse: Holtorfsloher Weg\, 21435 Stelle (OT Ashausen)\n
LOCATION:Stelle\, MTV VSH (603101): Holtorfsloher Weg\, 21435 Stelle (OT Ashausen)
CATEGORIES:Saison 2024/25
END:VEVENT
BEGIN:VEVENT
DTSTAMP:20260425T111948Z
DTSTART;TZID=Europe/Berlin:20250329T130000
DTEND;TZID=Europe/Berlin:20250329T143000
SUMMARY:Landesliga MA HSG Seevetal/Ashausen vs JMSG Gellersen/Lüneburg (83)
UID:c13ebedd-dfe2-4ca9-a285-608d7206d45c
STATUS:CONFIRMED
LAST-MODIFIED:20250331T191926Z
DESCRIPTION:Landesliga männliche Jugend A\nBegegnungs-Nr: 83\nHeim: HSG Seevetal/Ashausen\nGast: JMSG Gellersen/Lüneburg\nHalle: Stelle\, MTV VSH (603101)\nAdresse: Holtorfsloher Weg\, 21435 Stelle (OT Ashausen)\n
LOCATION:Stelle\, MTV VSH (603101): Holtorfsloher Weg\, 21435 Stelle (OT Ashausen)
CATEGORIES:Saison 2024/25
END:VEVENT
BEGIN:VEVENT
DTSTAMP:20260425T111948Z
DTSTART;TZID=Europe/Berlin:20240925T203000
DTEND;TZID=Europe/Berlin:20240925T220000
SUMMARY:Landesliga MA HSG Seevetal/Ashausen vs TuS Jahn Hollenstedt (15)
UID:e945874d-8454-4b89-bfff-0a4cd0c91209
STATUS:CONFIRMED
LAST-MODIFIED:20240927T080245Z
DESCRIPTION:Landesliga männliche Jugend A\nBegegnungs-Nr: 15\nHeim: HSG Seevetal/Ashausen\nGast: TuS Jahn Hollenstedt\nHalle: Stelle\, MTV VSH (603101)\nAdresse: Holtorfsloher Weg\, 21435 Stelle (OT Ashausen)\n
LOCATION:Stelle\, MTV VSH (603101): Holtorfsloher Weg\, 21435 Stelle (OT Ashausen)
CATEGORIES:Saison 2024/25
END:VEVENT
BEGIN:VEVENT
DTSTAMP:20260425T111948Z
DTSTART;TZID=Europe/Berlin:20250327T184500
DTEND;TZID=Europe/Berlin:20250327T201500
SUMMARY:Landesliga MA HSG Seevetal/Ashausen vs TuS Bergen (66)
UID:e97aedd3-09f9-4603-a6af-edb9e63303e0
STATUS:CONFIRMED
LAST-MODIFIED:20250328T183519Z
DESCRIPTION:Landesliga männliche Jugend A\nBegegnungs-Nr: 66\nHeim: HSG Seevetal/Ashausen\nGast: TuS Bergen\nHalle: Stelle\, MTV VSH (603101)\nAdresse: Holtorfsloher Weg\, 21435 Stelle (OT Ashausen)\n
LOCATION:Stelle\, MTV VSH (603101): Holtorfsloher Weg\, 21435 Stelle (OT Ashausen)
CATEGORIES:Saison 2024/25
END:VEVENT
BEGIN:VEVENT
DTSTAMP:20260425T111948Z
DTSTART;TZID=Europe/Berlin:20250127T194500
DTEND;TZID=Europe/Berlin:20250127T211500
SUMMARY:Landesliga MA MTV Schwarmstedt vs HSG Seevetal/Ashausen (58)
UID:91748064-7298-4e99-9d36-bc7ccbf20d16
STATUS:CONFIRMED
LAST-MODIFIED:20250205T134549Z
DESCRIPTION:Landesliga männliche Jugend A\nBegegnungs-Nr: 58\nHeim: MTV Schwarmstedt\nGast: HSG Seevetal/Ashausen\nHalle: Schwarmstedt\, Wilhelm-Röpke-Schule (607111)\nAdresse: Am Schloonberg 9\, 29690 Schwarmstedt\n
LOCATION:Schwarmstedt\, Wilhelm-Röpke-Schule (607111): Am Schloonberg 9\, 29690 Schwarmstedt
CATEGORIES:Saison 2024/25
END:VEVENT
BEGIN:VEVENT
DTSTAMP:20260425T111948Z
DTSTART;TZID=Europe/Berlin:20250111T150000
DTEND;TZID=Europe/Berlin:20250111T163000
SUMMARY:Landesliga MA VfL Westercelle vs HSG Seevetal/Ashausen (47)
UID:a2c6bfb2-94f6-416e-9768-3682f00076e5
STATUS:CONFIRMED
LAST-MODIFIED:20250113T083531Z
DESCRIPTION:Landesliga männliche Jugend A\nBegegnungs-Nr: 47\nHeim: VfL Westercelle\nGast: HSG Seevetal/Ashausen\nHalle: Celle\, Herm.-Billung-Gymnasium (601115)\nAdresse: Hermann-Billung-Straße 1\, 29225 Celle (OT Neustadt)\n
LOCATION:Celle\, Herm.-Billung-Gymnasium (601115): Hermann-Billung-Straße 1\, 29225 Celle (OT Neustadt)
CATEGORIES:Saison 2024/25
END:VEVENT
BEGIN:VEVENT
DTSTAMP:20260425T111948Z
DTSTART;TZID=Europe/Berlin:20240922T143000
DTEND;TZID=Europe/Berlin:20240922T160000
SUMMARY:Landesliga MA TuS Bergen vs HSG Seevetal/Ashausen (10)
UID:4eb7dc1a-bac4-4e8c-933f-bd87fa0d086c
STATUS:CONFIRMED
LAST-MODIFIED:20240927T080211Z
DESCRIPTION:Landesliga männliche Jugend A\nBegegnungs-Nr: 10\nHeim: TuS Bergen\nGast: HSG Seevetal/Ashausen\nHalle: Bergen\, Am Heisterkamp (601106)\nAdresse: Karlsruher Str. 1\, 29303 Bergen\n
LOCATION:Bergen\, Am Heisterkamp (601106): Karlsruher Str. 1\, 29303 Bergen
CATEGORIES:Saison 2024/25
END:VEVENT
BEGIN:VEVENT
DTSTAMP:20260425T111948Z
DTSTART;TZID=Europe/Berlin:20241104T194500
DTEND;TZID=Europe/Berlin:20241104T211500
SUMMARY:Landesliga MA MTV Schwarmstedt vs HSG Seevetal/Ashausen (2)
UID:f09a3c42-4965-4cf0-8805-c66d16269d97
STATUS:CONFIRMED
LAST-MODIFIED:20241105T131016Z
DESCRIPTION:Landesliga männliche Jugend A\nBegegnungs-Nr: 2\nHeim: MTV Schwarmstedt\nGast: HSG Seevetal/Ashausen\nHalle: Schwarmstedt\, Wilhelm-Röpke-Schule (607111)\nAdresse: Am Schloonberg 9\, 29690 Schwarmstedt\n
LOCATION:Schwarmstedt\, Wilhelm-Röpke-Schule (607111): Am Schloonberg 9\, 29690 Schwarmstedt
CATEGORIES:Saison 2024/25
END:VEVENT
BEGIN:VEVENT
DTSTAMP:20260425T111948Z
DTSTART;TZID=Europe/Berlin:20241102T130000
DTEND;TZID=Europe/Berlin:20241102T143000
SUMMARY:Landesliga MA HSG Sottrum/ Ottersberg vs HSG Seevetal/Ashausen (23)
UID:0c6b8830-d8c1-48a8-843c-fed44062a0af
STATUS:CONFIRMED
LAST-MODIFIED:20250214T132958Z
DESCRIPTION:Landesliga männliche Jugend A\nBegegnungs-Nr: 23\nHeim: HSG Sottrum/ Ottersberg\nGast: HSG Seevetal/Ashausen\nHalle: Sottrum\, Wilhelm-Schröder-SZ  (609150)\nAdresse: Am Bullenworth\, 27367 Sottrum\n
LOCATION:Sottrum\, Wilhelm-Schröder-SZ  (609150): Am Bullenworth\, 27367 Sottrum
CATEGORIES:Saison 2024/25
END:VEVENT
BEGIN:VEVENT
DTSTAMP:20260425T111948Z
DTSTART;TZID=Europe/Berlin:20250126T170000
DTEND;TZID=Europe/Berlin:20250126T183000
SUMMARY:Landesliga MA JMSG Gellersen/Lüneburg vs HSG Seevetal/Ashausen (55)
UID:64426d5a-ece2-4965-bf58-2dbccd9d20b6
STATUS:CONFIRMED
LAST-MODIFIED:20250127T080357Z
DESCRIPTION:Landesliga männliche Jugend A\nBegegnungs-Nr: 55\nHeim: JMSG Gellersen/Lüneburg\nGast: HSG Seevetal/Ashausen\nHalle: Reppenstedt\, SH (605151)\nAdresse: Dachtmisser Straße\, 21391 Reppenstedt\n
LOCATION:Reppenstedt\, SH (605151): Dachtmisser Straße\, 21391 Reppenstedt
CATEGORIES:Saison 2024/25
END:VEVENT
BEGIN:VEVENT
DTSTAMP:20260425T111948Z
DTSTART;TZID=Europe/Berlin:20241214T150000
DTEND;TZID=Europe/Berlin:20241214T163000
SUMMARY:Landesliga MA TuS Jahn Hollenstedt vs HSG Seevetal/Ashausen (43)
UID:f25b9bb8-b7bb-490f-bdff-5c841ec9f652
STATUS:CONFIRMED
LAST-MODIFIED:20241216T092718Z
DESCRIPTION:Landesliga männliche Jugend A\nBegegnungs-Nr: 43\nHeim: TuS Jahn Hollenstedt\nGast: HSG Seevetal/Ashausen\nHalle: Hollenstedt\, Max-Schmeling-Hallen (Halle 1) (603110)\nAdresse: Jahnstraße\, 21279 Hollenstedt\n
LOCATION:Hollenstedt\, Max-Schmeling-Hallen (Halle 1) (603110): Jahnstraße\, 21279 Hollenstedt
CATEGORIES:Saison 2024/25
END:VEVENT
BEGIN:VEVENT
DTSTAMP:20260425T111948Z
DTSTART;TZID=Europe/Berlin:20241201T170000
DTEND;TZID=Europe/Berlin:20241201T183000
SUMMARY:Landesliga MA JMSG Winsen-Elbmarsch vs HSG Seevetal/Ashausen (33)
UID:40213634-9bb8-4a70-8a85-391020aed2a9
STATUS:CONFIRMED
LAST-MODIFIED:20241202T105101Z
DESCRIPTION:Landesliga männliche Jugend A\nBegegnungs-Nr: 33\nHeim: JMSG Winsen-Elbmarsch\nGast: HSG Seevetal/Ashausen\nHalle: Winsen/L.\, SH BS (603121)\nAdresse: Bürgerweide\, 21423 Winsen/Luhe\n
LOCATION:Winsen/L.\, SH BS (603121): Bürgerweide\, 21423 Winsen/Luhe
CATEGORIES:Saison 2024/25
END:VEVENT
END:VCALENDAR
