BEGIN:VCALENDAR
PRODID:-//nuDatenautomaten//framework iCal4j //DE
VERSION:2.0
CALSCALE:GREGORIAN
BEGIN:VTIMEZONE
TZID:Europe/Berlin
LAST-MODIFIED:20260306T231828Z
TZURL:https://www.tzurl.org/zoneinfo/Europe/Berlin
X-LIC-LOCATION:Europe/Berlin
X-PROLEPTIC-TZNAME:LMT
BEGIN:STANDARD
TZNAME:CET
TZOFFSETFROM:+005328
TZOFFSETTO:+0100
DTSTART:18930401T000000
END:STANDARD
BEGIN:DAYLIGHT
TZNAME:CEST
TZOFFSETFROM:+0100
TZOFFSETTO:+0200
DTSTART:19160430T230000
RDATE:19400401T020000
RDATE:19430329T020000
RDATE:19460414T020000
RDATE:19470406T030000
RDATE:19480418T020000
RDATE:19490410T020000
RDATE:19800406T020000
END:DAYLIGHT
BEGIN:STANDARD
TZNAME:CET
TZOFFSETFROM:+0200
TZOFFSETTO:+0100
DTSTART:19161001T010000
RDATE:19421102T030000
RDATE:19431004T030000
RDATE:19441002T030000
RDATE:19451118T030000
RDATE:19461007T030000
END:STANDARD
BEGIN:DAYLIGHT
TZNAME:CEST
TZOFFSETFROM:+0100
TZOFFSETTO:+0200
DTSTART:19170416T020000
RRULE:FREQ=YEARLY;UNTIL=19180415T010000Z;BYMONTH=4;BYDAY=3MO
END:DAYLIGHT
BEGIN:STANDARD
TZNAME:CET
TZOFFSETFROM:+0200
TZOFFSETTO:+0100
DTSTART:19170917T030000
RRULE:FREQ=YEARLY;UNTIL=19180916T010000Z;BYMONTH=9;BYDAY=3MO
END:STANDARD
BEGIN:DAYLIGHT
TZNAME:CEST
TZOFFSETFROM:+0100
TZOFFSETTO:+0200
DTSTART:19440403T020000
RRULE:FREQ=YEARLY;UNTIL=19450402T010000Z;BYMONTH=4;BYDAY=1MO
END:DAYLIGHT
BEGIN:DAYLIGHT
TZNAME:CEMT
TZOFFSETFROM:+0200
TZOFFSETTO:+0300
DTSTART:19450524T020000
RDATE:19470511T030000
END:DAYLIGHT
BEGIN:DAYLIGHT
TZNAME:CEST
TZOFFSETFROM:+0300
TZOFFSETTO:+0200
DTSTART:19450924T030000
RDATE:19470629T030000
END:DAYLIGHT
BEGIN:STANDARD
TZNAME:CET
TZOFFSETFROM:+0100
TZOFFSETTO:+0100
DTSTART:19460101T000000
RDATE:19800101T000000
END:STANDARD
BEGIN:STANDARD
TZNAME:CET
TZOFFSETFROM:+0200
TZOFFSETTO:+0100
DTSTART:19471005T030000
RRULE:FREQ=YEARLY;UNTIL=19491002T010000Z;BYMONTH=10;BYDAY=1SU
END:STANDARD
BEGIN:STANDARD
TZNAME:CET
TZOFFSETFROM:+0200
TZOFFSETTO:+0100
DTSTART:19800928T030000
RRULE:FREQ=YEARLY;UNTIL=19950924T010000Z;BYMONTH=9;BYDAY=-1SU
END:STANDARD
BEGIN:DAYLIGHT
TZNAME:CEST
TZOFFSETFROM:+0100
TZOFFSETTO:+0200
DTSTART:19810329T020000
RRULE:FREQ=YEARLY;BYMONTH=3;BYDAY=-1SU
END:DAYLIGHT
BEGIN:STANDARD
TZNAME:CET
TZOFFSETFROM:+0200
TZOFFSETTO:+0100
DTSTART:19961027T030000
RRULE:FREQ=YEARLY;BYMONTH=10;BYDAY=-1SU
END:STANDARD
END:VTIMEZONE
BEGIN:VEVENT
DTSTAMP:20260424T082751Z
DTSTART;TZID=Europe/Berlin:20250125T190000
DTEND;TZID=Europe/Berlin:20250125T203000
SUMMARY:Bezirksliga Männer TV Immenstadt vs TuS Fürstenfeldbruck II (73)
UID:ed497d74-21dc-4b70-8498-42f7e622bcee
STATUS:CONFIRMED
LAST-MODIFIED:20250126T110243Z
DESCRIPTION:Bezirksliga Männer\nBegegnungs-Nr: 73\nHeim: TV Immenstadt\nGast: TuS Fürstenfeldbruck II\nHalle: Immenstadt\, Julius-Kunert-Halle (270160)\nAdresse: Allgäuer Str. 6\, 87509 Immenstadt\n
LOCATION:Immenstadt\, Julius-Kunert-Halle (270160): Allgäuer Str. 6\, 87509 Immenstadt
CATEGORIES:Saison 2024/25
END:VEVENT
BEGIN:VEVENT
DTSTAMP:20260424T082751Z
DTSTART;TZID=Europe/Berlin:20241019T190000
DTEND;TZID=Europe/Berlin:20241019T203000
SUMMARY:Bezirksliga Männer TV Immenstadt vs Dietmannsried/Altusried II (27)
UID:64fa52f3-8bc8-4bce-a504-89c73f30eead
STATUS:CONFIRMED
LAST-MODIFIED:20241019T221618Z
DESCRIPTION:Bezirksliga Männer\nBegegnungs-Nr: 27\nHeim: TV Immenstadt\nGast: Dietmannsried/Altusried II\nHalle: Immenstadt\, Julius-Kunert-Halle (270160)\nAdresse: Allgäuer Str. 6\, 87509 Immenstadt\n
LOCATION:Immenstadt\, Julius-Kunert-Halle (270160): Allgäuer Str. 6\, 87509 Immenstadt
CATEGORIES:Saison 2024/25
END:VEVENT
BEGIN:VEVENT
DTSTAMP:20260424T082751Z
DTSTART;TZID=Europe/Berlin:20241116T190000
DTEND;TZID=Europe/Berlin:20241116T203000
SUMMARY:Bezirksliga Männer TV Immenstadt vs SV Pullach (40)
UID:7239e55e-6f78-4f7b-ac33-83e003d1b37d
STATUS:CONFIRMED
LAST-MODIFIED:20241116T231655Z
DESCRIPTION:Bezirksliga Männer\nBegegnungs-Nr: 40\nHeim: TV Immenstadt\nGast: SV Pullach\nHalle: Immenstadt\, Julius-Kunert-Halle (270160)\nAdresse: Allgäuer Str. 6\, 87509 Immenstadt\n
LOCATION:Immenstadt\, Julius-Kunert-Halle (270160): Allgäuer Str. 6\, 87509 Immenstadt
CATEGORIES:Saison 2024/25
END:VEVENT
BEGIN:VEVENT
DTSTAMP:20260424T082751Z
DTSTART;TZID=Europe/Berlin:20250412T130000
DTEND;TZID=Europe/Berlin:20250412T143000
SUMMARY:Bezirksliga Männer TV Immenstadt vs TSV Weilheim II (132)
UID:c771d305-10c2-4208-9700-5dd2c6618ec6
STATUS:CONFIRMED
LAST-MODIFIED:20250412T171520Z
DESCRIPTION:Bezirksliga Männer\nBegegnungs-Nr: 132\nHeim: TV Immenstadt\nGast: TSV Weilheim II\nHalle: Immenstadt\, Julius-Kunert-Halle (270160)\nAdresse: Allgäuer Str. 6\, 87509 Immenstadt\n
LOCATION:Immenstadt\, Julius-Kunert-Halle (270160): Allgäuer Str. 6\, 87509 Immenstadt
CATEGORIES:Saison 2024/25
END:VEVENT
BEGIN:VEVENT
DTSTAMP:20260424T082751Z
DTSTART;TZID=Europe/Berlin:20250222T190000
DTEND;TZID=Europe/Berlin:20250222T203000
SUMMARY:Bezirksliga Männer TV Immenstadt vs TSV Schongau (99)
UID:a78c8394-722e-4f18-9f12-032831aa8421
STATUS:CONFIRMED
LAST-MODIFIED:20250224T163833Z
DESCRIPTION:Bezirksliga Männer\nBegegnungs-Nr: 99\nHeim: TV Immenstadt\nGast: TSV Schongau\nHalle: Immenstadt\, Julius-Kunert-Halle (270160)\nAdresse: Allgäuer Str. 6\, 87509 Immenstadt\n
LOCATION:Immenstadt\, Julius-Kunert-Halle (270160): Allgäuer Str. 6\, 87509 Immenstadt
CATEGORIES:Saison 2024/25
END:VEVENT
BEGIN:VEVENT
DTSTAMP:20260424T082751Z
DTSTART;TZID=Europe/Berlin:20241208T160000
DTEND;TZID=Europe/Berlin:20241208T173000
SUMMARY:Bezirksliga Männer TV Immenstadt vs HSG Würm-Mitte 22 II (53)
UID:b52d1ba8-e08c-4ee2-8e52-884962f3cc43
STATUS:CONFIRMED
LAST-MODIFIED:20250111T211136Z
DESCRIPTION:Bezirksliga Männer\nBegegnungs-Nr: 53\nHeim: TV Immenstadt\nGast: HSG Würm-Mitte 22 II\nHalle: Immenstadt\, Julius-Kunert-Halle (270160)\nAdresse: Allgäuer Str. 6\, 87509 Immenstadt\n
LOCATION:Immenstadt\, Julius-Kunert-Halle (270160): Allgäuer Str. 6\, 87509 Immenstadt
CATEGORIES:Saison 2024/25
END:VEVENT
BEGIN:VEVENT
DTSTAMP:20260424T082751Z
DTSTART;TZID=Europe/Berlin:20241214T190000
DTEND;TZID=Europe/Berlin:20241214T203000
SUMMARY:Bezirksliga Männer TV Immenstadt vs TSV Murnau (59)
UID:7b12f71b-b86d-4877-9789-334fe72e2e1a
STATUS:CONFIRMED
LAST-MODIFIED:20241213T090701Z
DESCRIPTION:Bezirksliga Männer\nBegegnungs-Nr: 59\nHeim: TV Immenstadt\nGast: TSV Murnau\nHalle: Immenstadt\, Julius-Kunert-Halle (270160)\nAdresse: Allgäuer Str. 6\, 87509 Immenstadt\n
LOCATION:Immenstadt\, Julius-Kunert-Halle (270160): Allgäuer Str. 6\, 87509 Immenstadt
CATEGORIES:Saison 2024/25
END:VEVENT
BEGIN:VEVENT
DTSTAMP:20260424T082751Z
DTSTART;TZID=Europe/Berlin:20250209T170000
DTEND;TZID=Europe/Berlin:20250209T183000
SUMMARY:Bezirksliga Männer TV Immenstadt vs Eichenauer SV II (86)
UID:3cddcc21-c8c9-485c-9b2e-6e8b045981a2
STATUS:CONFIRMED
LAST-MODIFIED:20250209T174015Z
DESCRIPTION:Bezirksliga Männer\nBegegnungs-Nr: 86\nHeim: TV Immenstadt\nGast: Eichenauer SV II\nHalle: Immenstadt\, Julius-Kunert-Halle (270160)\nAdresse: Allgäuer Str. 6\, 87509 Immenstadt\n
LOCATION:Immenstadt\, Julius-Kunert-Halle (270160): Allgäuer Str. 6\, 87509 Immenstadt
CATEGORIES:Saison 2024/25
END:VEVENT
BEGIN:VEVENT
DTSTAMP:20260424T082751Z
DTSTART;TZID=Europe/Berlin:20250323T160000
DTEND;TZID=Europe/Berlin:20250323T173000
SUMMARY:Bezirksliga Männer TV Immenstadt vs TSV Ottobeuren II (112)
UID:52dce410-08af-46c2-ba45-31c485f4ba49
STATUS:CONFIRMED
LAST-MODIFIED:20250323T172127Z
DESCRIPTION:Bezirksliga Männer\nBegegnungs-Nr: 112\nHeim: TV Immenstadt\nGast: TSV Ottobeuren II\nHalle: Immenstadt\, Julius-Kunert-Halle (270160)\nAdresse: Allgäuer Str. 6\, 87509 Immenstadt\n
LOCATION:Immenstadt\, Julius-Kunert-Halle (270160): Allgäuer Str. 6\, 87509 Immenstadt
CATEGORIES:Saison 2024/25
END:VEVENT
BEGIN:VEVENT
DTSTAMP:20260424T082751Z
DTSTART;TZID=Europe/Berlin:20240921T180000
DTEND;TZID=Europe/Berlin:20240921T193000
SUMMARY:Bezirksliga Männer TV Immenstadt vs TSV Partenkirchen (1)
UID:56d55133-ab52-447c-9b84-7fa4c3defecb
STATUS:CONFIRMED
LAST-MODIFIED:20240921T175303Z
DESCRIPTION:Bezirksliga Männer\nBegegnungs-Nr: 1\nHeim: TV Immenstadt\nGast: TSV Partenkirchen\nHalle: Immenstadt\, Julius-Kunert-Halle (270160)\nAdresse: Allgäuer Str. 6\, 87509 Immenstadt\n
LOCATION:Immenstadt\, Julius-Kunert-Halle (270160): Allgäuer Str. 6\, 87509 Immenstadt
CATEGORIES:Saison 2024/25
END:VEVENT
BEGIN:VEVENT
DTSTAMP:20260424T082751Z
DTSTART;TZID=Europe/Berlin:20241005T190000
DTEND;TZID=Europe/Berlin:20241005T203000
SUMMARY:Bezirksliga Männer TV Immenstadt vs TSV Mindelheim (14)
UID:4ae66cca-d5f2-4a81-a2e0-18239061363d
STATUS:CONFIRMED
LAST-MODIFIED:20241005T204211Z
DESCRIPTION:Bezirksliga Männer\nBegegnungs-Nr: 14\nHeim: TV Immenstadt\nGast: TSV Mindelheim\nHalle: Immenstadt\, Julius-Kunert-Halle (270160)\nAdresse: Allgäuer Str. 6\, 87509 Immenstadt\n
LOCATION:Immenstadt\, Julius-Kunert-Halle (270160): Allgäuer Str. 6\, 87509 Immenstadt
CATEGORIES:Saison 2024/25
END:VEVENT
BEGIN:VEVENT
DTSTAMP:20260424T082751Z
DTSTART;TZID=Europe/Berlin:20250405T190000
DTEND;TZID=Europe/Berlin:20250405T203000
SUMMARY:Bezirksliga Männer TSV Murnau vs TV Immenstadt (125)
UID:862f3d75-6513-40eb-86dc-f90a316b7aec
STATUS:CONFIRMED
LAST-MODIFIED:20250406T122621Z
DESCRIPTION:Bezirksliga Männer\nBegegnungs-Nr: 125\nHeim: TSV Murnau\nGast: TV Immenstadt\nHalle: Murnau\, Hans Burger (270226)\nAdresse: Poschinger Allee 8\, 82418 Murnau \n
LOCATION:Murnau\, Hans Burger (270226): Poschinger Allee 8\, 82418 Murnau 
CATEGORIES:Saison 2024/25
END:VEVENT
BEGIN:VEVENT
DTSTAMP:20260424T082751Z
DTSTART;TZID=Europe/Berlin:20241102T170000
DTEND;TZID=Europe/Berlin:20241102T183000
SUMMARY:Bezirksliga Männer TSV Schongau vs TV Immenstadt (33)
UID:878c9b84-7c04-4a97-aa32-78c51a12f717
STATUS:CONFIRMED
LAST-MODIFIED:20241103T164051Z
DESCRIPTION:Bezirksliga Männer\nBegegnungs-Nr: 33\nHeim: TSV Schongau\nGast: TV Immenstadt\nHalle: Schongau\, Lechsporthalle  (270361)\nAdresse: Bürgermeister-Lechenbauer-Str. 11\, 86956 Schongau \n
LOCATION:Schongau\, Lechsporthalle  (270361): Bürgermeister-Lechenbauer-Str. 11\, 86956 Schongau 
CATEGORIES:Saison 2024/25
END:VEVENT
BEGIN:VEVENT
DTSTAMP:20260424T082751Z
DTSTART;TZID=Europe/Berlin:20241123T200000
DTEND;TZID=Europe/Berlin:20241123T213000
SUMMARY:Bezirksliga Männer TSV Ottobeuren II vs TV Immenstadt (46)
UID:7f1f40bd-b1d1-448c-8455-245f7375b025
STATUS:CONFIRMED
LAST-MODIFIED:20241123T213640Z
DESCRIPTION:Bezirksliga Männer\nBegegnungs-Nr: 46\nHeim: TSV Ottobeuren II\nGast: TV Immenstadt\nHalle: Ottobeuren\, Schulzentrum  (270306)\nAdresse: Bergstrasse 80\, 87724 Ottobeuren \n
LOCATION:Ottobeuren\, Schulzentrum  (270306): Bergstrasse 80\, 87724 Ottobeuren 
CATEGORIES:Saison 2024/25
END:VEVENT
BEGIN:VEVENT
DTSTAMP:20260424T082751Z
DTSTART;TZID=Europe/Berlin:20250111T141500
DTEND;TZID=Europe/Berlin:20250111T154500
SUMMARY:Bezirksliga Männer TSV Weilheim II vs TV Immenstadt (66)
UID:20c28265-f8a7-41e7-bd51-81daf92ec777
STATUS:CONFIRMED
LAST-MODIFIED:20250111T211222Z
DESCRIPTION:Bezirksliga Männer\nBegegnungs-Nr: 66\nHeim: TSV Weilheim II\nGast: TV Immenstadt\nHalle: Weilheim\, Jahnhalle  (270461)\nAdresse: Jahnstrasse 2\, 82362 Weilheim\n
LOCATION:Weilheim\, Jahnhalle  (270461): Jahnstrasse 2\, 82362 Weilheim
CATEGORIES:Saison 2024/25
END:VEVENT
BEGIN:VEVENT
DTSTAMP:20260424T082751Z
DTSTART;TZID=Europe/Berlin:20250118T190000
DTEND;TZID=Europe/Berlin:20250118T203000
SUMMARY:Bezirksliga Männer TSV Partenkirchen vs TV Immenstadt (67)
UID:b9c357a5-013c-494e-8f12-a8473d832497
STATUS:CONFIRMED
LAST-MODIFIED:20250118T221151Z
DESCRIPTION:Bezirksliga Männer\nBegegnungs-Nr: 67\nHeim: TSV Partenkirchen\nGast: TV Immenstadt\nHalle: Partenkirchen\, Werdenfels Gym. (270121)\nAdresse: Wettersteinstrasse 30\, 82467 Garmisch-Partenkirchen\n
LOCATION:Partenkirchen\, Werdenfels Gym. (270121): Wettersteinstrasse 30\, 82467 Garmisch-Partenkirchen
CATEGORIES:Saison 2024/25
END:VEVENT
BEGIN:VEVENT
DTSTAMP:20260424T082751Z
DTSTART;TZID=Europe/Berlin:20250308T183000
DTEND;TZID=Europe/Berlin:20250308T200000
SUMMARY:Bezirksliga Männer TSV Mindelheim vs TV Immenstadt (80)
UID:84e4dc44-b47e-4dfd-9132-c72fc18fbb46
STATUS:CONFIRMED
LAST-MODIFIED:20250309T132854Z
DESCRIPTION:Bezirksliga Männer\nBegegnungs-Nr: 80\nHeim: TSV Mindelheim\nGast: TV Immenstadt\nHalle: Mindelheim\, Maristenkolleg (270224)\nAdresse: Champagnatplatz 1\, 87719 Mindelheim \n
LOCATION:Mindelheim\, Maristenkolleg (270224): Champagnatplatz 1\, 87719 Mindelheim 
CATEGORIES:Saison 2024/25
END:VEVENT
BEGIN:VEVENT
DTSTAMP:20260424T082751Z
DTSTART;TZID=Europe/Berlin:20250215T170000
DTEND;TZID=Europe/Berlin:20250215T183000
SUMMARY:Bezirksliga Männer Dietmannsried/Altusried II vs TV Immenstadt (93)
UID:3ee941e5-8abd-4ceb-8e2a-7024887c167c
STATUS:CONFIRMED
LAST-MODIFIED:20250215T201923Z
DESCRIPTION:Bezirksliga Männer\nBegegnungs-Nr: 93\nHeim: Dietmannsried/Altusried II\nGast: TV Immenstadt\nHalle: Dietmannsried\, Dreifachsporthalle (270060)\nAdresse: Schulstrasse \, 87463 Dietmannsried\n
LOCATION:Dietmannsried\, Dreifachsporthalle (270060): Schulstrasse \, 87463 Dietmannsried
CATEGORIES:Saison 2024/25
END:VEVENT
BEGIN:VEVENT
DTSTAMP:20260424T082751Z
DTSTART;TZID=Europe/Berlin:20250315T193000
DTEND;TZID=Europe/Berlin:20250315T210000
SUMMARY:Bezirksliga Männer SV Pullach vs TV Immenstadt (106)
UID:7f3171b6-1da0-468b-9037-2334058e66ba
STATUS:CONFIRMED
LAST-MODIFIED:20250316T181116Z
DESCRIPTION:Bezirksliga Männer\nBegegnungs-Nr: 106\nHeim: SV Pullach\nGast: TV Immenstadt\nHalle: Pullach\, Erzdiözese (270325)\nAdresse: Wolfratshauser Str. 30\, 82049 Pullach\n
LOCATION:Pullach\, Erzdiözese (270325): Wolfratshauser Str. 30\, 82049 Pullach
CATEGORIES:Saison 2024/25
END:VEVENT
BEGIN:VEVENT
DTSTAMP:20260424T082751Z
DTSTART;TZID=Europe/Berlin:20250329T153000
DTEND;TZID=Europe/Berlin:20250329T170000
SUMMARY:Bezirksliga Männer HSG Würm-Mitte 22 II vs TV Immenstadt (119)
UID:f6ab5d07-5a33-484e-9f98-de87aa46f3c5
STATUS:CONFIRMED
LAST-MODIFIED:20250329T185637Z
DESCRIPTION:Bezirksliga Männer\nBegegnungs-Nr: 119\nHeim: HSG Würm-Mitte 22 II\nGast: TV Immenstadt\nHalle: Gräfelfing\, Kurt-Huber-Gymnasium (270129)\nAdresse: Adalbert-Stifter-Strasse 4\, 82166 Gräfelfing\n
LOCATION:Gräfelfing\, Kurt-Huber-Gymnasium (270129): Adalbert-Stifter-Strasse 4\, 82166 Gräfelfing
CATEGORIES:Saison 2024/25
END:VEVENT
BEGIN:VEVENT
DTSTAMP:20260424T082751Z
DTSTART;TZID=Europe/Berlin:20240929T170000
DTEND;TZID=Europe/Berlin:20240929T183000
SUMMARY:Bezirksliga Männer TuS Fürstenfeldbruck II vs TV Immenstadt (7)
UID:4a4f22bf-4c24-4a6d-ba3a-3bc7fc8b5500
STATUS:CONFIRMED
LAST-MODIFIED:20240929T193923Z
DESCRIPTION:Bezirksliga Männer\nBegegnungs-Nr: 7\nHeim: TuS Fürstenfeldbruck II\nGast: TV Immenstadt\nHalle: Fürstenfeldbruck\, Wittelsbacher-Halle (270100)\nAdresse: Bahnhofstr. 15 (Eing. Stockmeierweg)\, 82256 Fürstenfeldbruck \n
LOCATION:Fürstenfeldbruck\, Wittelsbacher-Halle (270100): Bahnhofstr. 15 (Eing. Stockmeierweg)\, 82256 Fürstenfeldbruck 
CATEGORIES:Saison 2024/25
END:VEVENT
BEGIN:VEVENT
DTSTAMP:20260424T082751Z
DTSTART;TZID=Europe/Berlin:20241012T200000
DTEND;TZID=Europe/Berlin:20241012T213000
SUMMARY:Bezirksliga Männer Eichenauer SV II vs TV Immenstadt (20)
UID:94e5c2fc-fd0d-48d4-81da-6e3dfb56483d
STATUS:CONFIRMED
LAST-MODIFIED:20241012T202733Z
DESCRIPTION:Bezirksliga Männer\nBegegnungs-Nr: 20\nHeim: Eichenauer SV II\nGast: TV Immenstadt\nHalle: Eichenau\, Sporthalle Budrio-Allee (270080)\nAdresse: Budrioallee\, 82223 Eichenau\n
LOCATION:Eichenau\, Sporthalle Budrio-Allee (270080): Budrioallee\, 82223 Eichenau
CATEGORIES:Saison 2024/25
END:VEVENT
END:VCALENDAR
