BEGIN:VCALENDAR
PRODID:-//nuDatenautomaten//framework iCal4j //DE
VERSION:2.0
CALSCALE:GREGORIAN
BEGIN:VTIMEZONE
TZID:Europe/Berlin
LAST-MODIFIED:20260306T231828Z
TZURL:https://www.tzurl.org/zoneinfo/Europe/Berlin
X-LIC-LOCATION:Europe/Berlin
X-PROLEPTIC-TZNAME:LMT
BEGIN:STANDARD
TZNAME:CET
TZOFFSETFROM:+005328
TZOFFSETTO:+0100
DTSTART:18930401T000000
END:STANDARD
BEGIN:DAYLIGHT
TZNAME:CEST
TZOFFSETFROM:+0100
TZOFFSETTO:+0200
DTSTART:19160430T230000
RDATE:19400401T020000
RDATE:19430329T020000
RDATE:19460414T020000
RDATE:19470406T030000
RDATE:19480418T020000
RDATE:19490410T020000
RDATE:19800406T020000
END:DAYLIGHT
BEGIN:STANDARD
TZNAME:CET
TZOFFSETFROM:+0200
TZOFFSETTO:+0100
DTSTART:19161001T010000
RDATE:19421102T030000
RDATE:19431004T030000
RDATE:19441002T030000
RDATE:19451118T030000
RDATE:19461007T030000
END:STANDARD
BEGIN:DAYLIGHT
TZNAME:CEST
TZOFFSETFROM:+0100
TZOFFSETTO:+0200
DTSTART:19170416T020000
RRULE:FREQ=YEARLY;UNTIL=19180415T010000Z;BYMONTH=4;BYDAY=3MO
END:DAYLIGHT
BEGIN:STANDARD
TZNAME:CET
TZOFFSETFROM:+0200
TZOFFSETTO:+0100
DTSTART:19170917T030000
RRULE:FREQ=YEARLY;UNTIL=19180916T010000Z;BYMONTH=9;BYDAY=3MO
END:STANDARD
BEGIN:DAYLIGHT
TZNAME:CEST
TZOFFSETFROM:+0100
TZOFFSETTO:+0200
DTSTART:19440403T020000
RRULE:FREQ=YEARLY;UNTIL=19450402T010000Z;BYMONTH=4;BYDAY=1MO
END:DAYLIGHT
BEGIN:DAYLIGHT
TZNAME:CEMT
TZOFFSETFROM:+0200
TZOFFSETTO:+0300
DTSTART:19450524T020000
RDATE:19470511T030000
END:DAYLIGHT
BEGIN:DAYLIGHT
TZNAME:CEST
TZOFFSETFROM:+0300
TZOFFSETTO:+0200
DTSTART:19450924T030000
RDATE:19470629T030000
END:DAYLIGHT
BEGIN:STANDARD
TZNAME:CET
TZOFFSETFROM:+0100
TZOFFSETTO:+0100
DTSTART:19460101T000000
RDATE:19800101T000000
END:STANDARD
BEGIN:STANDARD
TZNAME:CET
TZOFFSETFROM:+0200
TZOFFSETTO:+0100
DTSTART:19471005T030000
RRULE:FREQ=YEARLY;UNTIL=19491002T010000Z;BYMONTH=10;BYDAY=1SU
END:STANDARD
BEGIN:STANDARD
TZNAME:CET
TZOFFSETFROM:+0200
TZOFFSETTO:+0100
DTSTART:19800928T030000
RRULE:FREQ=YEARLY;UNTIL=19950924T010000Z;BYMONTH=9;BYDAY=-1SU
END:STANDARD
BEGIN:DAYLIGHT
TZNAME:CEST
TZOFFSETFROM:+0100
TZOFFSETTO:+0200
DTSTART:19810329T020000
RRULE:FREQ=YEARLY;BYMONTH=3;BYDAY=-1SU
END:DAYLIGHT
BEGIN:STANDARD
TZNAME:CET
TZOFFSETFROM:+0200
TZOFFSETTO:+0100
DTSTART:19961027T030000
RRULE:FREQ=YEARLY;BYMONTH=10;BYDAY=-1SU
END:STANDARD
END:VTIMEZONE
BEGIN:VEVENT
DTSTAMP:20260423T114134Z
DTSTART;TZID=Europe/Berlin:20241020T153000
DTEND;TZID=Europe/Berlin:20241020T170000
SUMMARY:Bezirksklasse M Staffel Ost TSV Göggingen III vs PSV  Augsburg (25014018)
UID:88ab67c2-c37c-46d9-ba1a-519ba958cdb6
STATUS:CONFIRMED
LAST-MODIFIED:20241020T200548Z
DESCRIPTION:Bezirksklasse Männer Staffel Ost\nBegegnungs-Nr: 25014018\nHeim: TSV Göggingen III\nGast: PSV  Augsburg\nHalle: Göggingen\, Friedrich-Ebert-Schule (250122)\nAdresse: Friedrich-Ebert-Str. 18\, 86199 Göggingen\n
LOCATION:Göggingen\, Friedrich-Ebert-Schule (250122): Friedrich-Ebert-Str. 18\, 86199 Göggingen
CATEGORIES:Saison 2024/25
END:VEVENT
BEGIN:VEVENT
DTSTAMP:20260423T114134Z
DTSTART;TZID=Europe/Berlin:20241123T133000
DTEND;TZID=Europe/Berlin:20241123T150000
SUMMARY:Bezirksklasse M Staffel Ost TSV Göggingen III vs DJK Augsburg-Hochzoll II (25014026)
UID:fa427e3f-deb1-4f32-94fe-fbc836a3627e
STATUS:CONFIRMED
LAST-MODIFIED:20241126T040136Z
DESCRIPTION:Bezirksklasse Männer Staffel Ost\nBegegnungs-Nr: 25014026\nHeim: TSV Göggingen III\nGast: DJK Augsburg-Hochzoll II\nHalle: Göggingen\, Anton-Bezler-Halle (250121)\nAdresse: Anton-Bezler-Str. 1\, 86199 Göggingen\n
LOCATION:Göggingen\, Anton-Bezler-Halle (250121): Anton-Bezler-Str. 1\, 86199 Göggingen
CATEGORIES:Saison 2024/25
END:VEVENT
BEGIN:VEVENT
DTSTAMP:20260423T114134Z
DTSTART;TZID=Europe/Berlin:20250111T133000
DTEND;TZID=Europe/Berlin:20250111T150000
SUMMARY:Bezirksklasse M Staffel Ost TSV Göggingen III vs TSV Schwabmünchen III (25014037)
UID:b66ac16e-5833-47ec-a0e1-b114d21f1342
STATUS:CONFIRMED
LAST-MODIFIED:20250123T204810Z
DESCRIPTION:Bezirksklasse Männer Staffel Ost\nBegegnungs-Nr: 25014037\nHeim: TSV Göggingen III\nGast: TSV Schwabmünchen III\nHalle: Göggingen\, Anton-Bezler-Halle (250121)\nAdresse: Anton-Bezler-Str. 1\, 86199 Göggingen\n
LOCATION:Göggingen\, Anton-Bezler-Halle (250121): Anton-Bezler-Str. 1\, 86199 Göggingen
CATEGORIES:Saison 2024/25
END:VEVENT
BEGIN:VEVENT
DTSTAMP:20260423T114134Z
DTSTART;TZID=Europe/Berlin:20241005T193000
DTEND;TZID=Europe/Berlin:20241005T210000
SUMMARY:Bezirksklasse M Staffel Ost TSV Göggingen III vs TSV Neusäss (25014009)
UID:a9a52504-b013-48c0-9d75-3e3e5c208d29
STATUS:CONFIRMED
LAST-MODIFIED:20241013T083925Z
DESCRIPTION:Bezirksklasse Männer Staffel Ost\nBegegnungs-Nr: 25014009\nHeim: TSV Göggingen III\nGast: TSV Neusäss\nHalle: Göggingen\, Anton-Bezler-Halle (250121)\nAdresse: Anton-Bezler-Str. 1\, 86199 Göggingen\n
LOCATION:Göggingen\, Anton-Bezler-Halle (250121): Anton-Bezler-Str. 1\, 86199 Göggingen
CATEGORIES:Saison 2024/25
END:VEVENT
BEGIN:VEVENT
DTSTAMP:20260423T114134Z
DTSTART;TZID=Europe/Berlin:20250118T153000
DTEND;TZID=Europe/Berlin:20250118T170000
SUMMARY:Bezirksklasse M Staffel Ost TSV Göggingen III vs Kissinger SC (25014044)
UID:4b6a120c-ccda-4901-822e-91f21dc9d0d4
STATUS:CONFIRMED
LAST-MODIFIED:20250123T204930Z
DESCRIPTION:Bezirksklasse Männer Staffel Ost\nBegegnungs-Nr: 25014044\nHeim: TSV Göggingen III\nGast: Kissinger SC\nHalle: Göggingen\, Anton-Bezler-Halle (250121)\nAdresse: Anton-Bezler-Str. 1\, 86199 Göggingen\n
LOCATION:Göggingen\, Anton-Bezler-Halle (250121): Anton-Bezler-Str. 1\, 86199 Göggingen
CATEGORIES:Saison 2024/25
END:VEVENT
BEGIN:VEVENT
DTSTAMP:20260423T114134Z
DTSTART;TZID=Europe/Berlin:20250322T153000
DTEND;TZID=Europe/Berlin:20250322T170000
SUMMARY:Bezirksklasse M Staffel Ost TSV Göggingen III vs SV Mering II (25014066)
UID:70ebb1f8-86cf-41e4-bc3b-b01165ccca5c
STATUS:CONFIRMED
LAST-MODIFIED:20250408T180607Z
DESCRIPTION:Bezirksklasse Männer Staffel Ost\nBegegnungs-Nr: 25014066\nHeim: TSV Göggingen III\nGast: SV Mering II\nHalle: Göggingen\, Anton-Bezler-Halle (250121)\nAdresse: Anton-Bezler-Str. 1\, 86199 Göggingen\n
LOCATION:Göggingen\, Anton-Bezler-Halle (250121): Anton-Bezler-Str. 1\, 86199 Göggingen
CATEGORIES:Saison 2024/25
END:VEVENT
BEGIN:VEVENT
DTSTAMP:20260423T114134Z
DTSTART;TZID=Europe/Berlin:20241214T133000
DTEND;TZID=Europe/Berlin:20241214T150000
SUMMARY:Bezirksklasse M Staffel Ost TSV Göggingen III vs TSV Bobingen III (25014035)
UID:1991e8a4-56e2-4a74-b495-52753bded644
STATUS:CONFIRMED
LAST-MODIFIED:20250209T195050Z
DESCRIPTION:Bezirksklasse Männer Staffel Ost\nBegegnungs-Nr: 25014035\nHeim: TSV Göggingen III\nGast: TSV Bobingen III\nHalle: Augsburg\,Hans-Adlhoch-Halle Augsburg-Pfersee (250011)\nAdresse: Hans-Adlhochstr. 34\, 86157 Augsburg-Pfersee\n
LOCATION:Augsburg\,Hans-Adlhoch-Halle Augsburg-Pfersee (250011): Hans-Adlhochstr. 34\, 86157 Augsburg-Pfersee
CATEGORIES:Saison 2024/25
END:VEVENT
BEGIN:VEVENT
DTSTAMP:20260423T114134Z
DTSTART;TZID=Europe/Berlin:20250209T133000
DTEND;TZID=Europe/Berlin:20250209T150000
SUMMARY:Bezirksklasse M Staffel Ost TSV Göggingen III vs BHC Königsbr.09 II (25014049)
UID:87a740d8-6caa-4f6c-9c0c-ab7744518e70
STATUS:CONFIRMED
LAST-MODIFIED:20250210T201031Z
DESCRIPTION:Bezirksklasse Männer Staffel Ost\nBegegnungs-Nr: 25014049\nHeim: TSV Göggingen III\nGast: BHC Königsbr.09 II\nHalle: Göggingen\, Friedrich-Ebert-Schule (250122)\nAdresse: Friedrich-Ebert-Str. 18\, 86199 Göggingen\n
LOCATION:Göggingen\, Friedrich-Ebert-Schule (250122): Friedrich-Ebert-Str. 18\, 86199 Göggingen
CATEGORIES:Saison 2024/25
END:VEVENT
BEGIN:VEVENT
DTSTAMP:20260423T114134Z
DTSTART;TZID=Europe/Berlin:20250316T140000
DTEND;TZID=Europe/Berlin:20250316T153000
SUMMARY:Bezirksklasse M Staffel Ost DJK Augsburg-Hochzoll II vs TSV Göggingen III (25014062)
UID:a19f1687-a0a6-4dca-b0a8-1afe99c9beab
STATUS:CONFIRMED
LAST-MODIFIED:20250321T052748Z
DESCRIPTION:Bezirksklasse Männer Staffel Ost\nBegegnungs-Nr: 25014062\nHeim: DJK Augsburg-Hochzoll II\nGast: TSV Göggingen III\nHalle: Augsburg-Hochzoll\, DJK-Sporthalle  (250009)\nAdresse: Zwölf-Apostel-Platz 3\, 86163 Augsburg-Hochzoll\n
LOCATION:Augsburg-Hochzoll\, DJK-Sporthalle  (250009): Zwölf-Apostel-Platz 3\, 86163 Augsburg-Hochzoll
CATEGORIES:Saison 2024/25
END:VEVENT
BEGIN:VEVENT
DTSTAMP:20260423T114134Z
DTSTART;TZID=Europe/Berlin:20240928T160000
DTEND;TZID=Europe/Berlin:20240928T173000
SUMMARY:Bezirksklasse M Staffel Ost Kissinger SC vs TSV Göggingen III (25014008)
UID:aec86cf7-aedc-4c7b-b792-83a28e6c9b3e
STATUS:CONFIRMED
LAST-MODIFIED:20241003T064222Z
DESCRIPTION:Bezirksklasse Männer Staffel Ost\nBegegnungs-Nr: 25014008\nHeim: Kissinger SC\nGast: TSV Göggingen III\nHalle: Kissing\, Paartal-Halle (250180)\nAdresse: Bürgermeister-Wohlmuth-Str. 2\, 86438 Kissing\n
LOCATION:Kissing\, Paartal-Halle (250180): Bürgermeister-Wohlmuth-Str. 2\, 86438 Kissing
CATEGORIES:Saison 2024/25
END:VEVENT
BEGIN:VEVENT
DTSTAMP:20260423T114134Z
DTSTART;TZID=Europe/Berlin:20241013T150000
DTEND;TZID=Europe/Berlin:20241013T163000
SUMMARY:Bezirksklasse M Staffel Ost BHC Königsbr.09 II vs TSV Göggingen III (25014013)
UID:334251fa-fd7d-40c2-a26a-561ecda4a0ed
STATUS:CONFIRMED
LAST-MODIFIED:20241020T200402Z
DESCRIPTION:Bezirksklasse Männer Staffel Ost\nBegegnungs-Nr: 25014013\nHeim: BHC Königsbr.09 II\nGast: TSV Göggingen III\nHalle: Königsbrunn\, Dreifachhalle (250181)\nAdresse: Karwendelstr. 14\, 86343 Königsbrunn\n
LOCATION:Königsbrunn\, Dreifachhalle (250181): Karwendelstr. 14\, 86343 Königsbrunn
CATEGORIES:Saison 2024/25
END:VEVENT
BEGIN:VEVENT
DTSTAMP:20260423T114134Z
DTSTART;TZID=Europe/Berlin:20250405T190000
DTEND;TZID=Europe/Berlin:20250405T203000
SUMMARY:Bezirksklasse M Staffel Ost TSV Bobingen III vs TSV Göggingen III (25014071)
UID:1ece8086-795c-49d4-ab2e-f66ed1f7c01f
STATUS:CONFIRMED
LAST-MODIFIED:20250408T180906Z
DESCRIPTION:Bezirksklasse Männer Staffel Ost\nBegegnungs-Nr: 25014071\nHeim: TSV Bobingen III\nGast: TSV Göggingen III\nHalle: Bobingen\, Sporthalle (250021)\nAdresse: Willi-Ohlendorf-Weg 5\, 86399 Bobingen\n
LOCATION:Bobingen\, Sporthalle (250021): Willi-Ohlendorf-Weg 5\, 86399 Bobingen
CATEGORIES:Saison 2024/25
END:VEVENT
BEGIN:VEVENT
DTSTAMP:20260423T114134Z
DTSTART;TZID=Europe/Berlin:20250125T193000
DTEND;TZID=Europe/Berlin:20250125T210000
SUMMARY:Bezirksklasse M Staffel Ost TSV Neusäss vs TSV Göggingen III (25014045)
UID:b60e8d94-226c-4b69-8e2a-3625aa16df5e
STATUS:CONFIRMED
LAST-MODIFIED:20250210T200809Z
DESCRIPTION:Bezirksklasse Männer Staffel Ost\nBegegnungs-Nr: 25014045\nHeim: TSV Neusäss\nGast: TSV Göggingen III\nHalle: Neusäss\, Sporthalle an der Eichenwaldschule (250260)\nAdresse: Am Eichenwald 51\, 86356 Neusäß\n
LOCATION:Neusäss\, Sporthalle an der Eichenwaldschule (250260): Am Eichenwald 51\, 86356 Neusäß
CATEGORIES:Saison 2024/25
END:VEVENT
BEGIN:VEVENT
DTSTAMP:20260423T114134Z
DTSTART;TZID=Europe/Berlin:20250215T190000
DTEND;TZID=Europe/Berlin:20250215T203000
SUMMARY:Bezirksklasse M Staffel Ost PSV  Augsburg vs TSV Göggingen III (25014054)
UID:ab230eec-6dcd-40f3-a2ae-be4d27c66e66
STATUS:CONFIRMED
LAST-MODIFIED:20250215T210143Z
DESCRIPTION:Bezirksklasse Männer Staffel Ost\nBegegnungs-Nr: 25014054\nHeim: PSV  Augsburg\nGast: TSV Göggingen III\nHalle: Augsburg\, MY PSA (250012)\nAdresse: Max-Josef-Metzger-Str 5\, 86157 Augsburg\n
LOCATION:Augsburg\, MY PSA (250012): Max-Josef-Metzger-Str 5\, 86157 Augsburg
CATEGORIES:Saison 2024/25
END:VEVENT
BEGIN:VEVENT
DTSTAMP:20260423T114134Z
DTSTART;TZID=Europe/Berlin:20240921T160000
DTEND;TZID=Europe/Berlin:20240921T173000
SUMMARY:Bezirksklasse M Staffel Ost TSV Schwabmünchen III vs TSV Göggingen III (25014001)
UID:4c02eab0-d982-4d78-b6ad-7b015c1ab95a
STATUS:CONFIRMED
LAST-MODIFIED:20240926T041926Z
DESCRIPTION:Bezirksklasse Männer Staffel Ost\nBegegnungs-Nr: 25014001\nHeim: TSV Schwabmünchen III\nGast: TSV Göggingen III\nHalle: Schwabmünchen\, Hans-Nebauer-Sporthalle (250361)\nAdresse: Holzheystr. 18\, 86830 Schwabmünchen\n
LOCATION:Schwabmünchen\, Hans-Nebauer-Sporthalle (250361): Holzheystr. 18\, 86830 Schwabmünchen
CATEGORIES:Saison 2024/25
END:VEVENT
BEGIN:VEVENT
DTSTAMP:20260423T114134Z
DTSTART;TZID=Europe/Berlin:20241208T140000
DTEND;TZID=Europe/Berlin:20241208T153000
SUMMARY:Bezirksklasse M Staffel Ost SV Mering II vs TSV Göggingen III (25014030)
UID:02d19549-aee4-47cc-80f6-de15c8ed0c13
STATUS:CONFIRMED
LAST-MODIFIED:20241215T134019Z
DESCRIPTION:Bezirksklasse Männer Staffel Ost\nBegegnungs-Nr: 25014030\nHeim: SV Mering II\nGast: TSV Göggingen III\nHalle: Mering\, Eduard-Ettensberger-Halle (250222)\nAdresse: Tratteilstr.\, 86415 Mering\n
LOCATION:Mering\, Eduard-Ettensberger-Halle (250222): Tratteilstr.\, 86415 Mering
CATEGORIES:Saison 2024/25
END:VEVENT
END:VCALENDAR
