BEGIN:VCALENDAR
PRODID:-//nuDatenautomaten//framework iCal4j //DE
VERSION:2.0
CALSCALE:GREGORIAN
BEGIN:VTIMEZONE
TZID:Europe/Berlin
LAST-MODIFIED:20260306T231828Z
TZURL:https://www.tzurl.org/zoneinfo/Europe/Berlin
X-LIC-LOCATION:Europe/Berlin
X-PROLEPTIC-TZNAME:LMT
BEGIN:STANDARD
TZNAME:CET
TZOFFSETFROM:+005328
TZOFFSETTO:+0100
DTSTART:18930401T000000
END:STANDARD
BEGIN:DAYLIGHT
TZNAME:CEST
TZOFFSETFROM:+0100
TZOFFSETTO:+0200
DTSTART:19160430T230000
RDATE:19400401T020000
RDATE:19430329T020000
RDATE:19460414T020000
RDATE:19470406T030000
RDATE:19480418T020000
RDATE:19490410T020000
RDATE:19800406T020000
END:DAYLIGHT
BEGIN:STANDARD
TZNAME:CET
TZOFFSETFROM:+0200
TZOFFSETTO:+0100
DTSTART:19161001T010000
RDATE:19421102T030000
RDATE:19431004T030000
RDATE:19441002T030000
RDATE:19451118T030000
RDATE:19461007T030000
END:STANDARD
BEGIN:DAYLIGHT
TZNAME:CEST
TZOFFSETFROM:+0100
TZOFFSETTO:+0200
DTSTART:19170416T020000
RRULE:FREQ=YEARLY;UNTIL=19180415T010000Z;BYMONTH=4;BYDAY=3MO
END:DAYLIGHT
BEGIN:STANDARD
TZNAME:CET
TZOFFSETFROM:+0200
TZOFFSETTO:+0100
DTSTART:19170917T030000
RRULE:FREQ=YEARLY;UNTIL=19180916T010000Z;BYMONTH=9;BYDAY=3MO
END:STANDARD
BEGIN:DAYLIGHT
TZNAME:CEST
TZOFFSETFROM:+0100
TZOFFSETTO:+0200
DTSTART:19440403T020000
RRULE:FREQ=YEARLY;UNTIL=19450402T010000Z;BYMONTH=4;BYDAY=1MO
END:DAYLIGHT
BEGIN:DAYLIGHT
TZNAME:CEMT
TZOFFSETFROM:+0200
TZOFFSETTO:+0300
DTSTART:19450524T020000
RDATE:19470511T030000
END:DAYLIGHT
BEGIN:DAYLIGHT
TZNAME:CEST
TZOFFSETFROM:+0300
TZOFFSETTO:+0200
DTSTART:19450924T030000
RDATE:19470629T030000
END:DAYLIGHT
BEGIN:STANDARD
TZNAME:CET
TZOFFSETFROM:+0100
TZOFFSETTO:+0100
DTSTART:19460101T000000
RDATE:19800101T000000
END:STANDARD
BEGIN:STANDARD
TZNAME:CET
TZOFFSETFROM:+0200
TZOFFSETTO:+0100
DTSTART:19471005T030000
RRULE:FREQ=YEARLY;UNTIL=19491002T010000Z;BYMONTH=10;BYDAY=1SU
END:STANDARD
BEGIN:STANDARD
TZNAME:CET
TZOFFSETFROM:+0200
TZOFFSETTO:+0100
DTSTART:19800928T030000
RRULE:FREQ=YEARLY;UNTIL=19950924T010000Z;BYMONTH=9;BYDAY=-1SU
END:STANDARD
BEGIN:DAYLIGHT
TZNAME:CEST
TZOFFSETFROM:+0100
TZOFFSETTO:+0200
DTSTART:19810329T020000
RRULE:FREQ=YEARLY;BYMONTH=3;BYDAY=-1SU
END:DAYLIGHT
BEGIN:STANDARD
TZNAME:CET
TZOFFSETFROM:+0200
TZOFFSETTO:+0100
DTSTART:19961027T030000
RRULE:FREQ=YEARLY;BYMONTH=10;BYDAY=-1SU
END:STANDARD
END:VTIMEZONE
BEGIN:VEVENT
DTSTAMP:20260419T151434Z
DTSTART;TZID=Europe/Berlin:20250315T193000
DTEND;TZID=Europe/Berlin:20250315T210000
SUMMARY:Bezirksoberliga Nabburg/Schwarzenfeld vs TB 03 Roding (24012115)
UID:ce544333-7aad-43c9-a88c-0965c461faeb
STATUS:CONFIRMED
LAST-MODIFIED:20250317T072844Z
DESCRIPTION:Bezirksoberliga Männer\nBegegnungs-Nr: 24012115\nHeim: Nabburg/Schwarzenfeld\nGast: TB 03 Roding\nHalle: Schwarzenfeld\, Mehrzweckhalle im Sportpark (240363)\nAdresse: Nabburger Str. 50\, 92521 Schwarzenfeld\n
LOCATION:Schwarzenfeld\, Mehrzweckhalle im Sportpark (240363): Nabburger Str. 50\, 92521 Schwarzenfeld
CATEGORIES:Saison 2024/25
END:VEVENT
BEGIN:VEVENT
DTSTAMP:20260419T151434Z
DTSTART;TZID=Europe/Berlin:20250208T193000
DTEND;TZID=Europe/Berlin:20250208T210000
SUMMARY:Bezirksoberliga Nabburg/Schwarzenfeld vs TS Herzogenaurach (24012087)
UID:731a7969-bae8-4ca1-bc5f-ea67e24b2afb
STATUS:CONFIRMED
LAST-MODIFIED:20250217T093834Z
DESCRIPTION:Bezirksoberliga Männer\nBegegnungs-Nr: 24012087\nHeim: Nabburg/Schwarzenfeld\nGast: TS Herzogenaurach\nHalle: Schwarzenfeld\, Mehrzweckhalle im Sportpark (240363)\nAdresse: Nabburger Str. 50\, 92521 Schwarzenfeld\n
LOCATION:Schwarzenfeld\, Mehrzweckhalle im Sportpark (240363): Nabburger Str. 50\, 92521 Schwarzenfeld
CATEGORIES:Saison 2024/25
END:VEVENT
BEGIN:VEVENT
DTSTAMP:20260419T151434Z
DTSTART;TZID=Europe/Berlin:20241130T193000
DTEND;TZID=Europe/Berlin:20241130T210000
SUMMARY:Bezirksoberliga Nabburg/Schwarzenfeld vs HG Eckental (24012055)
UID:320a542f-48ea-400f-b7de-5da6408ac4b1
STATUS:CONFIRMED
LAST-MODIFIED:20241203T084503Z
DESCRIPTION:Bezirksoberliga Männer\nBegegnungs-Nr: 24012055\nHeim: Nabburg/Schwarzenfeld\nGast: HG Eckental\nHalle: Schwarzenfeld\, Mehrzweckhalle im Sportpark (240363)\nAdresse: Nabburger Str. 50\, 92521 Schwarzenfeld\n
LOCATION:Schwarzenfeld\, Mehrzweckhalle im Sportpark (240363): Nabburger Str. 50\, 92521 Schwarzenfeld
CATEGORIES:Saison 2024/25
END:VEVENT
BEGIN:VEVENT
DTSTAMP:20260419T151434Z
DTSTART;TZID=Europe/Berlin:20250118T193000
DTEND;TZID=Europe/Berlin:20250118T210000
SUMMARY:Bezirksoberliga Nabburg/Schwarzenfeld vs HC Forchheim (24012075)
UID:e4f61a1e-22a8-48fe-b42d-55ab9fd67504
STATUS:CONFIRMED
LAST-MODIFIED:20250119T110307Z
DESCRIPTION:Bezirksoberliga Männer\nBegegnungs-Nr: 24012075\nHeim: Nabburg/Schwarzenfeld\nGast: HC Forchheim\nHalle: Schwarzenfeld\, Mehrzweckhalle im Sportpark (240363)\nAdresse: Nabburger Str. 50\, 92521 Schwarzenfeld\n
LOCATION:Schwarzenfeld\, Mehrzweckhalle im Sportpark (240363): Nabburger Str. 50\, 92521 Schwarzenfeld
CATEGORIES:Saison 2024/25
END:VEVENT
BEGIN:VEVENT
DTSTAMP:20260419T151434Z
DTSTART;TZID=Europe/Berlin:20250405T183000
DTEND;TZID=Europe/Berlin:20250405T200000
SUMMARY:Bezirksoberliga Nabburg/Schwarzenfeld vs HC Sulzb.Rosenb. (24012131)
UID:fb372d3a-26b3-48e6-b7f9-37767e28884c
STATUS:CONFIRMED
LAST-MODIFIED:20250406T104518Z
DESCRIPTION:Bezirksoberliga Männer\nBegegnungs-Nr: 24012131\nHeim: Nabburg/Schwarzenfeld\nGast: HC Sulzb.Rosenb.\nHalle: Schwarzenfeld\, Mehrzweckhalle im Sportpark (240363)\nAdresse: Nabburger Str. 50\, 92521 Schwarzenfeld\n
LOCATION:Schwarzenfeld\, Mehrzweckhalle im Sportpark (240363): Nabburger Str. 50\, 92521 Schwarzenfeld
CATEGORIES:Saison 2024/25
END:VEVENT
BEGIN:VEVENT
DTSTAMP:20260419T151434Z
DTSTART;TZID=Europe/Berlin:20241123T171500
DTEND;TZID=Europe/Berlin:20241123T184500
SUMMARY:Bezirksoberliga Nabburg/Schwarzenfeld vs SG Regensburg II (24012047)
UID:eeefa39e-2e46-4955-a534-78102e715efe
STATUS:CONFIRMED
LAST-MODIFIED:20241124T092240Z
DESCRIPTION:Bezirksoberliga Männer\nBegegnungs-Nr: 24012047\nHeim: Nabburg/Schwarzenfeld\nGast: SG Regensburg II\nHalle: Schwarzenfeld\, Mehrzweckhalle im Sportpark (240363)\nAdresse: Nabburger Str. 50\, 92521 Schwarzenfeld\n
LOCATION:Schwarzenfeld\, Mehrzweckhalle im Sportpark (240363): Nabburger Str. 50\, 92521 Schwarzenfeld
CATEGORIES:Saison 2024/25
END:VEVENT
BEGIN:VEVENT
DTSTAMP:20260419T151434Z
DTSTART;TZID=Europe/Berlin:20241006T160000
DTEND;TZID=Europe/Berlin:20241006T173000
SUMMARY:Bezirksoberliga Nabburg/Schwarzenfeld vs HV Oberviechtach (24012018)
UID:a81d37a5-9ceb-48c8-b07e-8ea1c4108eb6
STATUS:CONFIRMED
LAST-MODIFIED:20241006T163043Z
DESCRIPTION:Bezirksoberliga Männer\nBegegnungs-Nr: 24012018\nHeim: Nabburg/Schwarzenfeld\nGast: HV Oberviechtach\nHalle: Schwarzenfeld\, Mehrzweckhalle im Sportpark (240363)\nAdresse: Nabburger Str. 50\, 92521 Schwarzenfeld\n
LOCATION:Schwarzenfeld\, Mehrzweckhalle im Sportpark (240363): Nabburger Str. 50\, 92521 Schwarzenfeld
CATEGORIES:Saison 2024/25
END:VEVENT
BEGIN:VEVENT
DTSTAMP:20260419T151434Z
DTSTART;TZID=Europe/Berlin:20250222T171500
DTEND;TZID=Europe/Berlin:20250222T184500
SUMMARY:Bezirksoberliga Nabburg/Schwarzenfeld vs TV Wackersdorf (24012101)
UID:5b315cef-ef59-4ef2-ba32-c67bdf81bb3a
STATUS:CONFIRMED
LAST-MODIFIED:20250222T215423Z
DESCRIPTION:Bezirksoberliga Männer\nBegegnungs-Nr: 24012101\nHeim: Nabburg/Schwarzenfeld\nGast: TV Wackersdorf\nHalle: Schwarzenfeld\, Mehrzweckhalle im Sportpark (240363)\nAdresse: Nabburger Str. 50\, 92521 Schwarzenfeld\n
LOCATION:Schwarzenfeld\, Mehrzweckhalle im Sportpark (240363): Nabburger Str. 50\, 92521 Schwarzenfeld
CATEGORIES:Saison 2024/25
END:VEVENT
BEGIN:VEVENT
DTSTAMP:20260419T151434Z
DTSTART;TZID=Europe/Berlin:20240921T193000
DTEND;TZID=Europe/Berlin:20240921T210000
SUMMARY:Bezirksoberliga Nabburg/Schwarzenfeld vs HG Amberg  (24012005)
UID:d95058d2-11a3-4c99-9ae5-bda5a23c3146
STATUS:CONFIRMED
LAST-MODIFIED:20240922T080027Z
DESCRIPTION:Bezirksoberliga Männer\nBegegnungs-Nr: 24012005\nHeim: Nabburg/Schwarzenfeld\nGast: HG Amberg \nHalle: Schwarzenfeld\, Mehrzweckhalle im Sportpark (240363)\nAdresse: Nabburger Str. 50\, 92521 Schwarzenfeld\n
LOCATION:Schwarzenfeld\, Mehrzweckhalle im Sportpark (240363): Nabburger Str. 50\, 92521 Schwarzenfeld
CATEGORIES:Saison 2024/25
END:VEVENT
BEGIN:VEVENT
DTSTAMP:20260419T151434Z
DTSTART;TZID=Europe/Berlin:20241019T171500
DTEND;TZID=Europe/Berlin:20241019T184500
SUMMARY:Bezirksoberliga Nabburg/Schwarzenfeld vs TV 1881 Altdorf (24012028)
UID:506ad76e-a9d2-4484-ac33-40550c2e5a74
STATUS:CONFIRMED
LAST-MODIFIED:20241020T071318Z
DESCRIPTION:Bezirksoberliga Männer\nBegegnungs-Nr: 24012028\nHeim: Nabburg/Schwarzenfeld\nGast: TV 1881 Altdorf\nHalle: Schwarzenfeld\, Mehrzweckhalle im Sportpark (240363)\nAdresse: Nabburger Str. 50\, 92521 Schwarzenfeld\n
LOCATION:Schwarzenfeld\, Mehrzweckhalle im Sportpark (240363): Nabburger Str. 50\, 92521 Schwarzenfeld
CATEGORIES:Saison 2024/25
END:VEVENT
BEGIN:VEVENT
DTSTAMP:20260419T151434Z
DTSTART;TZID=Europe/Berlin:20241109T171500
DTEND;TZID=Europe/Berlin:20241109T184500
SUMMARY:Bezirksoberliga Nabburg/Schwarzenfeld vs TV 1861 Erlangen-Bruck II (24012037)
UID:e90e43bb-dd6d-40b0-be2a-c8bad6d87f1c
STATUS:CONFIRMED
LAST-MODIFIED:20241112T083721Z
DESCRIPTION:Bezirksoberliga Männer\nBegegnungs-Nr: 24012037\nHeim: Nabburg/Schwarzenfeld\nGast: TV 1861 Erlangen-Bruck II\nHalle: Schwarzenfeld\, Mehrzweckhalle im Sportpark (240363)\nAdresse: Nabburger Str. 50\, 92521 Schwarzenfeld\n
LOCATION:Schwarzenfeld\, Mehrzweckhalle im Sportpark (240363): Nabburger Str. 50\, 92521 Schwarzenfeld
CATEGORIES:Saison 2024/25
END:VEVENT
BEGIN:VEVENT
DTSTAMP:20260419T151434Z
DTSTART;TZID=Europe/Berlin:20250201T180000
DTEND;TZID=Europe/Berlin:20250201T193000
SUMMARY:Bezirksoberliga HV Oberviechtach vs Nabburg/Schwarzenfeld (24012083)
UID:e57eac23-c3ec-49ec-8891-7be023f9190c
STATUS:CONFIRMED
LAST-MODIFIED:20250202T093920Z
DESCRIPTION:Bezirksoberliga Männer\nBegegnungs-Nr: 24012083\nHeim: HV Oberviechtach\nGast: Nabburg/Schwarzenfeld\nHalle: Oberviechtach\, Sporthalle Gymnasium (240301)\nAdresse: Wolfgrubenweg 25\, 92526 Oberviechtach\n
LOCATION:Oberviechtach\, Sporthalle Gymnasium (240301): Wolfgrubenweg 25\, 92526 Oberviechtach
CATEGORIES:Saison 2024/25
END:VEVENT
BEGIN:VEVENT
DTSTAMP:20260419T151434Z
DTSTART;TZID=Europe/Berlin:20250309T170000
DTEND;TZID=Europe/Berlin:20250309T183000
SUMMARY:Bezirksoberliga TV 1861 Erlangen-Bruck II vs Nabburg/Schwarzenfeld (24012108)
UID:932a4974-d368-4a0f-b241-161419dad409
STATUS:CONFIRMED
LAST-MODIFIED:20250313T070221Z
DESCRIPTION:Bezirksoberliga Männer\nBegegnungs-Nr: 24012108\nHeim: TV 1861 Erlangen-Bruck II\nGast: Nabburg/Schwarzenfeld\nHalle: Erlangen\, Emmy-Noether-Halle (240084)\nAdresse: Noether-Straße 49c\, 91058 Erlangen\n
LOCATION:Erlangen\, Emmy-Noether-Halle (240084): Noether-Straße 49c\, 91058 Erlangen
CATEGORIES:Saison 2024/25
END:VEVENT
BEGIN:VEVENT
DTSTAMP:20260419T151434Z
DTSTART;TZID=Europe/Berlin:20250307T201500
DTEND;TZID=Europe/Berlin:20250307T214500
SUMMARY:Bezirksoberliga HC Sulzb.Rosenb. vs Nabburg/Schwarzenfeld (24012058)
UID:71362d8b-c946-45dd-9a18-bed6e97a1396
STATUS:CONFIRMED
LAST-MODIFIED:20250307T214731Z
DESCRIPTION:Bezirksoberliga Männer\nBegegnungs-Nr: 24012058\nHeim: HC Sulzb.Rosenb.\nGast: Nabburg/Schwarzenfeld\nHalle: Sulzbach-Rosenb\, Krötensee-Halle (240365)\nAdresse: Dieselstr. 29\, 92237  Sulzbach-Rosenberg\n
LOCATION:Sulzbach-Rosenb\, Krötensee-Halle (240365): Dieselstr. 29\, 92237  Sulzbach-Rosenberg
CATEGORIES:Saison 2024/25
END:VEVENT
BEGIN:VEVENT
DTSTAMP:20260419T151434Z
DTSTART;TZID=Europe/Berlin:20240914T170000
DTEND;TZID=Europe/Berlin:20240914T183000
SUMMARY:Bezirksoberliga HC Forchheim vs Nabburg/Schwarzenfeld (24012001)
UID:f5f0d72e-76f7-43e3-9a99-5081e778c0c2
STATUS:CONFIRMED
LAST-MODIFIED:20240915T204815Z
DESCRIPTION:Bezirksoberliga Männer\nBegegnungs-Nr: 24012001\nHeim: HC Forchheim\nGast: Nabburg/Schwarzenfeld\nHalle: Forchheim\, Sporthalle Realschule (240102)\nAdresse: Pestalozzistraße 2\, 91301 Forchheim\n
LOCATION:Forchheim\, Sporthalle Realschule (240102): Pestalozzistraße 2\, 91301 Forchheim
CATEGORIES:Saison 2024/25
END:VEVENT
BEGIN:VEVENT
DTSTAMP:20260419T151434Z
DTSTART;TZID=Europe/Berlin:20250111T190000
DTEND;TZID=Europe/Berlin:20250111T203000
SUMMARY:Bezirksoberliga HG Amberg  vs Nabburg/Schwarzenfeld (24012071)
UID:b9f64b9c-73af-45ef-8d1a-4d50f47e606e
STATUS:CONFIRMED
LAST-MODIFIED:20250112T133104Z
DESCRIPTION:Bezirksoberliga Männer\nBegegnungs-Nr: 24012071\nHeim: HG Amberg \nGast: Nabburg/Schwarzenfeld\nHalle: Amberg\, Gregor-Mendel-Gymnasium (240002)\nAdresse: Krumbacher Str. 2a\, 92224 Amberg\n
LOCATION:Amberg\, Gregor-Mendel-Gymnasium (240002): Krumbacher Str. 2a\, 92224 Amberg
CATEGORIES:Saison 2024/25
END:VEVENT
BEGIN:VEVENT
DTSTAMP:20260419T151434Z
DTSTART;TZID=Europe/Berlin:20250216T160000
DTEND;TZID=Europe/Berlin:20250216T173000
SUMMARY:Bezirksoberliga TV 1881 Altdorf vs Nabburg/Schwarzenfeld (24012095)
UID:b669e935-fd44-4592-9083-2cc7ffe62ef6
STATUS:CONFIRMED
LAST-MODIFIED:20250217T094528Z
DESCRIPTION:Bezirksoberliga Männer\nBegegnungs-Nr: 24012095\nHeim: TV 1881 Altdorf\nGast: Nabburg/Schwarzenfeld\nHalle: Altdorf\, Schulturnhalle Grundschule (neu) (240000)\nAdresse: Hagenhausener Str. 5\, 90518 Altdorf\n
LOCATION:Altdorf\, Schulturnhalle Grundschule (neu) (240000): Hagenhausener Str. 5\, 90518 Altdorf
CATEGORIES:Saison 2024/25
END:VEVENT
BEGIN:VEVENT
DTSTAMP:20260419T151434Z
DTSTART;TZID=Europe/Berlin:20250322T173000
DTEND;TZID=Europe/Berlin:20250322T190000
SUMMARY:Bezirksoberliga SG Regensburg II vs Nabburg/Schwarzenfeld (24012116)
UID:1118e636-9359-45f8-9902-55eebfaeed43
STATUS:CONFIRMED
LAST-MODIFIED:20250323T083902Z
DESCRIPTION:Bezirksoberliga Männer\nBegegnungs-Nr: 24012116\nHeim: SG Regensburg II\nGast: Nabburg/Schwarzenfeld\nHalle: Regensburg\, Kerschensteiner-Halle (240342)\nAdresse: Alfons-Auer-Straße 24\, 93055 Regensburg\n
LOCATION:Regensburg\, Kerschensteiner-Halle (240342): Alfons-Auer-Straße 24\, 93055 Regensburg
CATEGORIES:Saison 2024/25
END:VEVENT
BEGIN:VEVENT
DTSTAMP:20260419T151434Z
DTSTART;TZID=Europe/Berlin:20250329T183000
DTEND;TZID=Europe/Berlin:20250329T200000
SUMMARY:Bezirksoberliga HG Eckental vs Nabburg/Schwarzenfeld (24012124)
UID:b3193b38-d98e-465d-b892-0a17411f40c9
STATUS:CONFIRMED
LAST-MODIFIED:20250330T141526Z
DESCRIPTION:Bezirksoberliga Männer\nBegegnungs-Nr: 24012124\nHeim: HG Eckental\nGast: Nabburg/Schwarzenfeld\nHalle: Eckental\, Sporthalle Eschenau (240080)\nAdresse: Schulstr. 1\, 90542 Eckental\n
LOCATION:Eckental\, Sporthalle Eschenau (240080): Schulstr. 1\, 90542 Eckental
CATEGORIES:Saison 2024/25
END:VEVENT
BEGIN:VEVENT
DTSTAMP:20260419T151434Z
DTSTART;TZID=Europe/Berlin:20241102T200000
DTEND;TZID=Europe/Berlin:20241102T213000
SUMMARY:Bezirksoberliga TV Wackersdorf vs Nabburg/Schwarzenfeld (24012033)
UID:a5575762-acc8-43b8-8b9b-4f92cfeb7945
STATUS:CONFIRMED
LAST-MODIFIED:20241104T102318Z
DESCRIPTION:Bezirksoberliga Männer\nBegegnungs-Nr: 24012033\nHeim: TV Wackersdorf\nGast: Nabburg/Schwarzenfeld\nHalle: Wackersdorf\, Schulsporthalle (240460)\nAdresse: Hauptstr. 20\, 92442 Wackersdorf\n
LOCATION:Wackersdorf\, Schulsporthalle (240460): Hauptstr. 20\, 92442 Wackersdorf
CATEGORIES:Saison 2024/25
END:VEVENT
BEGIN:VEVENT
DTSTAMP:20260419T151434Z
DTSTART;TZID=Europe/Berlin:20250301T200000
DTEND;TZID=Europe/Berlin:20250301T213000
SUMMARY:Bezirksoberliga TB 03 Roding vs Nabburg/Schwarzenfeld (24012066)
UID:76f9f238-4c87-4230-8093-2c5d213499ee
STATUS:CONFIRMED
LAST-MODIFIED:20250302T101052Z
DESCRIPTION:Bezirksoberliga Männer\nBegegnungs-Nr: 24012066\nHeim: TB 03 Roding\nGast: Nabburg/Schwarzenfeld\nHalle: Roding\, Rundturnhalle (240346)\nAdresse: Adolf-Kolping-Str.16\, 93426 Roding\n
LOCATION:Roding\, Rundturnhalle (240346): Adolf-Kolping-Str.16\, 93426 Roding
CATEGORIES:Saison 2024/25
END:VEVENT
BEGIN:VEVENT
DTSTAMP:20260419T151434Z
DTSTART;TZID=Europe/Berlin:20241013T160000
DTEND;TZID=Europe/Berlin:20241013T173000
SUMMARY:Bezirksoberliga TS Herzogenaurach vs Nabburg/Schwarzenfeld (24012024)
UID:17487048-f8d1-4b24-b850-a3ea193df8e1
STATUS:CONFIRMED
LAST-MODIFIED:20241013T215043Z
DESCRIPTION:Bezirksoberliga Männer\nBegegnungs-Nr: 24012024\nHeim: TS Herzogenaurach\nGast: Nabburg/Schwarzenfeld\nHalle: Herzogenaurach\, Sporthalle Gymnasium (240145)\nAdresse: Burgstaller Weg 20\, 91074 Herzogenaurach\n
LOCATION:Herzogenaurach\, Sporthalle Gymnasium (240145): Burgstaller Weg 20\, 91074 Herzogenaurach
CATEGORIES:Saison 2024/25
END:VEVENT
END:VCALENDAR
