BEGIN:VCALENDAR
PRODID:-//nuDatenautomaten//framework iCal4j //DE
VERSION:2.0
CALSCALE:GREGORIAN
BEGIN:VTIMEZONE
TZID:Europe/Berlin
LAST-MODIFIED:20260306T231828Z
TZURL:https://www.tzurl.org/zoneinfo/Europe/Berlin
X-LIC-LOCATION:Europe/Berlin
X-PROLEPTIC-TZNAME:LMT
BEGIN:STANDARD
TZNAME:CET
TZOFFSETFROM:+005328
TZOFFSETTO:+0100
DTSTART:18930401T000000
END:STANDARD
BEGIN:DAYLIGHT
TZNAME:CEST
TZOFFSETFROM:+0100
TZOFFSETTO:+0200
DTSTART:19160430T230000
RDATE:19400401T020000
RDATE:19430329T020000
RDATE:19460414T020000
RDATE:19470406T030000
RDATE:19480418T020000
RDATE:19490410T020000
RDATE:19800406T020000
END:DAYLIGHT
BEGIN:STANDARD
TZNAME:CET
TZOFFSETFROM:+0200
TZOFFSETTO:+0100
DTSTART:19161001T010000
RDATE:19421102T030000
RDATE:19431004T030000
RDATE:19441002T030000
RDATE:19451118T030000
RDATE:19461007T030000
END:STANDARD
BEGIN:DAYLIGHT
TZNAME:CEST
TZOFFSETFROM:+0100
TZOFFSETTO:+0200
DTSTART:19170416T020000
RRULE:FREQ=YEARLY;UNTIL=19180415T010000Z;BYMONTH=4;BYDAY=3MO
END:DAYLIGHT
BEGIN:STANDARD
TZNAME:CET
TZOFFSETFROM:+0200
TZOFFSETTO:+0100
DTSTART:19170917T030000
RRULE:FREQ=YEARLY;UNTIL=19180916T010000Z;BYMONTH=9;BYDAY=3MO
END:STANDARD
BEGIN:DAYLIGHT
TZNAME:CEST
TZOFFSETFROM:+0100
TZOFFSETTO:+0200
DTSTART:19440403T020000
RRULE:FREQ=YEARLY;UNTIL=19450402T010000Z;BYMONTH=4;BYDAY=1MO
END:DAYLIGHT
BEGIN:DAYLIGHT
TZNAME:CEMT
TZOFFSETFROM:+0200
TZOFFSETTO:+0300
DTSTART:19450524T020000
RDATE:19470511T030000
END:DAYLIGHT
BEGIN:DAYLIGHT
TZNAME:CEST
TZOFFSETFROM:+0300
TZOFFSETTO:+0200
DTSTART:19450924T030000
RDATE:19470629T030000
END:DAYLIGHT
BEGIN:STANDARD
TZNAME:CET
TZOFFSETFROM:+0100
TZOFFSETTO:+0100
DTSTART:19460101T000000
RDATE:19800101T000000
END:STANDARD
BEGIN:STANDARD
TZNAME:CET
TZOFFSETFROM:+0200
TZOFFSETTO:+0100
DTSTART:19471005T030000
RRULE:FREQ=YEARLY;UNTIL=19491002T010000Z;BYMONTH=10;BYDAY=1SU
END:STANDARD
BEGIN:STANDARD
TZNAME:CET
TZOFFSETFROM:+0200
TZOFFSETTO:+0100
DTSTART:19800928T030000
RRULE:FREQ=YEARLY;UNTIL=19950924T010000Z;BYMONTH=9;BYDAY=-1SU
END:STANDARD
BEGIN:DAYLIGHT
TZNAME:CEST
TZOFFSETFROM:+0100
TZOFFSETTO:+0200
DTSTART:19810329T020000
RRULE:FREQ=YEARLY;BYMONTH=3;BYDAY=-1SU
END:DAYLIGHT
BEGIN:STANDARD
TZNAME:CET
TZOFFSETFROM:+0200
TZOFFSETTO:+0100
DTSTART:19961027T030000
RRULE:FREQ=YEARLY;BYMONTH=10;BYDAY=-1SU
END:STANDARD
END:VTIMEZONE
BEGIN:VEVENT
DTSTAMP:20260424T054459Z
DTSTART;TZID=Europe/Berlin:20250413T180000
DTEND;TZID=Europe/Berlin:20250413T193000
SUMMARY:Bezirksoberliga TV Gunzenhausen vs SV Puschendorf (23022110)
UID:7b197e61-5a3b-43ba-be31-4055dc7cfe09
STATUS:CONFIRMED
LAST-MODIFIED:20250413T195722Z
DESCRIPTION:Bezirksoberliga Frauen\nBegegnungs-Nr: 23022110\nHeim: TV Gunzenhausen\nGast: SV Puschendorf\nHalle: Gunzenhausen\, Stephani-Schule (230120)\nAdresse: Hindenburgplatz 2\, 91710 Gunzenhausen\n
LOCATION:Gunzenhausen\, Stephani-Schule (230120): Hindenburgplatz 2\, 91710 Gunzenhausen
CATEGORIES:Saison 2024/25
END:VEVENT
BEGIN:VEVENT
DTSTAMP:20260424T054459Z
DTSTART;TZID=Europe/Berlin:20241214T180000
DTEND;TZID=Europe/Berlin:20241214T193000
SUMMARY:Bezirksoberliga TV Gunzenhausen vs SpV Mögeldorf (23022049)
UID:f2b6748a-ad97-4723-ae2c-156b257abc43
STATUS:CONFIRMED
LAST-MODIFIED:20241214T200246Z
DESCRIPTION:Bezirksoberliga Frauen\nBegegnungs-Nr: 23022049\nHeim: TV Gunzenhausen\nGast: SpV Mögeldorf\nHalle: Gunzenhausen\, Stephani-Schule (230120)\nAdresse: Hindenburgplatz 2\, 91710 Gunzenhausen\n
LOCATION:Gunzenhausen\, Stephani-Schule (230120): Hindenburgplatz 2\, 91710 Gunzenhausen
CATEGORIES:Saison 2024/25
END:VEVENT
BEGIN:VEVENT
DTSTAMP:20260424T054459Z
DTSTART;TZID=Europe/Berlin:20241123T180000
DTEND;TZID=Europe/Berlin:20241123T193000
SUMMARY:Bezirksoberliga TV Gunzenhausen vs Tuspo Nürnberg (23022038)
UID:929021de-7cb0-42c9-b443-a6bc0932e1e8
STATUS:CONFIRMED
LAST-MODIFIED:20241123T200233Z
DESCRIPTION:Bezirksoberliga Frauen\nBegegnungs-Nr: 23022038\nHeim: TV Gunzenhausen\nGast: Tuspo Nürnberg\nHalle: Gunzenhausen\, Stephani-Schule (230120)\nAdresse: Hindenburgplatz 2\, 91710 Gunzenhausen\n
LOCATION:Gunzenhausen\, Stephani-Schule (230120): Hindenburgplatz 2\, 91710 Gunzenhausen
CATEGORIES:Saison 2024/25
END:VEVENT
BEGIN:VEVENT
DTSTAMP:20260424T054459Z
DTSTART;TZID=Europe/Berlin:20241109T180000
DTEND;TZID=Europe/Berlin:20241109T193000
SUMMARY:Bezirksoberliga TV Gunzenhausen vs TSV 2000 Rothenburg (23022027)
UID:76056485-46f5-4a1f-bf3e-ea62c8958989
STATUS:CONFIRMED
LAST-MODIFIED:20241110T143132Z
DESCRIPTION:Bezirksoberliga Frauen\nBegegnungs-Nr: 23022027\nHeim: TV Gunzenhausen\nGast: TSV 2000 Rothenburg\nHalle: Gunzenhausen\, Simon-Marius-Gymnasium (230121)\nAdresse: Sonnenstraße 37 b\, 91710 Gunzenhausen\n
LOCATION:Gunzenhausen\, Simon-Marius-Gymnasium (230121): Sonnenstraße 37 b\, 91710 Gunzenhausen
CATEGORIES:Saison 2024/25
END:VEVENT
BEGIN:VEVENT
DTSTAMP:20260424T054459Z
DTSTART;TZID=Europe/Berlin:20240929T160000
DTEND;TZID=Europe/Berlin:20240929T173000
SUMMARY:Bezirksoberliga TV Gunzenhausen vs ESV Flügelrad (23022007)
UID:4abaa07e-ea53-4854-af18-2b15059ccd61
STATUS:CONFIRMED
LAST-MODIFIED:20240929T154146Z
DESCRIPTION:Bezirksoberliga Frauen\nBegegnungs-Nr: 23022007\nHeim: TV Gunzenhausen\nGast: ESV Flügelrad\nHalle: Gunzenhausen\, Stephani-Schule (230120)\nAdresse: Hindenburgplatz 2\, 91710 Gunzenhausen\n
LOCATION:Gunzenhausen\, Stephani-Schule (230120): Hindenburgplatz 2\, 91710 Gunzenhausen
CATEGORIES:Saison 2024/25
END:VEVENT
BEGIN:VEVENT
DTSTAMP:20260424T054459Z
DTSTART;TZID=Europe/Berlin:20250329T180000
DTEND;TZID=Europe/Berlin:20250329T193000
SUMMARY:Bezirksoberliga TV Gunzenhausen vs TSV Altenberg (23022099)
UID:abf334ab-b8bc-4753-b69b-1555790e72f9
STATUS:CONFIRMED
LAST-MODIFIED:20250329T203729Z
DESCRIPTION:Bezirksoberliga Frauen\nBegegnungs-Nr: 23022099\nHeim: TV Gunzenhausen\nGast: TSV Altenberg\nHalle: Gunzenhausen\, Simon-Marius-Gymnasium (230121)\nAdresse: Sonnenstraße 37 b\, 91710 Gunzenhausen\n
LOCATION:Gunzenhausen\, Simon-Marius-Gymnasium (230121): Sonnenstraße 37 b\, 91710 Gunzenhausen
CATEGORIES:Saison 2024/25
END:VEVENT
BEGIN:VEVENT
DTSTAMP:20260424T054459Z
DTSTART;TZID=Europe/Berlin:20250315T180000
DTEND;TZID=Europe/Berlin:20250315T193000
SUMMARY:Bezirksoberliga TV Gunzenhausen vs HG Zirndorf II (23022090)
UID:1d185504-5ccf-4367-b315-f688e9cb62f3
STATUS:CONFIRMED
LAST-MODIFIED:20250315T185217Z
DESCRIPTION:Bezirksoberliga Frauen\nBegegnungs-Nr: 23022090\nHeim: TV Gunzenhausen\nGast: HG Zirndorf II\nHalle: Gunzenhausen\, Stephani-Schule (230120)\nAdresse: Hindenburgplatz 2\, 91710 Gunzenhausen\n
LOCATION:Gunzenhausen\, Stephani-Schule (230120): Hindenburgplatz 2\, 91710 Gunzenhausen
CATEGORIES:Saison 2024/25
END:VEVENT
BEGIN:VEVENT
DTSTAMP:20260424T054459Z
DTSTART;TZID=Europe/Berlin:20250228T200000
DTEND;TZID=Europe/Berlin:20250228T213000
SUMMARY:Bezirksoberliga TV Gunzenhausen vs HBC Nürnberg II (23022069)
UID:312a8137-383e-43dd-86de-746f0c4051e1
STATUS:CONFIRMED
LAST-MODIFIED:20250302T182444Z
DESCRIPTION:Bezirksoberliga Frauen\nBegegnungs-Nr: 23022069\nHeim: TV Gunzenhausen\nGast: HBC Nürnberg II\nHalle: Gunzenhausen\, Stephani-Schule (230120)\nAdresse: Hindenburgplatz 2\, 91710 Gunzenhausen\n
LOCATION:Gunzenhausen\, Stephani-Schule (230120): Hindenburgplatz 2\, 91710 Gunzenhausen
CATEGORIES:Saison 2024/25
END:VEVENT
BEGIN:VEVENT
DTSTAMP:20260424T054459Z
DTSTART;TZID=Europe/Berlin:20250118T180000
DTEND;TZID=Europe/Berlin:20250118T193000
SUMMARY:Bezirksoberliga TV Gunzenhausen vs 1.FCN Handball (23022058)
UID:3650121d-1aea-4cd6-b874-d68aad699a0b
STATUS:CONFIRMED
LAST-MODIFIED:20250118T184746Z
DESCRIPTION:Bezirksoberliga Frauen\nBegegnungs-Nr: 23022058\nHeim: TV Gunzenhausen\nGast: 1.FCN Handball\nHalle: Gunzenhausen\, Stephani-Schule (230120)\nAdresse: Hindenburgplatz 2\, 91710 Gunzenhausen\n
LOCATION:Gunzenhausen\, Stephani-Schule (230120): Hindenburgplatz 2\, 91710 Gunzenhausen
CATEGORIES:Saison 2024/25
END:VEVENT
BEGIN:VEVENT
DTSTAMP:20260424T054459Z
DTSTART;TZID=Europe/Berlin:20241012T180000
DTEND;TZID=Europe/Berlin:20241012T193000
SUMMARY:Bezirksoberliga TV Gunzenhausen vs SC 04 Schwabach (23022015)
UID:5adbf8d2-762d-4f5b-b98c-e880500a61bd
STATUS:CONFIRMED
LAST-MODIFIED:20241012T192944Z
DESCRIPTION:Bezirksoberliga Frauen\nBegegnungs-Nr: 23022015\nHeim: TV Gunzenhausen\nGast: SC 04 Schwabach\nHalle: Gunzenhausen\, Stephani-Schule (230120)\nAdresse: Hindenburgplatz 2\, 91710 Gunzenhausen\n
LOCATION:Gunzenhausen\, Stephani-Schule (230120): Hindenburgplatz 2\, 91710 Gunzenhausen
CATEGORIES:Saison 2024/25
END:VEVENT
BEGIN:VEVENT
DTSTAMP:20260424T054459Z
DTSTART;TZID=Europe/Berlin:20241208T130000
DTEND;TZID=Europe/Berlin:20241208T143000
SUMMARY:Bezirksoberliga TSV Altenberg vs TV Gunzenhausen (23022044)
UID:554460db-d86c-461e-8cd3-56b7141c68d1
STATUS:CONFIRMED
LAST-MODIFIED:20241208T195009Z
DESCRIPTION:Bezirksoberliga Frauen\nBegegnungs-Nr: 23022044\nHeim: TSV Altenberg\nGast: TV Gunzenhausen\nHalle: Oberasbach\, Dietrich-Bonhoeffer-Gymnasium (230300)\nAdresse: Albrecht-Dürer-Str. 7-9 \, 90522  Oberasbach \n
LOCATION:Oberasbach\, Dietrich-Bonhoeffer-Gymnasium (230300): Albrecht-Dürer-Str. 7-9 \, 90522  Oberasbach 
CATEGORIES:Saison 2024/25
END:VEVENT
BEGIN:VEVENT
DTSTAMP:20260424T054459Z
DTSTART;TZID=Europe/Berlin:20241026T170000
DTEND;TZID=Europe/Berlin:20241026T183000
SUMMARY:Bezirksoberliga 1.FCN Handball vs TV Gunzenhausen (23022021)
UID:96a8de2c-75bf-453d-abf1-5010c5282f7f
STATUS:CONFIRMED
LAST-MODIFIED:20241026T173105Z
DESCRIPTION:Bezirksoberliga Frauen\nBegegnungs-Nr: 23022021\nHeim: 1.FCN Handball\nGast: TV Gunzenhausen\nHalle: Nürnberg\, 1. FCN-Halle (230263)\nAdresse: Valznerweiherstr.200\, 90480 Nürnberg \n
LOCATION:Nürnberg\, 1. FCN-Halle (230263): Valznerweiherstr.200\, 90480 Nürnberg 
CATEGORIES:Saison 2024/25
END:VEVENT
BEGIN:VEVENT
DTSTAMP:20260424T054459Z
DTSTART;TZID=Europe/Berlin:20250405T180000
DTEND;TZID=Europe/Berlin:20250405T193000
SUMMARY:Bezirksoberliga SpV Mögeldorf vs TV Gunzenhausen (23022102)
UID:b7fbdd4c-b9dd-46f5-8a29-a500bf76a194
STATUS:CONFIRMED
LAST-MODIFIED:20250405T185151Z
DESCRIPTION:Bezirksoberliga Frauen\nBegegnungs-Nr: 23022102\nHeim: SpV Mögeldorf\nGast: TV Gunzenhausen\nHalle: Nürnberg\, Spvgg Mögeldorf (230273)\nAdresse: Dientzenhoferstr. 26\, 90480 Nürnberg \n
LOCATION:Nürnberg\, Spvgg Mögeldorf (230273): Dientzenhoferstr. 26\, 90480 Nürnberg 
CATEGORIES:Saison 2024/25
END:VEVENT
BEGIN:VEVENT
DTSTAMP:20260424T054459Z
DTSTART;TZID=Europe/Berlin:20250322T160000
DTEND;TZID=Europe/Berlin:20250322T173000
SUMMARY:Bezirksoberliga Tuspo Nürnberg vs TV Gunzenhausen (23022093)
UID:b8498fc9-a3f3-45f3-b1b0-04c97f3e7f6e
STATUS:CONFIRMED
LAST-MODIFIED:20250323T173320Z
DESCRIPTION:Bezirksoberliga Frauen\nBegegnungs-Nr: 23022093\nHeim: Tuspo Nürnberg\nGast: TV Gunzenhausen\nHalle: Nürnberg\, Geschwister-Scholl-Realschule (230267)\nAdresse: Muggenhofer Str. 122\, 90429 Nürnberg \n
LOCATION:Nürnberg\, Geschwister-Scholl-Realschule (230267): Muggenhofer Str. 122\, 90429 Nürnberg 
CATEGORIES:Saison 2024/25
END:VEVENT
BEGIN:VEVENT
DTSTAMP:20260424T054459Z
DTSTART;TZID=Europe/Berlin:20250222T193000
DTEND;TZID=Europe/Berlin:20250222T210000
SUMMARY:Bezirksoberliga TSV 2000 Rothenburg vs TV Gunzenhausen (23022081)
UID:b4ea116a-91c6-4b31-80a3-e935d5c1bfae
STATUS:CONFIRMED
LAST-MODIFIED:20250222T204147Z
DESCRIPTION:Bezirksoberliga Frauen\nBegegnungs-Nr: 23022081\nHeim: TSV 2000 Rothenburg\nGast: TV Gunzenhausen\nHalle: Rothenburg\, Halle am P1 (230344)\nAdresse: Friedrich-Hörner-Weg 11\, 91541 Rothenburg o.d.T.\n
LOCATION:Rothenburg\, Halle am P1 (230344): Friedrich-Hörner-Weg 11\, 91541 Rothenburg o.d.T.
CATEGORIES:Saison 2024/25
END:VEVENT
BEGIN:VEVENT
DTSTAMP:20260424T054459Z
DTSTART;TZID=Europe/Berlin:20250126T180000
DTEND;TZID=Europe/Berlin:20250126T193000
SUMMARY:Bezirksoberliga ESV Flügelrad vs TV Gunzenhausen (23022064)
UID:47291b8c-344e-4aa0-ba78-250b612b1360
STATUS:CONFIRMED
LAST-MODIFIED:20250315T190328Z
DESCRIPTION:Bezirksoberliga Frauen\nBegegnungs-Nr: 23022064\nHeim: ESV Flügelrad\nGast: TV Gunzenhausen\nHalle: Nürnberg\, ESV Flügelrad (230266)\nAdresse: Finkenbrunn 145 \, 90469 Nürnberg \n
LOCATION:Nürnberg\, ESV Flügelrad (230266): Finkenbrunn 145 \, 90469 Nürnberg 
CATEGORIES:Saison 2024/25
END:VEVENT
BEGIN:VEVENT
DTSTAMP:20260424T054459Z
DTSTART;TZID=Europe/Berlin:20250112T170000
DTEND;TZID=Europe/Berlin:20250112T183000
SUMMARY:Bezirksoberliga SV Puschendorf vs TV Gunzenhausen (23022055)
UID:46e04a40-dceb-46f4-b7c1-35985118680f
STATUS:CONFIRMED
LAST-MODIFIED:20250112T213729Z
DESCRIPTION:Bezirksoberliga Frauen\nBegegnungs-Nr: 23022055\nHeim: SV Puschendorf\nGast: TV Gunzenhausen\nHalle: Emskirchen\, Sport- und. Spielzentrum (230081)\nAdresse: Bahnhofswald 8\, 91448 Emskirchen \n
LOCATION:Emskirchen\, Sport- und. Spielzentrum (230081): Bahnhofswald 8\, 91448 Emskirchen 
CATEGORIES:Saison 2024/25
END:VEVENT
BEGIN:VEVENT
DTSTAMP:20260424T054459Z
DTSTART;TZID=Europe/Berlin:20250208T160000
DTEND;TZID=Europe/Berlin:20250208T173000
SUMMARY:Bezirksoberliga SC 04 Schwabach vs TV Gunzenhausen (23022071)
UID:3c33144e-b44f-475f-9cb7-5b1e2140f7b1
STATUS:CONFIRMED
LAST-MODIFIED:20250208T185306Z
DESCRIPTION:Bezirksoberliga Frauen\nBegegnungs-Nr: 23022071\nHeim: SC 04 Schwabach\nGast: TV Gunzenhausen\nHalle: Schwabach\, Goldschlägerhalle (230363)\nAdresse: Paul-Goppelt-Straße 4\, 91126 Schwabach\n
LOCATION:Schwabach\, Goldschlägerhalle (230363): Paul-Goppelt-Straße 4\, 91126 Schwabach
CATEGORIES:Saison 2024/25
END:VEVENT
BEGIN:VEVENT
DTSTAMP:20260424T054459Z
DTSTART;TZID=Europe/Berlin:20241102T160000
DTEND;TZID=Europe/Berlin:20241102T173000
SUMMARY:Bezirksoberliga HBC Nürnberg II vs TV Gunzenhausen (23022022)
UID:6240fef5-f1fc-4b81-a435-c6fe4a0ac1d5
STATUS:CONFIRMED
LAST-MODIFIED:20241103T093545Z
DESCRIPTION:Bezirksoberliga Frauen\nBegegnungs-Nr: 23022022\nHeim: HBC Nürnberg II\nGast: TV Gunzenhausen\nHalle: Nürnberg\, Röthenbach-Ost (230270)\nAdresse: Am Röthenbacher Landgraben 65\, 90451 Nürnberg\n
LOCATION:Nürnberg\, Röthenbach-Ost (230270): Am Röthenbacher Landgraben 65\, 90451 Nürnberg
CATEGORIES:Saison 2024/25
END:VEVENT
BEGIN:VEVENT
DTSTAMP:20260424T054459Z
DTSTART;TZID=Europe/Berlin:20250104T140000
DTEND;TZID=Europe/Berlin:20250104T153000
SUMMARY:Bezirksoberliga HG Zirndorf II vs TV Gunzenhausen (23022029)
UID:54ae35b2-b3d9-42cf-85e5-cd772250148f
STATUS:CONFIRMED
LAST-MODIFIED:20250104T182834Z
DESCRIPTION:Bezirksoberliga Frauen\nBegegnungs-Nr: 23022029\nHeim: HG Zirndorf II\nGast: TV Gunzenhausen\nHalle: Zirndorf\, Jahnhalle (230481)\nAdresse: Jahnstr. 2\, 90513 Zirndorf\n
LOCATION:Zirndorf\, Jahnhalle (230481): Jahnstr. 2\, 90513 Zirndorf
CATEGORIES:Saison 2024/25
END:VEVENT
END:VCALENDAR
