BEGIN:VCALENDAR
PRODID:-//nuDatenautomaten//framework iCal4j //DE
VERSION:2.0
CALSCALE:GREGORIAN
BEGIN:VTIMEZONE
TZID:Europe/Berlin
LAST-MODIFIED:20260306T231828Z
TZURL:https://www.tzurl.org/zoneinfo/Europe/Berlin
X-LIC-LOCATION:Europe/Berlin
X-PROLEPTIC-TZNAME:LMT
BEGIN:STANDARD
TZNAME:CET
TZOFFSETFROM:+005328
TZOFFSETTO:+0100
DTSTART:18930401T000000
END:STANDARD
BEGIN:DAYLIGHT
TZNAME:CEST
TZOFFSETFROM:+0100
TZOFFSETTO:+0200
DTSTART:19160430T230000
RDATE:19400401T020000
RDATE:19430329T020000
RDATE:19460414T020000
RDATE:19470406T030000
RDATE:19480418T020000
RDATE:19490410T020000
RDATE:19800406T020000
END:DAYLIGHT
BEGIN:STANDARD
TZNAME:CET
TZOFFSETFROM:+0200
TZOFFSETTO:+0100
DTSTART:19161001T010000
RDATE:19421102T030000
RDATE:19431004T030000
RDATE:19441002T030000
RDATE:19451118T030000
RDATE:19461007T030000
END:STANDARD
BEGIN:DAYLIGHT
TZNAME:CEST
TZOFFSETFROM:+0100
TZOFFSETTO:+0200
DTSTART:19170416T020000
RRULE:FREQ=YEARLY;UNTIL=19180415T010000Z;BYMONTH=4;BYDAY=3MO
END:DAYLIGHT
BEGIN:STANDARD
TZNAME:CET
TZOFFSETFROM:+0200
TZOFFSETTO:+0100
DTSTART:19170917T030000
RRULE:FREQ=YEARLY;UNTIL=19180916T010000Z;BYMONTH=9;BYDAY=3MO
END:STANDARD
BEGIN:DAYLIGHT
TZNAME:CEST
TZOFFSETFROM:+0100
TZOFFSETTO:+0200
DTSTART:19440403T020000
RRULE:FREQ=YEARLY;UNTIL=19450402T010000Z;BYMONTH=4;BYDAY=1MO
END:DAYLIGHT
BEGIN:DAYLIGHT
TZNAME:CEMT
TZOFFSETFROM:+0200
TZOFFSETTO:+0300
DTSTART:19450524T020000
RDATE:19470511T030000
END:DAYLIGHT
BEGIN:DAYLIGHT
TZNAME:CEST
TZOFFSETFROM:+0300
TZOFFSETTO:+0200
DTSTART:19450924T030000
RDATE:19470629T030000
END:DAYLIGHT
BEGIN:STANDARD
TZNAME:CET
TZOFFSETFROM:+0100
TZOFFSETTO:+0100
DTSTART:19460101T000000
RDATE:19800101T000000
END:STANDARD
BEGIN:STANDARD
TZNAME:CET
TZOFFSETFROM:+0200
TZOFFSETTO:+0100
DTSTART:19471005T030000
RRULE:FREQ=YEARLY;UNTIL=19491002T010000Z;BYMONTH=10;BYDAY=1SU
END:STANDARD
BEGIN:STANDARD
TZNAME:CET
TZOFFSETFROM:+0200
TZOFFSETTO:+0100
DTSTART:19800928T030000
RRULE:FREQ=YEARLY;UNTIL=19950924T010000Z;BYMONTH=9;BYDAY=-1SU
END:STANDARD
BEGIN:DAYLIGHT
TZNAME:CEST
TZOFFSETFROM:+0100
TZOFFSETTO:+0200
DTSTART:19810329T020000
RRULE:FREQ=YEARLY;BYMONTH=3;BYDAY=-1SU
END:DAYLIGHT
BEGIN:STANDARD
TZNAME:CET
TZOFFSETFROM:+0200
TZOFFSETTO:+0100
DTSTART:19961027T030000
RRULE:FREQ=YEARLY;BYMONTH=10;BYDAY=-1SU
END:STANDARD
END:VTIMEZONE
BEGIN:VEVENT
DTSTAMP:20260422T091008Z
DTSTART;TZID=Europe/Berlin:20250112T170000
DTEND;TZID=Europe/Berlin:20250112T183000
SUMMARY:Bezirksliga Staffel Ost ESV 27 Regensbg. III vs HG Hemau/Beratzhausen (24023431)
UID:64b76d3e-950d-40ea-a741-f2c038281b7d
STATUS:CONFIRMED
LAST-MODIFIED:20250115T182014Z
DESCRIPTION:Bezirksliga Frauen Staffel Ost\nBegegnungs-Nr: 24023431\nHeim: ESV 27 Regensbg. III\nGast: HG Hemau/Beratzhausen\nHalle: Regensburg\, Sporthalle ESV 27 (240340)\nAdresse: Dechbettener Brücke 2\, 93051 Regensburg\n
LOCATION:Regensburg\, Sporthalle ESV 27 (240340): Dechbettener Brücke 2\, 93051 Regensburg
CATEGORIES:Saison 2024/25
END:VEVENT
BEGIN:VEVENT
DTSTAMP:20260422T091008Z
DTSTART;TZID=Europe/Berlin:20250309T180000
DTEND;TZID=Europe/Berlin:20250309T193000
SUMMARY:Bezirksliga Staffel Ost ESV 27 Regensbg. III vs FC Neunburg v.W. (24023450)
UID:d9df113a-030c-446e-90d7-4d10d171d9d0
STATUS:CONFIRMED
LAST-MODIFIED:20250310T044449Z
DESCRIPTION:Bezirksliga Frauen Staffel Ost\nBegegnungs-Nr: 24023450\nHeim: ESV 27 Regensbg. III\nGast: FC Neunburg v.W.\nHalle: Regensburg\, Sporthalle ESV 27 (240340)\nAdresse: Dechbettener Brücke 2\, 93051 Regensburg\n
LOCATION:Regensburg\, Sporthalle ESV 27 (240340): Dechbettener Brücke 2\, 93051 Regensburg
CATEGORIES:Saison 2024/25
END:VEVENT
BEGIN:VEVENT
DTSTAMP:20260422T091008Z
DTSTART;TZID=Europe/Berlin:20241013T170000
DTEND;TZID=Europe/Berlin:20241013T183000
SUMMARY:Bezirksliga Staffel Ost ESV 27 Regensbg. III vs Schierling/Langquaid (24023406)
UID:b025ff24-3cf5-4d6a-81ca-a89c083f9e47
STATUS:CONFIRMED
LAST-MODIFIED:20241013T175539Z
DESCRIPTION:Bezirksliga Frauen Staffel Ost\nBegegnungs-Nr: 24023406\nHeim: ESV 27 Regensbg. III\nGast: Schierling/Langquaid\nHalle: Regensburg\, Sporthalle ESV 27 (240340)\nAdresse: Dechbettener Brücke 2\, 93051 Regensburg\n
LOCATION:Regensburg\, Sporthalle ESV 27 (240340): Dechbettener Brücke 2\, 93051 Regensburg
CATEGORIES:Saison 2024/25
END:VEVENT
BEGIN:VEVENT
DTSTAMP:20260422T091008Z
DTSTART;TZID=Europe/Berlin:20241201T180000
DTEND;TZID=Europe/Berlin:20241201T193000
SUMMARY:Bezirksliga Staffel Ost ESV 27 Regensbg. III vs HV Oberviechtach II (24023424)
UID:b96a4254-3e6f-4b99-b079-319493ad459d
STATUS:CONFIRMED
LAST-MODIFIED:20241201T211851Z
DESCRIPTION:Bezirksliga Frauen Staffel Ost\nBegegnungs-Nr: 24023424\nHeim: ESV 27 Regensbg. III\nGast: HV Oberviechtach II\nHalle: Regensburg\, Sporthalle ESV 27 (240340)\nAdresse: Dechbettener Brücke 2\, 93051 Regensburg\n
LOCATION:Regensburg\, Sporthalle ESV 27 (240340): Dechbettener Brücke 2\, 93051 Regensburg
CATEGORIES:Saison 2024/25
END:VEVENT
BEGIN:VEVENT
DTSTAMP:20260422T091008Z
DTSTART;TZID=Europe/Berlin:20241124T170000
DTEND;TZID=Europe/Berlin:20241124T183000
SUMMARY:Bezirksliga Staffel Ost ESV 27 Regensbg. III vs HC Sulzb.Rosenb. II (24023420)
UID:33c946be-caa8-4a42-bf6d-eabd82634f39
STATUS:CONFIRMED
LAST-MODIFIED:20241125T052142Z
DESCRIPTION:Bezirksliga Frauen Staffel Ost\nBegegnungs-Nr: 24023420\nHeim: ESV 27 Regensbg. III\nGast: HC Sulzb.Rosenb. II\nHalle: Regensburg\, Sporthalle ESV 27 (240340)\nAdresse: Dechbettener Brücke 2\, 93051 Regensburg\n
LOCATION:Regensburg\, Sporthalle ESV 27 (240340): Dechbettener Brücke 2\, 93051 Regensburg
CATEGORIES:Saison 2024/25
END:VEVENT
BEGIN:VEVENT
DTSTAMP:20260422T091008Z
DTSTART;TZID=Europe/Berlin:20241019T200000
DTEND;TZID=Europe/Berlin:20241019T213000
SUMMARY:Bezirksliga Staffel Ost ESV 27 Regensbg. III vs HSG Berching/Pollanten (24023409)
UID:a13c3d17-7c6a-48b3-b8a0-44d25e021393
STATUS:CONFIRMED
LAST-MODIFIED:20241019T233406Z
DESCRIPTION:Bezirksliga Frauen Staffel Ost\nBegegnungs-Nr: 24023409\nHeim: ESV 27 Regensbg. III\nGast: HSG Berching/Pollanten\nHalle: Regensburg\, Sporthalle ESV 27 (240340)\nAdresse: Dechbettener Brücke 2\, 93051 Regensburg\n
LOCATION:Regensburg\, Sporthalle ESV 27 (240340): Dechbettener Brücke 2\, 93051 Regensburg
CATEGORIES:Saison 2024/25
END:VEVENT
BEGIN:VEVENT
DTSTAMP:20260422T091008Z
DTSTART;TZID=Europe/Berlin:20241117T170000
DTEND;TZID=Europe/Berlin:20241117T183000
SUMMARY:Bezirksliga Staffel Ost ESV 27 Regensbg. III vs ASV 1863 Cham (24023418)
UID:275241e4-7247-4591-8ceb-d8fc18cdb1c5
STATUS:CONFIRMED
LAST-MODIFIED:20241117T180927Z
DESCRIPTION:Bezirksliga Frauen Staffel Ost\nBegegnungs-Nr: 24023418\nHeim: ESV 27 Regensbg. III\nGast: ASV 1863 Cham\nHalle: Regensburg\, Sporthalle ESV 27 (240340)\nAdresse: Dechbettener Brücke 2\, 93051 Regensburg\n
LOCATION:Regensburg\, Sporthalle ESV 27 (240340): Dechbettener Brücke 2\, 93051 Regensburg
CATEGORIES:Saison 2024/25
END:VEVENT
BEGIN:VEVENT
DTSTAMP:20260422T091008Z
DTSTART;TZID=Europe/Berlin:20250209T173000
DTEND;TZID=Europe/Berlin:20250209T190000
SUMMARY:Bezirksliga Staffel Ost Schierling/Langquaid vs ESV 27 Regensbg. III (24023442)
UID:b7820ae0-c2db-429d-bb40-df054721bef8
STATUS:CONFIRMED
LAST-MODIFIED:20250209T211623Z
DESCRIPTION:Bezirksliga Frauen Staffel Ost\nBegegnungs-Nr: 24023442\nHeim: Schierling/Langquaid\nGast: ESV 27 Regensbg. III\nHalle: Schierling\, Mehrzweckhalle (240360)\nAdresse: Jakob Brandt Str.5\, 84069 Schierling\n
LOCATION:Schierling\, Mehrzweckhalle (240360): Jakob Brandt Str.5\, 84069 Schierling
CATEGORIES:Saison 2024/25
END:VEVENT
BEGIN:VEVENT
DTSTAMP:20260422T091008Z
DTSTART;TZID=Europe/Berlin:20250315T120000
DTEND;TZID=Europe/Berlin:20250315T133000
SUMMARY:Bezirksliga Staffel Ost HV Oberviechtach II vs ESV 27 Regensbg. III (24023451)
UID:d3dd1abf-943a-48bf-8e6c-71f1cad41100
STATUS:CONFIRMED
LAST-MODIFIED:20250316T011805Z
DESCRIPTION:Bezirksliga Frauen Staffel Ost\nBegegnungs-Nr: 24023451\nHeim: HV Oberviechtach II\nGast: ESV 27 Regensbg. III\nHalle: Oberviechtach\, Sporthalle Gymnasium (240301)\nAdresse: Wolfgrubenweg 25\, 92526 Oberviechtach\n
LOCATION:Oberviechtach\, Sporthalle Gymnasium (240301): Wolfgrubenweg 25\, 92526 Oberviechtach
CATEGORIES:Saison 2024/25
END:VEVENT
BEGIN:VEVENT
DTSTAMP:20260422T091008Z
DTSTART;TZID=Europe/Berlin:20250119T120000
DTEND;TZID=Europe/Berlin:20250119T133000
SUMMARY:Bezirksliga Staffel Ost HC Sulzb.Rosenb. II vs ESV 27 Regensbg. III (24023434)
UID:98d35f66-a1a6-4dc3-808c-cecdffc59c44
STATUS:CONFIRMED
LAST-MODIFIED:20250119T143127Z
DESCRIPTION:Bezirksliga Frauen Staffel Ost\nBegegnungs-Nr: 24023434\nHeim: HC Sulzb.Rosenb. II\nGast: ESV 27 Regensbg. III\nHalle: Sulzbach-Rosenb\, Krötensee-Halle (240365)\nAdresse: Dieselstr. 29\, 92237  Sulzbach-Rosenberg\n
LOCATION:Sulzbach-Rosenb\, Krötensee-Halle (240365): Dieselstr. 29\, 92237  Sulzbach-Rosenberg
CATEGORIES:Saison 2024/25
END:VEVENT
BEGIN:VEVENT
DTSTAMP:20260422T091008Z
DTSTART;TZID=Europe/Berlin:20250215T180000
DTEND;TZID=Europe/Berlin:20250215T193000
SUMMARY:Bezirksliga Staffel Ost HSG Berching/Pollanten vs ESV 27 Regensbg. III (24023444)
UID:043ce1d8-269b-4894-af73-47e7634de824
STATUS:CONFIRMED
LAST-MODIFIED:20250216T065406Z
DESCRIPTION:Bezirksliga Frauen Staffel Ost\nBegegnungs-Nr: 24023444\nHeim: HSG Berching/Pollanten\nGast: ESV 27 Regensbg. III\nHalle: Beilngries\, Gymnasiumturnhalle (240029)\nAdresse: Sandstraße 27\, 92339 Beilngries\n
LOCATION:Beilngries\, Gymnasiumturnhalle (240029): Sandstraße 27\, 92339 Beilngries
CATEGORIES:Saison 2024/25
END:VEVENT
BEGIN:VEVENT
DTSTAMP:20260422T091008Z
DTSTART;TZID=Europe/Berlin:20241103T170000
DTEND;TZID=Europe/Berlin:20241103T183000
SUMMARY:Bezirksliga Staffel Ost HG Hemau/Beratzhausen vs ESV 27 Regensbg. III (24023413)
UID:64b25518-36d8-4f90-81df-06ac83933cb5
STATUS:CONFIRMED
LAST-MODIFIED:20241107T020345Z
DESCRIPTION:Bezirksliga Frauen Staffel Ost\nBegegnungs-Nr: 24023413\nHeim: HG Hemau/Beratzhausen\nGast: ESV 27 Regensbg. III\nHalle: Hemau\, Tangrintel-Halle (240140)\nAdresse: August-Glockner-Ring 1\, 93155 Hemau\n
LOCATION:Hemau\, Tangrintel-Halle (240140): August-Glockner-Ring 1\, 93155 Hemau
CATEGORIES:Saison 2024/25
END:VEVENT
BEGIN:VEVENT
DTSTAMP:20260422T091008Z
DTSTART;TZID=Europe/Berlin:20241214T153000
DTEND;TZID=Europe/Berlin:20241214T170000
SUMMARY:Bezirksliga Staffel Ost FC Neunburg v.W. vs ESV 27 Regensbg. III (24023408)
UID:62d0948c-36ab-484d-97e8-ec6e5f6e37a8
STATUS:CONFIRMED
LAST-MODIFIED:20241215T161412Z
DESCRIPTION:Bezirksliga Frauen Staffel Ost\nBegegnungs-Nr: 24023408\nHeim: FC Neunburg v.W.\nGast: ESV 27 Regensbg. III\nHalle: Neunburg v. W.\, Hauptschulturnhalle (240263)\nAdresse: Katzdorfer Str. 18\, 92431 Neunburg v. W.\n
LOCATION:Neunburg v. W.\, Hauptschulturnhalle (240263): Katzdorfer Str. 18\, 92431 Neunburg v. W.
CATEGORIES:Saison 2024/25
END:VEVENT
BEGIN:VEVENT
DTSTAMP:20260422T091008Z
DTSTART;TZID=Europe/Berlin:20250201T171500
DTEND;TZID=Europe/Berlin:20250201T184500
SUMMARY:Bezirksliga Staffel Ost ASV 1863 Cham vs ESV 27 Regensbg. III (24023438)
UID:ff96150f-810a-43b6-a7e3-f6d562e7ee14
STATUS:CONFIRMED
LAST-MODIFIED:20250202T070354Z
DESCRIPTION:Bezirksliga Frauen Staffel Ost\nBegegnungs-Nr: 24023438\nHeim: ASV 1863 Cham\nGast: ESV 27 Regensbg. III\nHalle: Cham\, Joseph-von Fraunhofer-Gymnasium (240040)\nAdresse: Dr.-Muggenthaler-Straße 32\, 93413  Cham\n
LOCATION:Cham\, Joseph-von Fraunhofer-Gymnasium (240040): Dr.-Muggenthaler-Straße 32\, 93413  Cham
CATEGORIES:Saison 2024/25
END:VEVENT
END:VCALENDAR
