BEGIN:VCALENDAR
PRODID:-//nuDatenautomaten//framework iCal4j //DE
VERSION:2.0
CALSCALE:GREGORIAN
BEGIN:VTIMEZONE
TZID:Europe/Berlin
LAST-MODIFIED:20260306T231828Z
TZURL:https://www.tzurl.org/zoneinfo/Europe/Berlin
X-LIC-LOCATION:Europe/Berlin
X-PROLEPTIC-TZNAME:LMT
BEGIN:STANDARD
TZNAME:CET
TZOFFSETFROM:+005328
TZOFFSETTO:+0100
DTSTART:18930401T000000
END:STANDARD
BEGIN:DAYLIGHT
TZNAME:CEST
TZOFFSETFROM:+0100
TZOFFSETTO:+0200
DTSTART:19160430T230000
RDATE:19400401T020000
RDATE:19430329T020000
RDATE:19460414T020000
RDATE:19470406T030000
RDATE:19480418T020000
RDATE:19490410T020000
RDATE:19800406T020000
END:DAYLIGHT
BEGIN:STANDARD
TZNAME:CET
TZOFFSETFROM:+0200
TZOFFSETTO:+0100
DTSTART:19161001T010000
RDATE:19421102T030000
RDATE:19431004T030000
RDATE:19441002T030000
RDATE:19451118T030000
RDATE:19461007T030000
END:STANDARD
BEGIN:DAYLIGHT
TZNAME:CEST
TZOFFSETFROM:+0100
TZOFFSETTO:+0200
DTSTART:19170416T020000
RRULE:FREQ=YEARLY;UNTIL=19180415T010000Z;BYMONTH=4;BYDAY=3MO
END:DAYLIGHT
BEGIN:STANDARD
TZNAME:CET
TZOFFSETFROM:+0200
TZOFFSETTO:+0100
DTSTART:19170917T030000
RRULE:FREQ=YEARLY;UNTIL=19180916T010000Z;BYMONTH=9;BYDAY=3MO
END:STANDARD
BEGIN:DAYLIGHT
TZNAME:CEST
TZOFFSETFROM:+0100
TZOFFSETTO:+0200
DTSTART:19440403T020000
RRULE:FREQ=YEARLY;UNTIL=19450402T010000Z;BYMONTH=4;BYDAY=1MO
END:DAYLIGHT
BEGIN:DAYLIGHT
TZNAME:CEMT
TZOFFSETFROM:+0200
TZOFFSETTO:+0300
DTSTART:19450524T020000
RDATE:19470511T030000
END:DAYLIGHT
BEGIN:DAYLIGHT
TZNAME:CEST
TZOFFSETFROM:+0300
TZOFFSETTO:+0200
DTSTART:19450924T030000
RDATE:19470629T030000
END:DAYLIGHT
BEGIN:STANDARD
TZNAME:CET
TZOFFSETFROM:+0100
TZOFFSETTO:+0100
DTSTART:19460101T000000
RDATE:19800101T000000
END:STANDARD
BEGIN:STANDARD
TZNAME:CET
TZOFFSETFROM:+0200
TZOFFSETTO:+0100
DTSTART:19471005T030000
RRULE:FREQ=YEARLY;UNTIL=19491002T010000Z;BYMONTH=10;BYDAY=1SU
END:STANDARD
BEGIN:STANDARD
TZNAME:CET
TZOFFSETFROM:+0200
TZOFFSETTO:+0100
DTSTART:19800928T030000
RRULE:FREQ=YEARLY;UNTIL=19950924T010000Z;BYMONTH=9;BYDAY=-1SU
END:STANDARD
BEGIN:DAYLIGHT
TZNAME:CEST
TZOFFSETFROM:+0100
TZOFFSETTO:+0200
DTSTART:19810329T020000
RRULE:FREQ=YEARLY;BYMONTH=3;BYDAY=-1SU
END:DAYLIGHT
BEGIN:STANDARD
TZNAME:CET
TZOFFSETFROM:+0200
TZOFFSETTO:+0100
DTSTART:19961027T030000
RRULE:FREQ=YEARLY;BYMONTH=10;BYDAY=-1SU
END:STANDARD
END:VTIMEZONE
BEGIN:VEVENT
DTSTAMP:20260425T183434Z
DTSTART;TZID=Europe/Berlin:20250406T160000
DTEND;TZID=Europe/Berlin:20250406T173000
SUMMARY:BZOL  HG Kunstadt vs HaSpo Bayreuth II (22010090)
UID:ed235037-e4c9-4892-8bb8-4b64b95918c2
STATUS:CONFIRMED
LAST-MODIFIED:20250407T045550Z
DESCRIPTION:Bezirksoberliga Männer\nBegegnungs-Nr: 22010090\nHeim: HG Kunstadt\nGast: HaSpo Bayreuth II\nHalle: Burgkunstadt\, Obermainhalle (220027)\nAdresse: Kirchleiner Str. 16 b\, 96224 Burgkunstadt\n
LOCATION:Burgkunstadt\, Obermainhalle (220027): Kirchleiner Str. 16 b\, 96224 Burgkunstadt
CATEGORIES:Saison 2024/25
END:VEVENT
BEGIN:VEVENT
DTSTAMP:20260425T183434Z
DTSTART;TZID=Europe/Berlin:20250119T160000
DTEND;TZID=Europe/Berlin:20250119T173000
SUMMARY:BZOL  HG Kunstadt vs HG Hut/Ahorn (22010052)
UID:29c22576-ffd4-4643-88d0-374d9cd2f459
STATUS:CONFIRMED
LAST-MODIFIED:20250120T055043Z
DESCRIPTION:Bezirksoberliga Männer\nBegegnungs-Nr: 22010052\nHeim: HG Kunstadt\nGast: HG Hut/Ahorn\nHalle: Burgkunstadt\, Obermainhalle (220027)\nAdresse: Kirchleiner Str. 16 b\, 96224 Burgkunstadt\n
LOCATION:Burgkunstadt\, Obermainhalle (220027): Kirchleiner Str. 16 b\, 96224 Burgkunstadt
CATEGORIES:Saison 2024/25
END:VEVENT
BEGIN:VEVENT
DTSTAMP:20260425T183434Z
DTSTART;TZID=Europe/Berlin:20241208T160000
DTEND;TZID=Europe/Berlin:20241208T173000
SUMMARY:BZOL  HG Kunstadt vs HSC 2000 Coburg III (22010040)
UID:703d3135-aaf0-4ea1-9629-fa7d9f830a0a
STATUS:CONFIRMED
LAST-MODIFIED:20241209T062801Z
DESCRIPTION:Bezirksoberliga Männer\nBegegnungs-Nr: 22010040\nHeim: HG Kunstadt\nGast: HSC 2000 Coburg III\nHalle: Burgkunstadt\, Obermainhalle (220027)\nAdresse: Kirchleiner Str. 16 b\, 96224 Burgkunstadt\n
LOCATION:Burgkunstadt\, Obermainhalle (220027): Kirchleiner Str. 16 b\, 96224 Burgkunstadt
CATEGORIES:Saison 2024/25
END:VEVENT
BEGIN:VEVENT
DTSTAMP:20260425T183434Z
DTSTART;TZID=Europe/Berlin:20241124T160000
DTEND;TZID=Europe/Berlin:20241124T173000
SUMMARY:BZOL  HG Kunstadt vs HC 03 Bamberg (22010034)
UID:f108e5a6-a0c9-4906-8552-57ecaa379525
STATUS:CONFIRMED
LAST-MODIFIED:20241125T062701Z
DESCRIPTION:Bezirksoberliga Männer\nBegegnungs-Nr: 22010034\nHeim: HG Kunstadt\nGast: HC 03 Bamberg\nHalle: Burgkunstadt\, Obermainhalle (220027)\nAdresse: Kirchleiner Str. 16 b\, 96224 Burgkunstadt\n
LOCATION:Burgkunstadt\, Obermainhalle (220027): Kirchleiner Str. 16 b\, 96224 Burgkunstadt
CATEGORIES:Saison 2024/25
END:VEVENT
BEGIN:VEVENT
DTSTAMP:20260425T183434Z
DTSTART;TZID=Europe/Berlin:20241006T160000
DTEND;TZID=Europe/Berlin:20241006T173000
SUMMARY:BZOL  HG Kunstadt vs HSG Weidhausen-Ebersdorf (22010013)
UID:8c77147f-a182-4574-94d5-945f4d11184c
STATUS:CONFIRMED
LAST-MODIFIED:20241006T182914Z
DESCRIPTION:Bezirksoberliga Männer\nBegegnungs-Nr: 22010013\nHeim: HG Kunstadt\nGast: HSG Weidhausen-Ebersdorf\nHalle: Altenkunstadt\, Kordigasthalle (220003)\nAdresse: Neue Schule 3\, 96264  Altenkunstadt\n
LOCATION:Altenkunstadt\, Kordigasthalle (220003): Neue Schule 3\, 96264  Altenkunstadt
CATEGORIES:Saison 2024/25
END:VEVENT
BEGIN:VEVENT
DTSTAMP:20260425T183434Z
DTSTART;TZID=Europe/Berlin:20250223T160000
DTEND;TZID=Europe/Berlin:20250223T173000
SUMMARY:BZOL  HG Kunstadt vs HSV Hochfranken II (22010074)
UID:823d4a94-e26c-409a-8a74-900ece903617
STATUS:CONFIRMED
LAST-MODIFIED:20250224T085513Z
DESCRIPTION:Bezirksoberliga Männer\nBegegnungs-Nr: 22010074\nHeim: HG Kunstadt\nGast: HSV Hochfranken II\nHalle: Burgkunstadt\, Obermainhalle (220027)\nAdresse: Kirchleiner Str. 16 b\, 96224 Burgkunstadt\n
LOCATION:Burgkunstadt\, Obermainhalle (220027): Kirchleiner Str. 16 b\, 96224 Burgkunstadt
CATEGORIES:Saison 2024/25
END:VEVENT
BEGIN:VEVENT
DTSTAMP:20260425T183435Z
DTSTART;TZID=Europe/Berlin:20240922T160000
DTEND;TZID=Europe/Berlin:20240922T173000
SUMMARY:BZOL  HG Kunstadt vs HSG 2020 Fichtelgebirge (22010003)
UID:0fc0b483-96a1-4779-8786-76bd03a2cd1f
STATUS:CONFIRMED
LAST-MODIFIED:20240923T111455Z
DESCRIPTION:Bezirksoberliga Männer\nBegegnungs-Nr: 22010003\nHeim: HG Kunstadt\nGast: HSG 2020 Fichtelgebirge\nHalle: Burgkunstadt\, Obermainhalle (220027)\nAdresse: Kirchleiner Str. 16 b\, 96224 Burgkunstadt\n
LOCATION:Burgkunstadt\, Obermainhalle (220027): Kirchleiner Str. 16 b\, 96224 Burgkunstadt
CATEGORIES:Saison 2024/25
END:VEVENT
BEGIN:VEVENT
DTSTAMP:20260425T183435Z
DTSTART;TZID=Europe/Berlin:20250209T160000
DTEND;TZID=Europe/Berlin:20250209T173000
SUMMARY:BZOL  HG Kunstadt vs SG Helmbrechts/Münchberg II (22010063)
UID:c7182320-1ed3-4719-83d5-3f82949a6302
STATUS:CONFIRMED
LAST-MODIFIED:20250210T055331Z
DESCRIPTION:Bezirksoberliga Männer\nBegegnungs-Nr: 22010063\nHeim: HG Kunstadt\nGast: SG Helmbrechts/Münchberg II\nHalle: Burgkunstadt\, Obermainhalle (220027)\nAdresse: Kirchleiner Str. 16 b\, 96224 Burgkunstadt\n
LOCATION:Burgkunstadt\, Obermainhalle (220027): Kirchleiner Str. 16 b\, 96224 Burgkunstadt
CATEGORIES:Saison 2024/25
END:VEVENT
BEGIN:VEVENT
DTSTAMP:20260425T183435Z
DTSTART;TZID=Europe/Berlin:20250329T180000
DTEND;TZID=Europe/Berlin:20250329T193000
SUMMARY:BZOL  HG Kunstadt vs HSG Rödental/Neustadt (22010023)
UID:31fa4f4f-51df-4153-ae97-ab1e10020180
STATUS:CONFIRMED
LAST-MODIFIED:20250331T060805Z
DESCRIPTION:Bezirksoberliga Männer\nBegegnungs-Nr: 22010023\nHeim: HG Kunstadt\nGast: HSG Rödental/Neustadt\nHalle: Burgkunstadt\, Obermainhalle (220027)\nAdresse: Kirchleiner Str. 16 b\, 96224 Burgkunstadt\n
LOCATION:Burgkunstadt\, Obermainhalle (220027): Kirchleiner Str. 16 b\, 96224 Burgkunstadt
CATEGORIES:Saison 2024/25
END:VEVENT
BEGIN:VEVENT
DTSTAMP:20260425T183435Z
DTSTART;TZID=Europe/Berlin:20250126T170000
DTEND;TZID=Europe/Berlin:20250126T183000
SUMMARY:BZOL  HSG Weidhausen-Ebersdorf vs HG Kunstadt (22010058)
UID:9197332c-5e51-4365-bedd-e4bda4e395c3
STATUS:CONFIRMED
LAST-MODIFIED:20250127T054140Z
DESCRIPTION:Bezirksoberliga Männer\nBegegnungs-Nr: 22010058\nHeim: HSG Weidhausen-Ebersdorf\nGast: HG Kunstadt\nHalle: Ebersdorf\, Frankenlandhalle (220082)\nAdresse: Am Sportplatz 14\, 96237 Ebersdorf\n
LOCATION:Ebersdorf\, Frankenlandhalle (220082): Am Sportplatz 14\, 96237 Ebersdorf
CATEGORIES:Saison 2024/25
END:VEVENT
BEGIN:VEVENT
DTSTAMP:20260425T183435Z
DTSTART;TZID=Europe/Berlin:20241109T170000
DTEND;TZID=Europe/Berlin:20241109T183000
SUMMARY:BZOL  HSV Hochfranken II vs HG Kunstadt (22010028)
UID:628c2a9c-86bf-41d0-b598-bfb49d4452a2
STATUS:CONFIRMED
LAST-MODIFIED:20241111T054649Z
DESCRIPTION:Bezirksoberliga Männer\nBegegnungs-Nr: 22010028\nHeim: HSV Hochfranken II\nGast: HG Kunstadt\nHalle: Schönwald\, Schulturnhalle (220361)\nAdresse: Schützenstr 1\, 95173 Schönwald\n
LOCATION:Schönwald\, Schulturnhalle (220361): Schützenstr 1\, 95173 Schönwald
CATEGORIES:Saison 2024/25
END:VEVENT
BEGIN:VEVENT
DTSTAMP:20260425T183435Z
DTSTART;TZID=Europe/Berlin:20250315T170000
DTEND;TZID=Europe/Berlin:20250315T183000
SUMMARY:BZOL  HC 03 Bamberg vs HG Kunstadt (22010077)
UID:e07bca3f-7348-4f9f-ac59-e5af71bebd42
STATUS:CONFIRMED
LAST-MODIFIED:20250316T081540Z
DESCRIPTION:Bezirksoberliga Männer\nBegegnungs-Nr: 22010077\nHeim: HC 03 Bamberg\nGast: HG Kunstadt\nHalle: Bamberg Berufschule I (220022)\nAdresse: Ohmstr.16\, 96050 Bamberg\n
LOCATION:Bamberg Berufschule I (220022): Ohmstr.16\, 96050 Bamberg
CATEGORIES:Saison 2024/25
END:VEVENT
BEGIN:VEVENT
DTSTAMP:20260425T183435Z
DTSTART;TZID=Europe/Berlin:20241214T173000
DTEND;TZID=Europe/Berlin:20241214T190000
SUMMARY:BZOL  HaSpo Bayreuth II vs HG Kunstadt (22010042)
UID:81f77278-fbc7-47c0-8ac2-3fa4c9893f6c
STATUS:CONFIRMED
LAST-MODIFIED:20241216T075756Z
DESCRIPTION:Bezirksoberliga Männer\nBegegnungs-Nr: 22010042\nHeim: HaSpo Bayreuth II\nGast: HG Kunstadt\nHalle: Bayreuth\, Sporthalle Ost (220021)\nAdresse: Äußere Badstr. 26\, 95448 Bayreuth\n
LOCATION:Bayreuth\, Sporthalle Ost (220021): Äußere Badstr. 26\, 95448 Bayreuth
CATEGORIES:Saison 2024/25
END:VEVENT
BEGIN:VEVENT
DTSTAMP:20260425T183435Z
DTSTART;TZID=Europe/Berlin:20240929T140000
DTEND;TZID=Europe/Berlin:20240929T153000
SUMMARY:BZOL  HG Hut/Ahorn vs HG Kunstadt (22010009)
UID:621a7365-97a6-4506-b932-a51f3199e252
STATUS:CONFIRMED
LAST-MODIFIED:20240930T105722Z
DESCRIPTION:Bezirksoberliga Männer\nBegegnungs-Nr: 22010009\nHeim: HG Hut/Ahorn\nGast: HG Kunstadt\nHalle: Ahorn\, Schulsporthalle (220001)\nAdresse: Alte Straße 8\, 96482 Ahorn\n
LOCATION:Ahorn\, Schulsporthalle (220001): Alte Straße 8\, 96482 Ahorn
CATEGORIES:Saison 2024/25
END:VEVENT
BEGIN:VEVENT
DTSTAMP:20260425T183435Z
DTSTART;TZID=Europe/Berlin:20250215T161500
DTEND;TZID=Europe/Berlin:20250215T174500
SUMMARY:BZOL  HSG Rödental/Neustadt vs HG Kunstadt (22010065)
UID:eb2169ae-5271-4b87-819d-8ff5a9a31359
STATUS:CONFIRMED
LAST-MODIFIED:20250216T092533Z
DESCRIPTION:Bezirksoberliga Männer\nBegegnungs-Nr: 22010065\nHeim: HSG Rödental/Neustadt\nGast: HG Kunstadt\nHalle: Neustadt\, Frankenhalle (220261)\nAdresse: Wildenheider Straße 16\, 96465 Neustadt\n
LOCATION:Neustadt\, Frankenhalle (220261): Wildenheider Straße 16\, 96465 Neustadt
CATEGORIES:Saison 2024/25
END:VEVENT
BEGIN:VEVENT
DTSTAMP:20260425T183435Z
DTSTART;TZID=Europe/Berlin:20241013T160000
DTEND;TZID=Europe/Berlin:20241013T173000
SUMMARY:BZOL  SG Helmbrechts/Münchberg II vs HG Kunstadt (22010015)
UID:367aa888-8ef8-4958-a0fc-add9199d52d6
STATUS:CONFIRMED
LAST-MODIFIED:20241013T183523Z
DESCRIPTION:Bezirksoberliga Männer\nBegegnungs-Nr: 22010015\nHeim: SG Helmbrechts/Münchberg II\nGast: HG Kunstadt\nHalle: Münchberg\, Gymnasiumhalle (220224)\nAdresse: Hofer Str. 41\, 95213 Münchberg\n
LOCATION:Münchberg\, Gymnasiumhalle (220224): Hofer Str. 41\, 95213 Münchberg
CATEGORIES:Saison 2024/25
END:VEVENT
BEGIN:VEVENT
DTSTAMP:20260425T183435Z
DTSTART;TZID=Europe/Berlin:20250111T163000
DTEND;TZID=Europe/Berlin:20250111T180000
SUMMARY:BZOL  HSG 2020 Fichtelgebirge vs HG Kunstadt (22010047)
UID:5e7a0420-82f7-4251-86a8-9460a4f23d66
STATUS:CONFIRMED
LAST-MODIFIED:20250112T100312Z
DESCRIPTION:Bezirksoberliga Männer\nBegegnungs-Nr: 22010047\nHeim: HSG 2020 Fichtelgebirge\nGast: HG Kunstadt\nHalle: Marktleuthen\, Städtische Sporthalle (220222)\nAdresse: Hermenteil 3\, 95168 Marktleuthen\n
LOCATION:Marktleuthen\, Städtische Sporthalle (220222): Hermenteil 3\, 95168 Marktleuthen
CATEGORIES:Saison 2024/25
END:VEVENT
BEGIN:VEVENT
DTSTAMP:20260425T183435Z
DTSTART;TZID=Europe/Berlin:20250323T163000
DTEND;TZID=Europe/Berlin:20250323T180000
SUMMARY:BZOL  HSC 2000 Coburg III vs HG Kunstadt (22010085)
UID:4c0e848a-fd8c-4f0e-8f20-c54e27f77db1
STATUS:CONFIRMED
LAST-MODIFIED:20250324T105531Z
DESCRIPTION:Bezirksoberliga Männer\nBegegnungs-Nr: 22010085\nHeim: HSC 2000 Coburg III\nGast: HG Kunstadt\nHalle: Coburg\, BGS Halle (220041)\nAdresse: Wilhelm-Ruß-Str. 4\, 96450 Coburg\n
LOCATION:Coburg\, BGS Halle (220041): Wilhelm-Ruß-Str. 4\, 96450 Coburg
CATEGORIES:Saison 2024/25
END:VEVENT
END:VCALENDAR
