BEGIN:VCALENDAR
PRODID:-//nuDatenautomaten//framework iCal4j //DE
VERSION:2.0
CALSCALE:GREGORIAN
BEGIN:VTIMEZONE
TZID:Europe/Berlin
LAST-MODIFIED:20260306T231828Z
TZURL:https://www.tzurl.org/zoneinfo/Europe/Berlin
X-LIC-LOCATION:Europe/Berlin
X-PROLEPTIC-TZNAME:LMT
BEGIN:STANDARD
TZNAME:CET
TZOFFSETFROM:+005328
TZOFFSETTO:+0100
DTSTART:18930401T000000
END:STANDARD
BEGIN:DAYLIGHT
TZNAME:CEST
TZOFFSETFROM:+0100
TZOFFSETTO:+0200
DTSTART:19160430T230000
RDATE:19400401T020000
RDATE:19430329T020000
RDATE:19460414T020000
RDATE:19470406T030000
RDATE:19480418T020000
RDATE:19490410T020000
RDATE:19800406T020000
END:DAYLIGHT
BEGIN:STANDARD
TZNAME:CET
TZOFFSETFROM:+0200
TZOFFSETTO:+0100
DTSTART:19161001T010000
RDATE:19421102T030000
RDATE:19431004T030000
RDATE:19441002T030000
RDATE:19451118T030000
RDATE:19461007T030000
END:STANDARD
BEGIN:DAYLIGHT
TZNAME:CEST
TZOFFSETFROM:+0100
TZOFFSETTO:+0200
DTSTART:19170416T020000
RRULE:FREQ=YEARLY;UNTIL=19180415T010000Z;BYMONTH=4;BYDAY=3MO
END:DAYLIGHT
BEGIN:STANDARD
TZNAME:CET
TZOFFSETFROM:+0200
TZOFFSETTO:+0100
DTSTART:19170917T030000
RRULE:FREQ=YEARLY;UNTIL=19180916T010000Z;BYMONTH=9;BYDAY=3MO
END:STANDARD
BEGIN:DAYLIGHT
TZNAME:CEST
TZOFFSETFROM:+0100
TZOFFSETTO:+0200
DTSTART:19440403T020000
RRULE:FREQ=YEARLY;UNTIL=19450402T010000Z;BYMONTH=4;BYDAY=1MO
END:DAYLIGHT
BEGIN:DAYLIGHT
TZNAME:CEMT
TZOFFSETFROM:+0200
TZOFFSETTO:+0300
DTSTART:19450524T020000
RDATE:19470511T030000
END:DAYLIGHT
BEGIN:DAYLIGHT
TZNAME:CEST
TZOFFSETFROM:+0300
TZOFFSETTO:+0200
DTSTART:19450924T030000
RDATE:19470629T030000
END:DAYLIGHT
BEGIN:STANDARD
TZNAME:CET
TZOFFSETFROM:+0100
TZOFFSETTO:+0100
DTSTART:19460101T000000
RDATE:19800101T000000
END:STANDARD
BEGIN:STANDARD
TZNAME:CET
TZOFFSETFROM:+0200
TZOFFSETTO:+0100
DTSTART:19471005T030000
RRULE:FREQ=YEARLY;UNTIL=19491002T010000Z;BYMONTH=10;BYDAY=1SU
END:STANDARD
BEGIN:STANDARD
TZNAME:CET
TZOFFSETFROM:+0200
TZOFFSETTO:+0100
DTSTART:19800928T030000
RRULE:FREQ=YEARLY;UNTIL=19950924T010000Z;BYMONTH=9;BYDAY=-1SU
END:STANDARD
BEGIN:DAYLIGHT
TZNAME:CEST
TZOFFSETFROM:+0100
TZOFFSETTO:+0200
DTSTART:19810329T020000
RRULE:FREQ=YEARLY;BYMONTH=3;BYDAY=-1SU
END:DAYLIGHT
BEGIN:STANDARD
TZNAME:CET
TZOFFSETFROM:+0200
TZOFFSETTO:+0100
DTSTART:19961027T030000
RRULE:FREQ=YEARLY;BYMONTH=10;BYDAY=-1SU
END:STANDARD
END:VTIMEZONE
BEGIN:VEVENT
DTSTAMP:20260419T210315Z
DTSTART;TZID=Europe/Berlin:20250405T160000
DTEND;TZID=Europe/Berlin:20250405T173000
SUMMARY:BZL  TS Schwarzenbach vs TV Marktleugast (22011088)
UID:b6c54a45-3b2c-4bec-8f06-a809c27c6e99
STATUS:CONFIRMED
LAST-MODIFIED:20250407T045942Z
DESCRIPTION:Bezirksliga Männer\nBegegnungs-Nr: 22011088\nHeim: TS Schwarzenbach\nGast: TV Marktleugast\nHalle: Oberkotzau\, Saaletalhalle (220300)\nAdresse: Schulstr. \, 95145 Oberkotzau\n
LOCATION:Oberkotzau\, Saaletalhalle (220300): Schulstr. \, 95145 Oberkotzau
CATEGORIES:Saison 2024/25
END:VEVENT
BEGIN:VEVENT
DTSTAMP:20260419T210315Z
DTSTART;TZID=Europe/Berlin:20241117T150000
DTEND;TZID=Europe/Berlin:20241117T163000
SUMMARY:BZL  TS Schwarzenbach vs HC 03 Bamberg II (22011029)
UID:f7b03d99-a1bd-47d4-a3e9-fdf2f2553b99
STATUS:CONFIRMED
LAST-MODIFIED:20241118T195852Z
DESCRIPTION:Bezirksliga Männer\nBegegnungs-Nr: 22011029\nHeim: TS Schwarzenbach\nGast: HC 03 Bamberg II\nHalle: Oberkotzau\, Saaletalhalle (220300)\nAdresse: Schulstr. \, 95145 Oberkotzau\n
LOCATION:Oberkotzau\, Saaletalhalle (220300): Schulstr. \, 95145 Oberkotzau
CATEGORIES:Saison 2024/25
END:VEVENT
BEGIN:VEVENT
DTSTAMP:20260419T210315Z
DTSTART;TZID=Europe/Berlin:20250215T160000
DTEND;TZID=Europe/Berlin:20250215T173000
SUMMARY:BZL  TS Schwarzenbach vs TV Gefrees (22011065)
UID:ecae2074-2a39-4a02-bca4-97f02703bce0
STATUS:CONFIRMED
LAST-MODIFIED:20250217T183949Z
DESCRIPTION:Bezirksliga Männer\nBegegnungs-Nr: 22011065\nHeim: TS Schwarzenbach\nGast: TV Gefrees\nHalle: Oberkotzau\, Saaletalhalle (220300)\nAdresse: Schulstr. \, 95145 Oberkotzau\n
LOCATION:Oberkotzau\, Saaletalhalle (220300): Schulstr. \, 95145 Oberkotzau
CATEGORIES:Saison 2024/25
END:VEVENT
BEGIN:VEVENT
DTSTAMP:20260419T210315Z
DTSTART;TZID=Europe/Berlin:20241027T150000
DTEND;TZID=Europe/Berlin:20241027T163000
SUMMARY:BZL  TS Schwarzenbach vs TS Lichtenfels (22011022)
UID:bbbab1fc-88ca-4a54-a1a5-3c1ec20dd58c
STATUS:CONFIRMED
LAST-MODIFIED:20241027T195801Z
DESCRIPTION:Bezirksliga Männer\nBegegnungs-Nr: 22011022\nHeim: TS Schwarzenbach\nGast: TS Lichtenfels\nHalle: Oberkotzau\, Saaletalhalle (220300)\nAdresse: Schulstr. \, 95145 Oberkotzau\n
LOCATION:Oberkotzau\, Saaletalhalle (220300): Schulstr. \, 95145 Oberkotzau
CATEGORIES:Saison 2024/25
END:VEVENT
BEGIN:VEVENT
DTSTAMP:20260419T210315Z
DTSTART;TZID=Europe/Berlin:20241207T160000
DTEND;TZID=Europe/Berlin:20241207T173000
SUMMARY:BZL  TS Schwarzenbach vs HSG 2020 Fichtelgebirge II (22011037)
UID:c645beca-ef01-4f0f-9fab-fb54161d45f8
STATUS:CONFIRMED
LAST-MODIFIED:20241209T061603Z
DESCRIPTION:Bezirksliga Männer\nBegegnungs-Nr: 22011037\nHeim: TS Schwarzenbach\nGast: HSG 2020 Fichtelgebirge II\nHalle: Oberkotzau\, Saaletalhalle (220300)\nAdresse: Schulstr. \, 95145 Oberkotzau\n
LOCATION:Oberkotzau\, Saaletalhalle (220300): Schulstr. \, 95145 Oberkotzau
CATEGORIES:Saison 2024/25
END:VEVENT
BEGIN:VEVENT
DTSTAMP:20260419T210315Z
DTSTART;TZID=Europe/Berlin:20241102T160000
DTEND;TZID=Europe/Berlin:20241102T173000
SUMMARY:BZL  TS Schwarzenbach vs TV Michelau (22011023)
UID:b6fc8c7f-ef83-4b35-94c5-0a9f2b7636f7
STATUS:CONFIRMED
LAST-MODIFIED:20241104T053713Z
DESCRIPTION:Bezirksliga Männer\nBegegnungs-Nr: 22011023\nHeim: TS Schwarzenbach\nGast: TV Michelau\nHalle: Oberkotzau\, Saaletalhalle (220300)\nAdresse: Schulstr. \, 95145 Oberkotzau\n
LOCATION:Oberkotzau\, Saaletalhalle (220300): Schulstr. \, 95145 Oberkotzau
CATEGORIES:Saison 2024/25
END:VEVENT
BEGIN:VEVENT
DTSTAMP:20260419T210315Z
DTSTART;TZID=Europe/Berlin:20241109T160000
DTEND;TZID=Europe/Berlin:20241109T173000
SUMMARY:BZL  TS Schwarzenbach vs SG Bad Rodach/Großw. (22011025)
UID:51a2446d-1591-4a15-bb3d-6da1aaee4ad1
STATUS:CONFIRMED
LAST-MODIFIED:20241111T055039Z
DESCRIPTION:Bezirksliga Männer\nBegegnungs-Nr: 22011025\nHeim: TS Schwarzenbach\nGast: SG Bad Rodach/Großw.\nHalle: Oberkotzau\, Saaletalhalle (220300)\nAdresse: Schulstr. \, 95145 Oberkotzau\n
LOCATION:Oberkotzau\, Saaletalhalle (220300): Schulstr. \, 95145 Oberkotzau
CATEGORIES:Saison 2024/25
END:VEVENT
BEGIN:VEVENT
DTSTAMP:20260419T210315Z
DTSTART;TZID=Europe/Berlin:20250119T150000
DTEND;TZID=Europe/Berlin:20250119T163000
SUMMARY:BZL  TS Schwarzenbach vs SG Helmbrechts/Münchberg III (22011052)
UID:d0c96a57-f84e-428f-bb39-9116c63d64a7
STATUS:CONFIRMED
LAST-MODIFIED:20250120T055324Z
DESCRIPTION:Bezirksliga Männer\nBegegnungs-Nr: 22011052\nHeim: TS Schwarzenbach\nGast: SG Helmbrechts/Münchberg III\nHalle: Oberkotzau\, Saaletalhalle (220300)\nAdresse: Schulstr. \, 95145 Oberkotzau\n
LOCATION:Oberkotzau\, Saaletalhalle (220300): Schulstr. \, 95145 Oberkotzau
CATEGORIES:Saison 2024/25
END:VEVENT
BEGIN:VEVENT
DTSTAMP:20260419T210315Z
DTSTART;TZID=Europe/Berlin:20250316T150000
DTEND;TZID=Europe/Berlin:20250316T163000
SUMMARY:BZL  TS Schwarzenbach vs HaSpo Bayreuth III (22011081)
UID:f8c4fc0d-31c9-4104-96c1-b4c1ab8fd243
STATUS:CONFIRMED
LAST-MODIFIED:20250317T080910Z
DESCRIPTION:Bezirksliga Männer\nBegegnungs-Nr: 22011081\nHeim: TS Schwarzenbach\nGast: HaSpo Bayreuth III\nHalle: Oberkotzau\, Saaletalhalle (220300)\nAdresse: Schulstr. \, 95145 Oberkotzau\n
LOCATION:Oberkotzau\, Saaletalhalle (220300): Schulstr. \, 95145 Oberkotzau
CATEGORIES:Saison 2024/25
END:VEVENT
BEGIN:VEVENT
DTSTAMP:20260419T210315Z
DTSTART;TZID=Europe/Berlin:20241123T193000
DTEND;TZID=Europe/Berlin:20241123T210000
SUMMARY:BZL  HaSpo Bayreuth III vs TS Schwarzenbach (22011033)
UID:977d3d10-749d-47c2-a019-b60088c6bc71
STATUS:CONFIRMED
LAST-MODIFIED:20250212T083830Z
DESCRIPTION:Bezirksliga Männer\nBegegnungs-Nr: 22011033\nHeim: HaSpo Bayreuth III\nGast: TS Schwarzenbach\nHalle: Bayreuth\, Sporthalle Ost (220021)\nAdresse: Äußere Badstr. 26\, 95448 Bayreuth\n
LOCATION:Bayreuth\, Sporthalle Ost (220021): Äußere Badstr. 26\, 95448 Bayreuth
CATEGORIES:Saison 2024/25
END:VEVENT
BEGIN:VEVENT
DTSTAMP:20260419T210315Z
DTSTART;TZID=Europe/Berlin:20250329T154500
DTEND;TZID=Europe/Berlin:20250329T171500
SUMMARY:BZL  SG Helmbrechts/Münchberg III vs TS Schwarzenbach (22011086)
UID:ac6960f9-71ce-4682-bc27-b69d537b7223
STATUS:CONFIRMED
LAST-MODIFIED:20250331T061255Z
DESCRIPTION:Bezirksliga Männer\nBegegnungs-Nr: 22011086\nHeim: SG Helmbrechts/Münchberg III\nGast: TS Schwarzenbach\nHalle:  Helmbrechts Sporthalle Helmbrechts (220140)\nAdresse: Pressecker Str. 20\, 95233 Helmbrechts\n
LOCATION: Helmbrechts Sporthalle Helmbrechts (220140): Pressecker Str. 20\, 95233 Helmbrechts
CATEGORIES:Saison 2024/25
END:VEVENT
BEGIN:VEVENT
DTSTAMP:20260419T210315Z
DTSTART;TZID=Europe/Berlin:20250126T144500
DTEND;TZID=Europe/Berlin:20250126T161500
SUMMARY:BZL  HC 03 Bamberg II vs TS Schwarzenbach (22011055)
UID:c89d0237-d781-4913-8929-6e6dae978968
STATUS:CONFIRMED
LAST-MODIFIED:20250127T054320Z
DESCRIPTION:Bezirksliga Männer\nBegegnungs-Nr: 22011055\nHeim: HC 03 Bamberg II\nGast: TS Schwarzenbach\nHalle: Bamberg Berufschule I (220022)\nAdresse: Ohmstr.16\, 96050 Bamberg\n
LOCATION:Bamberg Berufschule I (220022): Ohmstr.16\, 96050 Bamberg
CATEGORIES:Saison 2024/25
END:VEVENT
BEGIN:VEVENT
DTSTAMP:20260419T210315Z
DTSTART;TZID=Europe/Berlin:20241019T170000
DTEND;TZID=Europe/Berlin:20241019T183000
SUMMARY:BZL  TV Gefrees vs TS Schwarzenbach (22011019)
UID:071bc246-b6a1-4110-8fc8-86b02a14f42c
STATUS:CONFIRMED
LAST-MODIFIED:20241021T182817Z
DESCRIPTION:Bezirksliga Männer\nBegegnungs-Nr: 22011019\nHeim: TV Gefrees\nGast: TS Schwarzenbach\nHalle:  Helmbrechts Sporthalle Helmbrechts (220140)\nAdresse: Pressecker Str. 20\, 95233 Helmbrechts\n
LOCATION: Helmbrechts Sporthalle Helmbrechts (220140): Pressecker Str. 20\, 95233 Helmbrechts
CATEGORIES:Saison 2024/25
END:VEVENT
BEGIN:VEVENT
DTSTAMP:20260419T210315Z
DTSTART;TZID=Europe/Berlin:20250201T180000
DTEND;TZID=Europe/Berlin:20250201T193000
SUMMARY:BZL  TV Marktleugast vs TS Schwarzenbach (22011057)
UID:178c50cc-142e-4ab1-9d79-2ca50e9a85e6
STATUS:CONFIRMED
LAST-MODIFIED:20250203T062711Z
DESCRIPTION:Bezirksliga Männer\nBegegnungs-Nr: 22011057\nHeim: TV Marktleugast\nGast: TS Schwarzenbach\nHalle: Marktleugast\, Oberlandhalle (220220)\nAdresse: Karl-Pezold-Str. 1\, 95352 Marktleugast\n
LOCATION:Marktleugast\, Oberlandhalle (220220): Karl-Pezold-Str. 1\, 95352 Marktleugast
CATEGORIES:Saison 2024/25
END:VEVENT
BEGIN:VEVENT
DTSTAMP:20260419T210315Z
DTSTART;TZID=Europe/Berlin:20250208T160000
DTEND;TZID=Europe/Berlin:20250208T173000
SUMMARY:BZL  TV Michelau vs TS Schwarzenbach (22011060)
UID:0042f2fa-3a2c-4a66-88ee-1a0bddde4ff9
STATUS:CONFIRMED
LAST-MODIFIED:20250209T103317Z
DESCRIPTION:Bezirksliga Männer\nBegegnungs-Nr: 22011060\nHeim: TV Michelau\nGast: TS Schwarzenbach\nHalle: Michelau\, Mainfeldhalle (220223)\nAdresse: Am Sportzentrum 10\, 96247 Michelau\n
LOCATION:Michelau\, Mainfeldhalle (220223): Am Sportzentrum 10\, 96247 Michelau
CATEGORIES:Saison 2024/25
END:VEVENT
BEGIN:VEVENT
DTSTAMP:20260419T210315Z
DTSTART;TZID=Europe/Berlin:20250222T163000
DTEND;TZID=Europe/Berlin:20250222T180000
SUMMARY:BZL  SG Bad Rodach/Großw. vs TS Schwarzenbach (22011070)
UID:1e3a9748-58eb-4b1a-9644-32688c4f7f4b
STATUS:CONFIRMED
LAST-MODIFIED:20250223T103722Z
DESCRIPTION:Bezirksliga Männer\nBegegnungs-Nr: 22011070\nHeim: SG Bad Rodach/Großw.\nGast: TS Schwarzenbach\nHalle: Bad Rodach\, Bayernhalle (220023)\nAdresse: Am Stiegelein\, 96476 Bad Rodach\n
LOCATION:Bad Rodach\, Bayernhalle (220023): Am Stiegelein\, 96476 Bad Rodach
CATEGORIES:Saison 2024/25
END:VEVENT
BEGIN:VEVENT
DTSTAMP:20260419T210315Z
DTSTART;TZID=Europe/Berlin:20250323T150000
DTEND;TZID=Europe/Berlin:20250323T163000
SUMMARY:BZL  HSG 2020 Fichtelgebirge II vs TS Schwarzenbach (22011084)
UID:43a836f7-12e5-43df-9e3f-fa1033114384
STATUS:CONFIRMED
LAST-MODIFIED:20250324T110105Z
DESCRIPTION:Bezirksliga Männer\nBegegnungs-Nr: 22011084\nHeim: HSG 2020 Fichtelgebirge II\nGast: TS Schwarzenbach\nHalle: Marktleuthen\, Städtische Sporthalle (220222)\nAdresse: Hermenteil 3\, 95168 Marktleuthen\n
LOCATION:Marktleuthen\, Städtische Sporthalle (220222): Hermenteil 3\, 95168 Marktleuthen
CATEGORIES:Saison 2024/25
END:VEVENT
BEGIN:VEVENT
DTSTAMP:20260419T210315Z
DTSTART;TZID=Europe/Berlin:20250111T180000
DTEND;TZID=Europe/Berlin:20250111T193000
SUMMARY:BZL  TS Lichtenfels vs TS Schwarzenbach (22011045)
UID:adf5761e-98e0-4b77-bbc9-90d2c12972bf
STATUS:CONFIRMED
LAST-MODIFIED:20250112T100453Z
DESCRIPTION:Bezirksliga Männer\nBegegnungs-Nr: 22011045\nHeim: TS Lichtenfels\nGast: TS Schwarzenbach\nHalle: Lichtenfels\, Städt. Sporthalle (220200)\nAdresse: An der Friedenslinde 7\, 96215 Lichtenfels\n
LOCATION:Lichtenfels\, Städt. Sporthalle (220200): An der Friedenslinde 7\, 96215 Lichtenfels
CATEGORIES:Saison 2024/25
END:VEVENT
END:VCALENDAR
