BEGIN:VCALENDAR
PRODID:-//nuDatenautomaten//framework iCal4j //DE
VERSION:2.0
CALSCALE:GREGORIAN
BEGIN:VTIMEZONE
TZID:Europe/Berlin
LAST-MODIFIED:20260306T231828Z
TZURL:https://www.tzurl.org/zoneinfo/Europe/Berlin
X-LIC-LOCATION:Europe/Berlin
X-PROLEPTIC-TZNAME:LMT
BEGIN:STANDARD
TZNAME:CET
TZOFFSETFROM:+005328
TZOFFSETTO:+0100
DTSTART:18930401T000000
END:STANDARD
BEGIN:DAYLIGHT
TZNAME:CEST
TZOFFSETFROM:+0100
TZOFFSETTO:+0200
DTSTART:19160430T230000
RDATE:19400401T020000
RDATE:19430329T020000
RDATE:19460414T020000
RDATE:19470406T030000
RDATE:19480418T020000
RDATE:19490410T020000
RDATE:19800406T020000
END:DAYLIGHT
BEGIN:STANDARD
TZNAME:CET
TZOFFSETFROM:+0200
TZOFFSETTO:+0100
DTSTART:19161001T010000
RDATE:19421102T030000
RDATE:19431004T030000
RDATE:19441002T030000
RDATE:19451118T030000
RDATE:19461007T030000
END:STANDARD
BEGIN:DAYLIGHT
TZNAME:CEST
TZOFFSETFROM:+0100
TZOFFSETTO:+0200
DTSTART:19170416T020000
RRULE:FREQ=YEARLY;UNTIL=19180415T010000Z;BYMONTH=4;BYDAY=3MO
END:DAYLIGHT
BEGIN:STANDARD
TZNAME:CET
TZOFFSETFROM:+0200
TZOFFSETTO:+0100
DTSTART:19170917T030000
RRULE:FREQ=YEARLY;UNTIL=19180916T010000Z;BYMONTH=9;BYDAY=3MO
END:STANDARD
BEGIN:DAYLIGHT
TZNAME:CEST
TZOFFSETFROM:+0100
TZOFFSETTO:+0200
DTSTART:19440403T020000
RRULE:FREQ=YEARLY;UNTIL=19450402T010000Z;BYMONTH=4;BYDAY=1MO
END:DAYLIGHT
BEGIN:DAYLIGHT
TZNAME:CEMT
TZOFFSETFROM:+0200
TZOFFSETTO:+0300
DTSTART:19450524T020000
RDATE:19470511T030000
END:DAYLIGHT
BEGIN:DAYLIGHT
TZNAME:CEST
TZOFFSETFROM:+0300
TZOFFSETTO:+0200
DTSTART:19450924T030000
RDATE:19470629T030000
END:DAYLIGHT
BEGIN:STANDARD
TZNAME:CET
TZOFFSETFROM:+0100
TZOFFSETTO:+0100
DTSTART:19460101T000000
RDATE:19800101T000000
END:STANDARD
BEGIN:STANDARD
TZNAME:CET
TZOFFSETFROM:+0200
TZOFFSETTO:+0100
DTSTART:19471005T030000
RRULE:FREQ=YEARLY;UNTIL=19491002T010000Z;BYMONTH=10;BYDAY=1SU
END:STANDARD
BEGIN:STANDARD
TZNAME:CET
TZOFFSETFROM:+0200
TZOFFSETTO:+0100
DTSTART:19800928T030000
RRULE:FREQ=YEARLY;UNTIL=19950924T010000Z;BYMONTH=9;BYDAY=-1SU
END:STANDARD
BEGIN:DAYLIGHT
TZNAME:CEST
TZOFFSETFROM:+0100
TZOFFSETTO:+0200
DTSTART:19810329T020000
RRULE:FREQ=YEARLY;BYMONTH=3;BYDAY=-1SU
END:DAYLIGHT
BEGIN:STANDARD
TZNAME:CET
TZOFFSETFROM:+0200
TZOFFSETTO:+0100
DTSTART:19961027T030000
RRULE:FREQ=YEARLY;BYMONTH=10;BYDAY=-1SU
END:STANDARD
END:VTIMEZONE
BEGIN:VEVENT
DTSTAMP:20260421T085624Z
DTSTART;TZID=Europe/Berlin:20241214T153000
DTEND;TZID=Europe/Berlin:20241214T170000
SUMMARY:Bezirksliga F TSV Göggingen II vs TSV Niederraunau (25023034)
UID:85e5e753-be33-49b7-9ec5-75b5b60bced3
STATUS:CONFIRMED
LAST-MODIFIED:20241215T195917Z
DESCRIPTION:Bezirksliga Frauen\nBegegnungs-Nr: 25023034\nHeim: TSV Göggingen II\nGast: TSV Niederraunau\nHalle: Augsburg\,Hans-Adlhoch-Halle Augsburg-Pfersee (250011)\nAdresse: Hans-Adlhochstr. 34\, 86157 Augsburg-Pfersee\n
LOCATION:Augsburg\,Hans-Adlhoch-Halle Augsburg-Pfersee (250011): Hans-Adlhochstr. 34\, 86157 Augsburg-Pfersee
CATEGORIES:Saison 2024/25
END:VEVENT
BEGIN:VEVENT
DTSTAMP:20260421T085624Z
DTSTART;TZID=Europe/Berlin:20250222T133000
DTEND;TZID=Europe/Berlin:20250222T150000
SUMMARY:Bezirksliga F TSV Göggingen II vs TSV Neusäss (25023057)
UID:06158334-02a6-4a47-9e7c-5ce62a43a17b
STATUS:CONFIRMED
LAST-MODIFIED:20250226T054227Z
DESCRIPTION:Bezirksliga Frauen\nBegegnungs-Nr: 25023057\nHeim: TSV Göggingen II\nGast: TSV Neusäss\nHalle: Göggingen\, Anton-Bezler-Halle (250121)\nAdresse: Anton-Bezler-Str. 1\, 86199 Göggingen\n
LOCATION:Göggingen\, Anton-Bezler-Halle (250121): Anton-Bezler-Str. 1\, 86199 Göggingen
CATEGORIES:Saison 2024/25
END:VEVENT
BEGIN:VEVENT
DTSTAMP:20260421T085624Z
DTSTART;TZID=Europe/Berlin:20241019T133000
DTEND;TZID=Europe/Berlin:20241019T150000
SUMMARY:Bezirksliga F TSV Göggingen II vs DJK Augsburg-Hochzoll (25023017)
UID:e9ef7cfd-5042-4e8f-90bc-87dcf89ac0d5
STATUS:CONFIRMED
LAST-MODIFIED:20241021T113801Z
DESCRIPTION:Bezirksliga Frauen\nBegegnungs-Nr: 25023017\nHeim: TSV Göggingen II\nGast: DJK Augsburg-Hochzoll\nHalle: Göggingen\, Anton-Bezler-Halle (250121)\nAdresse: Anton-Bezler-Str. 1\, 86199 Göggingen\n
LOCATION:Göggingen\, Anton-Bezler-Halle (250121): Anton-Bezler-Str. 1\, 86199 Göggingen
CATEGORIES:Saison 2024/25
END:VEVENT
BEGIN:VEVENT
DTSTAMP:20260421T085624Z
DTSTART;TZID=Europe/Berlin:20240928T173000
DTEND;TZID=Europe/Berlin:20240928T190000
SUMMARY:Bezirksliga F TSV Göggingen II vs TSV Wertingen (25023005)
UID:8b0efdb9-6bbf-4dec-8dcb-5ce2ae13e629
STATUS:CONFIRMED
LAST-MODIFIED:20241004T145028Z
DESCRIPTION:Bezirksliga Frauen\nBegegnungs-Nr: 25023005\nHeim: TSV Göggingen II\nGast: TSV Wertingen\nHalle: Göggingen\, Anton-Bezler-Halle (250121)\nAdresse: Anton-Bezler-Str. 1\, 86199 Göggingen\n
LOCATION:Göggingen\, Anton-Bezler-Halle (250121): Anton-Bezler-Str. 1\, 86199 Göggingen
CATEGORIES:Saison 2024/25
END:VEVENT
BEGIN:VEVENT
DTSTAMP:20260421T085624Z
DTSTART;TZID=Europe/Berlin:20250118T133000
DTEND;TZID=Europe/Berlin:20250118T150000
SUMMARY:Bezirksliga F TSV Göggingen II vs SV Mering (25023038)
UID:aed0cf7c-9041-438a-a664-ea04f5259c5b
STATUS:CONFIRMED
LAST-MODIFIED:20250119T193236Z
DESCRIPTION:Bezirksliga Frauen\nBegegnungs-Nr: 25023038\nHeim: TSV Göggingen II\nGast: SV Mering\nHalle: Göggingen\, Anton-Bezler-Halle (250121)\nAdresse: Anton-Bezler-Str. 1\, 86199 Göggingen\n
LOCATION:Göggingen\, Anton-Bezler-Halle (250121): Anton-Bezler-Str. 1\, 86199 Göggingen
CATEGORIES:Saison 2024/25
END:VEVENT
BEGIN:VEVENT
DTSTAMP:20260421T085624Z
DTSTART;TZID=Europe/Berlin:20250125T173000
DTEND;TZID=Europe/Berlin:20250125T190000
SUMMARY:Bezirksliga F TSV Göggingen II vs TSV Aichach II (25023045)
UID:f2780c5f-4163-4d7d-ad71-479e01c145f1
STATUS:CONFIRMED
LAST-MODIFIED:20250126T195748Z
DESCRIPTION:Bezirksliga Frauen\nBegegnungs-Nr: 25023045\nHeim: TSV Göggingen II\nGast: TSV Aichach II\nHalle: Göggingen\, Anton-Bezler-Halle (250121)\nAdresse: Anton-Bezler-Str. 1\, 86199 Göggingen\n
LOCATION:Göggingen\, Anton-Bezler-Halle (250121): Anton-Bezler-Str. 1\, 86199 Göggingen
CATEGORIES:Saison 2024/25
END:VEVENT
BEGIN:VEVENT
DTSTAMP:20260421T085624Z
DTSTART;TZID=Europe/Berlin:20250208T133000
DTEND;TZID=Europe/Berlin:20250208T150000
SUMMARY:Bezirksliga F TSV Göggingen II vs BHC Königsbr.09 (25023052)
UID:66f32abf-2516-43a1-b343-a97561f1d070
STATUS:CONFIRMED
LAST-MODIFIED:20250209T192515Z
DESCRIPTION:Bezirksliga Frauen\nBegegnungs-Nr: 25023052\nHeim: TSV Göggingen II\nGast: BHC Königsbr.09\nHalle: Göggingen\, Anton-Bezler-Halle (250121)\nAdresse: Anton-Bezler-Str. 1\, 86199 Göggingen\n
LOCATION:Göggingen\, Anton-Bezler-Halle (250121): Anton-Bezler-Str. 1\, 86199 Göggingen
CATEGORIES:Saison 2024/25
END:VEVENT
BEGIN:VEVENT
DTSTAMP:20260421T085624Z
DTSTART;TZID=Europe/Berlin:20250322T173000
DTEND;TZID=Europe/Berlin:20250322T190000
SUMMARY:Bezirksliga F TSV Göggingen II vs TSV Friedberg (25023065)
UID:960915fb-57c5-4095-996c-6d5b096aaa26
STATUS:CONFIRMED
LAST-MODIFIED:20250326T194242Z
DESCRIPTION:Bezirksliga Frauen\nBegegnungs-Nr: 25023065\nHeim: TSV Göggingen II\nGast: TSV Friedberg\nHalle: Göggingen\, Anton-Bezler-Halle (250121)\nAdresse: Anton-Bezler-Str. 1\, 86199 Göggingen\n
LOCATION:Göggingen\, Anton-Bezler-Halle (250121): Anton-Bezler-Str. 1\, 86199 Göggingen
CATEGORIES:Saison 2024/25
END:VEVENT
BEGIN:VEVENT
DTSTAMP:20260421T085624Z
DTSTART;TZID=Europe/Berlin:20250216T140000
DTEND;TZID=Europe/Berlin:20250216T153000
SUMMARY:Bezirksliga F DJK Augsburg-Hochzoll vs TSV Göggingen II (25023053)
UID:e6d05809-387c-446f-b344-62b2c3ae9fc7
STATUS:CONFIRMED
LAST-MODIFIED:20250221T181333Z
DESCRIPTION:Bezirksliga Frauen\nBegegnungs-Nr: 25023053\nHeim: DJK Augsburg-Hochzoll\nGast: TSV Göggingen II\nHalle: Augsburg-Hochzoll\, DJK-Sporthalle  (250009)\nAdresse: Zwölf-Apostel-Platz 3\, 86163 Augsburg-Hochzoll\n
LOCATION:Augsburg-Hochzoll\, DJK-Sporthalle  (250009): Zwölf-Apostel-Platz 3\, 86163 Augsburg-Hochzoll
CATEGORIES:Saison 2024/25
END:VEVENT
BEGIN:VEVENT
DTSTAMP:20260421T085624Z
DTSTART;TZID=Europe/Berlin:20241208T143000
DTEND;TZID=Europe/Berlin:20241208T160000
SUMMARY:Bezirksliga F TSV Friedberg vs TSV Göggingen II (25023029)
UID:4f597710-a7ee-43f1-acc5-d24b80a9c67a
STATUS:CONFIRMED
LAST-MODIFIED:20241212T175908Z
DESCRIPTION:Bezirksliga Frauen\nBegegnungs-Nr: 25023029\nHeim: TSV Friedberg\nGast: TSV Göggingen II\nHalle: Friedberg\, Sporthalle des TSV Friedberg (250101)\nAdresse: Hans-Böller-Str. 3\, 86316 Friedberg\n
LOCATION:Friedberg\, Sporthalle des TSV Friedberg (250101): Hans-Böller-Str. 3\, 86316 Friedberg
CATEGORIES:Saison 2024/25
END:VEVENT
BEGIN:VEVENT
DTSTAMP:20260421T085624Z
DTSTART;TZID=Europe/Berlin:20241013T170000
DTEND;TZID=Europe/Berlin:20241013T183000
SUMMARY:Bezirksliga F BHC Königsbr.09 vs TSV Göggingen II (25023016)
UID:3d1791ed-9b6a-4ed6-96d5-05f30a3e6563
STATUS:CONFIRMED
LAST-MODIFIED:20241013T171524Z
DESCRIPTION:Bezirksliga Frauen\nBegegnungs-Nr: 25023016\nHeim: BHC Königsbr.09\nGast: TSV Göggingen II\nHalle: Königsbrunn\, Dreifachhalle (250181)\nAdresse: Karwendelstr. 14\, 86343 Königsbrunn\n
LOCATION:Königsbrunn\, Dreifachhalle (250181): Karwendelstr. 14\, 86343 Königsbrunn
CATEGORIES:Saison 2024/25
END:VEVENT
BEGIN:VEVENT
DTSTAMP:20260421T085624Z
DTSTART;TZID=Europe/Berlin:20241005T151500
DTEND;TZID=Europe/Berlin:20241005T164500
SUMMARY:Bezirksliga F TSV Aichach II vs TSV Göggingen II (25023009)
UID:ac4bea02-fffd-43f3-89ed-695e5332d900
STATUS:CONFIRMED
LAST-MODIFIED:20241006T122758Z
DESCRIPTION:Bezirksliga Frauen\nBegegnungs-Nr: 25023009\nHeim: TSV Aichach II\nGast: TSV Göggingen II\nHalle: Aichach\, Sporthalle Gymnasium (250000)\nAdresse: Ludwigstr. 60\, 86551 Aichach\n
LOCATION:Aichach\, Sporthalle Gymnasium (250000): Ludwigstr. 60\, 86551 Aichach
CATEGORIES:Saison 2024/25
END:VEVENT
BEGIN:VEVENT
DTSTAMP:20260421T085624Z
DTSTART;TZID=Europe/Berlin:20241109T200000
DTEND;TZID=Europe/Berlin:20241109T213000
SUMMARY:Bezirksliga F TSV Neusäss vs TSV Göggingen II (25023021)
UID:3e0bf77a-da2c-4719-a0d0-a68f0d5018bf
STATUS:CONFIRMED
LAST-MODIFIED:20241111T194634Z
DESCRIPTION:Bezirksliga Frauen\nBegegnungs-Nr: 25023021\nHeim: TSV Neusäss\nGast: TSV Göggingen II\nHalle: Neusäss\, Sporthalle an der Eichenwaldschule (250260)\nAdresse: Am Eichenwald 51\, 86356 Neusäß\n
LOCATION:Neusäss\, Sporthalle an der Eichenwaldschule (250260): Am Eichenwald 51\, 86356 Neusäß
CATEGORIES:Saison 2024/25
END:VEVENT
BEGIN:VEVENT
DTSTAMP:20260421T085624Z
DTSTART;TZID=Europe/Berlin:20250406T170000
DTEND;TZID=Europe/Berlin:20250406T183000
SUMMARY:Bezirksliga F TSV Niederraunau vs TSV Göggingen II (25023070)
UID:f4978730-3252-451d-aee9-f14911f86477
STATUS:CONFIRMED
LAST-MODIFIED:20250410T180751Z
DESCRIPTION:Bezirksliga Frauen\nBegegnungs-Nr: 25023070\nHeim: TSV Niederraunau\nGast: TSV Göggingen II\nHalle: Krumbach\, Halle Schulzentrum (250182)\nAdresse: Talstr. 76\, 86381 Krumbach\n
LOCATION:Krumbach\, Halle Schulzentrum (250182): Talstr. 76\, 86381 Krumbach
CATEGORIES:Saison 2024/25
END:VEVENT
BEGIN:VEVENT
DTSTAMP:20260421T085624Z
DTSTART;TZID=Europe/Berlin:20240922T160000
DTEND;TZID=Europe/Berlin:20240922T173000
SUMMARY:Bezirksliga F SV Mering vs TSV Göggingen II (25023002)
UID:ebf53bf3-49e5-4590-80c3-6463222c7809
STATUS:CONFIRMED
LAST-MODIFIED:20240927T123023Z
DESCRIPTION:Bezirksliga Frauen\nBegegnungs-Nr: 25023002\nHeim: SV Mering\nGast: TSV Göggingen II\nHalle: Mering\, Eduard-Ettensberger-Halle (250222)\nAdresse: Tratteilstr.\, 86415 Mering\n
LOCATION:Mering\, Eduard-Ettensberger-Halle (250222): Tratteilstr.\, 86415 Mering
CATEGORIES:Saison 2024/25
END:VEVENT
BEGIN:VEVENT
DTSTAMP:20260421T085624Z
DTSTART;TZID=Europe/Berlin:20250301T173000
DTEND;TZID=Europe/Berlin:20250301T190000
SUMMARY:Bezirksliga F TSV Wertingen vs TSV Göggingen II (25023041)
UID:a4ad40ac-3062-41ea-9636-7ffa353c8967
STATUS:CONFIRMED
LAST-MODIFIED:20250308T153732Z
DESCRIPTION:Bezirksliga Frauen\nBegegnungs-Nr: 25023041\nHeim: TSV Wertingen\nGast: TSV Göggingen II\nHalle: Wertingen\, Sporthalle Gymnasium Wertingen (250461)\nAdresse: Pestalozzistr. 12\, 86637 Wertingen\n
LOCATION:Wertingen\, Sporthalle Gymnasium Wertingen (250461): Pestalozzistr. 12\, 86637 Wertingen
CATEGORIES:Saison 2024/25
END:VEVENT
END:VCALENDAR
