BEGIN:VCALENDAR
PRODID:-//nuDatenautomaten//framework iCal4j //DE
VERSION:2.0
CALSCALE:GREGORIAN
BEGIN:VTIMEZONE
TZID:Europe/Berlin
LAST-MODIFIED:20260306T231828Z
TZURL:https://www.tzurl.org/zoneinfo/Europe/Berlin
X-LIC-LOCATION:Europe/Berlin
X-PROLEPTIC-TZNAME:LMT
BEGIN:STANDARD
TZNAME:CET
TZOFFSETFROM:+005328
TZOFFSETTO:+0100
DTSTART:18930401T000000
END:STANDARD
BEGIN:DAYLIGHT
TZNAME:CEST
TZOFFSETFROM:+0100
TZOFFSETTO:+0200
DTSTART:19160430T230000
RDATE:19400401T020000
RDATE:19430329T020000
RDATE:19460414T020000
RDATE:19470406T030000
RDATE:19480418T020000
RDATE:19490410T020000
RDATE:19800406T020000
END:DAYLIGHT
BEGIN:STANDARD
TZNAME:CET
TZOFFSETFROM:+0200
TZOFFSETTO:+0100
DTSTART:19161001T010000
RDATE:19421102T030000
RDATE:19431004T030000
RDATE:19441002T030000
RDATE:19451118T030000
RDATE:19461007T030000
END:STANDARD
BEGIN:DAYLIGHT
TZNAME:CEST
TZOFFSETFROM:+0100
TZOFFSETTO:+0200
DTSTART:19170416T020000
RRULE:FREQ=YEARLY;UNTIL=19180415T010000Z;BYMONTH=4;BYDAY=3MO
END:DAYLIGHT
BEGIN:STANDARD
TZNAME:CET
TZOFFSETFROM:+0200
TZOFFSETTO:+0100
DTSTART:19170917T030000
RRULE:FREQ=YEARLY;UNTIL=19180916T010000Z;BYMONTH=9;BYDAY=3MO
END:STANDARD
BEGIN:DAYLIGHT
TZNAME:CEST
TZOFFSETFROM:+0100
TZOFFSETTO:+0200
DTSTART:19440403T020000
RRULE:FREQ=YEARLY;UNTIL=19450402T010000Z;BYMONTH=4;BYDAY=1MO
END:DAYLIGHT
BEGIN:DAYLIGHT
TZNAME:CEMT
TZOFFSETFROM:+0200
TZOFFSETTO:+0300
DTSTART:19450524T020000
RDATE:19470511T030000
END:DAYLIGHT
BEGIN:DAYLIGHT
TZNAME:CEST
TZOFFSETFROM:+0300
TZOFFSETTO:+0200
DTSTART:19450924T030000
RDATE:19470629T030000
END:DAYLIGHT
BEGIN:STANDARD
TZNAME:CET
TZOFFSETFROM:+0100
TZOFFSETTO:+0100
DTSTART:19460101T000000
RDATE:19800101T000000
END:STANDARD
BEGIN:STANDARD
TZNAME:CET
TZOFFSETFROM:+0200
TZOFFSETTO:+0100
DTSTART:19471005T030000
RRULE:FREQ=YEARLY;UNTIL=19491002T010000Z;BYMONTH=10;BYDAY=1SU
END:STANDARD
BEGIN:STANDARD
TZNAME:CET
TZOFFSETFROM:+0200
TZOFFSETTO:+0100
DTSTART:19800928T030000
RRULE:FREQ=YEARLY;UNTIL=19950924T010000Z;BYMONTH=9;BYDAY=-1SU
END:STANDARD
BEGIN:DAYLIGHT
TZNAME:CEST
TZOFFSETFROM:+0100
TZOFFSETTO:+0200
DTSTART:19810329T020000
RRULE:FREQ=YEARLY;BYMONTH=3;BYDAY=-1SU
END:DAYLIGHT
BEGIN:STANDARD
TZNAME:CET
TZOFFSETFROM:+0200
TZOFFSETTO:+0100
DTSTART:19961027T030000
RRULE:FREQ=YEARLY;BYMONTH=10;BYDAY=-1SU
END:STANDARD
END:VTIMEZONE
BEGIN:VEVENT
DTSTAMP:20260421T161125Z
DTSTART;TZID=Europe/Berlin:20241123T200000
DTEND;TZID=Europe/Berlin:20241123T213000
SUMMARY:Bezirksoberliga M TSV Friedberg II vs TSV Haunstetten II (25012043)
UID:adbe75dd-b789-416a-9d47-7ecf52a7dea3
STATUS:CONFIRMED
LAST-MODIFIED:20241124T144453Z
DESCRIPTION:Bezirksoberliga Männer\nBegegnungs-Nr: 25012043\nHeim: TSV Friedberg II\nGast: TSV Haunstetten II\nHalle: Friedberg\, Sporthalle des TSV Friedberg (250101)\nAdresse: Hans-Böller-Str. 3\, 86316 Friedberg\n
LOCATION:Friedberg\, Sporthalle des TSV Friedberg (250101): Hans-Böller-Str. 3\, 86316 Friedberg
CATEGORIES:Saison 2024/25
END:VEVENT
BEGIN:VEVENT
DTSTAMP:20260421T161125Z
DTSTART;TZID=Europe/Berlin:20250405T160000
DTEND;TZID=Europe/Berlin:20250405T173000
SUMMARY:Bezirksoberliga M TSV Friedberg II vs TSV Niederraunau (25012126)
UID:ba048381-c538-425d-9799-7c568646a94e
STATUS:CONFIRMED
LAST-MODIFIED:20250406T121851Z
DESCRIPTION:Bezirksoberliga Männer\nBegegnungs-Nr: 25012126\nHeim: TSV Friedberg II\nGast: TSV Niederraunau\nHalle: Friedberg\, Sporthalle des TSV Friedberg (250101)\nAdresse: Hans-Böller-Str. 3\, 86316 Friedberg\n
LOCATION:Friedberg\, Sporthalle des TSV Friedberg (250101): Hans-Böller-Str. 3\, 86316 Friedberg
CATEGORIES:Saison 2024/25
END:VEVENT
BEGIN:VEVENT
DTSTAMP:20260421T161125Z
DTSTART;TZID=Europe/Berlin:20250315T200000
DTEND;TZID=Europe/Berlin:20250315T213000
SUMMARY:Bezirksoberliga M TSV Friedberg II vs TSV Göggingen (25012104)
UID:d175a6c6-d625-406d-9740-86ba9a442763
STATUS:CONFIRMED
LAST-MODIFIED:20250316T165000Z
DESCRIPTION:Bezirksoberliga Männer\nBegegnungs-Nr: 25012104\nHeim: TSV Friedberg II\nGast: TSV Göggingen\nHalle: Friedberg\, Sporthalle des TSV Friedberg (250101)\nAdresse: Hans-Böller-Str. 3\, 86316 Friedberg\n
LOCATION:Friedberg\, Sporthalle des TSV Friedberg (250101): Hans-Böller-Str. 3\, 86316 Friedberg
CATEGORIES:Saison 2024/25
END:VEVENT
BEGIN:VEVENT
DTSTAMP:20260421T161125Z
DTSTART;TZID=Europe/Berlin:20241109T200000
DTEND;TZID=Europe/Berlin:20241109T213000
SUMMARY:Bezirksoberliga M TSV Friedberg II vs TSV Aichach (25012032)
UID:8a7c3ba3-9f26-46d4-a1c8-e4737fb36312
STATUS:CONFIRMED
LAST-MODIFIED:20241109T204426Z
DESCRIPTION:Bezirksoberliga Männer\nBegegnungs-Nr: 25012032\nHeim: TSV Friedberg II\nGast: TSV Aichach\nHalle: Friedberg\, Sporthalle des TSV Friedberg (250101)\nAdresse: Hans-Böller-Str. 3\, 86316 Friedberg\n
LOCATION:Friedberg\, Sporthalle des TSV Friedberg (250101): Hans-Böller-Str. 3\, 86316 Friedberg
CATEGORIES:Saison 2024/25
END:VEVENT
BEGIN:VEVENT
DTSTAMP:20260421T161125Z
DTSTART;TZID=Europe/Berlin:20240928T143000
DTEND;TZID=Europe/Berlin:20240928T160000
SUMMARY:Bezirksoberliga M TSV Friedberg II vs SG 1871 Augsburg/Gersthofen (25012010)
UID:b7de2aca-b49d-4c50-a282-1c48b7e21661
STATUS:CONFIRMED
LAST-MODIFIED:20240929T073530Z
DESCRIPTION:Bezirksoberliga Männer\nBegegnungs-Nr: 25012010\nHeim: TSV Friedberg II\nGast: SG 1871 Augsburg/Gersthofen\nHalle: Friedberg\, Sporthalle des TSV Friedberg (250101)\nAdresse: Hans-Böller-Str. 3\, 86316 Friedberg\n
LOCATION:Friedberg\, Sporthalle des TSV Friedberg (250101): Hans-Böller-Str. 3\, 86316 Friedberg
CATEGORIES:Saison 2024/25
END:VEVENT
BEGIN:VEVENT
DTSTAMP:20260421T161125Z
DTSTART;TZID=Europe/Berlin:20241013T150000
DTEND;TZID=Europe/Berlin:20241013T163000
SUMMARY:Bezirksoberliga M TSV Friedberg II vs BHC Königsbr.09 (25012021)
UID:29e9df81-a4d8-474f-a727-60dbf5a84502
STATUS:CONFIRMED
LAST-MODIFIED:20241013T172410Z
DESCRIPTION:Bezirksoberliga Männer\nBegegnungs-Nr: 25012021\nHeim: TSV Friedberg II\nGast: BHC Königsbr.09\nHalle: Friedberg\, Sporthalle des TSV Friedberg (250101)\nAdresse: Hans-Böller-Str. 3\, 86316 Friedberg\n
LOCATION:Friedberg\, Sporthalle des TSV Friedberg (250101): Hans-Böller-Str. 3\, 86316 Friedberg
CATEGORIES:Saison 2024/25
END:VEVENT
BEGIN:VEVENT
DTSTAMP:20260421T161125Z
DTSTART;TZID=Europe/Berlin:20250329T180000
DTEND;TZID=Europe/Berlin:20250329T193000
SUMMARY:Bezirksoberliga M TSV Friedberg II vs TSV Schwabmünchen (25012115)
UID:709b9371-2ab6-47f4-82c7-7717359b98fa
STATUS:CONFIRMED
LAST-MODIFIED:20250402T052112Z
DESCRIPTION:Bezirksoberliga Männer\nBegegnungs-Nr: 25012115\nHeim: TSV Friedberg II\nGast: TSV Schwabmünchen\nHalle: Friedberg\, Sporthalle des TSV Friedberg (250101)\nAdresse: Hans-Böller-Str. 3\, 86316 Friedberg\n
LOCATION:Friedberg\, Sporthalle des TSV Friedberg (250101): Hans-Böller-Str. 3\, 86316 Friedberg
CATEGORIES:Saison 2024/25
END:VEVENT
BEGIN:VEVENT
DTSTAMP:20260421T161125Z
DTSTART;TZID=Europe/Berlin:20250111T180000
DTEND;TZID=Europe/Berlin:20250111T193000
SUMMARY:Bezirksoberliga M TSV Friedberg II vs TSV Bäumenheim (25012061)
UID:ff22aadc-83ea-4de6-8c22-3a47a96ca8d2
STATUS:CONFIRMED
LAST-MODIFIED:20250111T210318Z
DESCRIPTION:Bezirksoberliga Männer\nBegegnungs-Nr: 25012061\nHeim: TSV Friedberg II\nGast: TSV Bäumenheim\nHalle: Friedberg\, Sporthalle des TSV Friedberg (250101)\nAdresse: Hans-Böller-Str. 3\, 86316 Friedberg\n
LOCATION:Friedberg\, Sporthalle des TSV Friedberg (250101): Hans-Böller-Str. 3\, 86316 Friedberg
CATEGORIES:Saison 2024/25
END:VEVENT
BEGIN:VEVENT
DTSTAMP:20260421T161125Z
DTSTART;TZID=Europe/Berlin:20250118T160000
DTEND;TZID=Europe/Berlin:20250118T173000
SUMMARY:Bezirksoberliga M TSV Friedberg II vs HSG Lauingen-Wittislingen (25012071)
UID:6d4241fc-1efd-4c75-bcc7-b27e9a7e15c3
STATUS:CONFIRMED
LAST-MODIFIED:20250118T213632Z
DESCRIPTION:Bezirksoberliga Männer\nBegegnungs-Nr: 25012071\nHeim: TSV Friedberg II\nGast: HSG Lauingen-Wittislingen\nHalle: Friedberg\, Sporthalle des TSV Friedberg (250101)\nAdresse: Hans-Böller-Str. 3\, 86316 Friedberg\n
LOCATION:Friedberg\, Sporthalle des TSV Friedberg (250101): Hans-Böller-Str. 3\, 86316 Friedberg
CATEGORIES:Saison 2024/25
END:VEVENT
BEGIN:VEVENT
DTSTAMP:20260421T161125Z
DTSTART;TZID=Europe/Berlin:20250202T143000
DTEND;TZID=Europe/Berlin:20250202T160000
SUMMARY:Bezirksoberliga M TSV Friedberg II vs TSV Bobingen (25012082)
UID:4fe1791c-3be2-40da-bd3c-eb1a28f00d71
STATUS:CONFIRMED
LAST-MODIFIED:20250202T201515Z
DESCRIPTION:Bezirksoberliga Männer\nBegegnungs-Nr: 25012082\nHeim: TSV Friedberg II\nGast: TSV Bobingen\nHalle: Friedberg\, Sporthalle des TSV Friedberg (250101)\nAdresse: Hans-Böller-Str. 3\, 86316 Friedberg\n
LOCATION:Friedberg\, Sporthalle des TSV Friedberg (250101): Hans-Böller-Str. 3\, 86316 Friedberg
CATEGORIES:Saison 2024/25
END:VEVENT
BEGIN:VEVENT
DTSTAMP:20260421T161125Z
DTSTART;TZID=Europe/Berlin:20241020T123000
DTEND;TZID=Europe/Berlin:20241020T140000
SUMMARY:Bezirksoberliga M TSV Friedberg II vs VfL Günzburg II (25012027)
UID:75782a83-8c93-428f-bf4f-eb33cce5c72d
STATUS:CONFIRMED
LAST-MODIFIED:20241020T181658Z
DESCRIPTION:Bezirksoberliga Männer\nBegegnungs-Nr: 25012027\nHeim: TSV Friedberg II\nGast: VfL Günzburg II\nHalle: Friedberg\, Sporthalle des TSV Friedberg (250101)\nAdresse: Hans-Böller-Str. 3\, 86316 Friedberg\n
LOCATION:Friedberg\, Sporthalle des TSV Friedberg (250101): Hans-Böller-Str. 3\, 86316 Friedberg
CATEGORIES:Saison 2024/25
END:VEVENT
BEGIN:VEVENT
DTSTAMP:20260421T161125Z
DTSTART;TZID=Europe/Berlin:20241130T200000
DTEND;TZID=Europe/Berlin:20241130T213000
SUMMARY:Bezirksoberliga M TSV Schwabmünchen vs TSV Friedberg II (25012049)
UID:8133a5f9-a885-4b7d-b9a6-1e69e99cee9d
STATUS:CONFIRMED
LAST-MODIFIED:20241201T090011Z
DESCRIPTION:Bezirksoberliga Männer\nBegegnungs-Nr: 25012049\nHeim: TSV Schwabmünchen\nGast: TSV Friedberg II\nHalle: Schwabmünchen\, Hans-Nebauer-Sporthalle (250361)\nAdresse: Holzheystr. 18\, 86830 Schwabmünchen\n
LOCATION:Schwabmünchen\, Hans-Nebauer-Sporthalle (250361): Holzheystr. 18\, 86830 Schwabmünchen
CATEGORIES:Saison 2024/25
END:VEVENT
BEGIN:VEVENT
DTSTAMP:20260421T161125Z
DTSTART;TZID=Europe/Berlin:20250125T193000
DTEND;TZID=Europe/Berlin:20250125T210000
SUMMARY:Bezirksoberliga M SG 1871 Augsburg/Gersthofen vs TSV Friedberg II (25012076)
UID:495ffbdc-0821-4de6-940e-c4ea2a78a968
STATUS:CONFIRMED
LAST-MODIFIED:20250126T093527Z
DESCRIPTION:Bezirksoberliga Männer\nBegegnungs-Nr: 25012076\nHeim: SG 1871 Augsburg/Gersthofen\nGast: TSV Friedberg II\nHalle: Gersthofen\, neue Sporthalle Gymnasium (250127)\nAdresse: Schubertstraße 68\, 86368 Gersthofen\n
LOCATION:Gersthofen\, neue Sporthalle Gymnasium (250127): Schubertstraße 68\, 86368 Gersthofen
CATEGORIES:Saison 2024/25
END:VEVENT
BEGIN:VEVENT
DTSTAMP:20260421T161125Z
DTSTART;TZID=Europe/Berlin:20250412T193000
DTEND;TZID=Europe/Berlin:20250412T210000
SUMMARY:Bezirksoberliga M TSV Bäumenheim vs TSV Friedberg II (25012127)
UID:d4bbc71e-5a11-4bdc-acfd-b6689191d2e4
STATUS:CONFIRMED
LAST-MODIFIED:20250412T193431Z
DESCRIPTION:Bezirksoberliga Männer\nBegegnungs-Nr: 25012127\nHeim: TSV Bäumenheim\nGast: TSV Friedberg II\nHalle: Bäumenheim\, Mehrzweckhalle  (250020)\nAdresse: Rathausplatz\, 86663 Bäumenheim\n
LOCATION:Bäumenheim\, Mehrzweckhalle  (250020): Rathausplatz\, 86663 Bäumenheim
CATEGORIES:Saison 2024/25
END:VEVENT
BEGIN:VEVENT
DTSTAMP:20260421T161125Z
DTSTART;TZID=Europe/Berlin:20240921T193000
DTEND;TZID=Europe/Berlin:20240921T210000
SUMMARY:Bezirksoberliga M HSG Lauingen-Wittislingen vs TSV Friedberg II (25012005)
UID:62500a79-b2f4-49e3-86fd-84feecc689db
STATUS:CONFIRMED
LAST-MODIFIED:20240922T181740Z
DESCRIPTION:Bezirksoberliga Männer\nBegegnungs-Nr: 25012005\nHeim: HSG Lauingen-Wittislingen\nGast: TSV Friedberg II\nHalle: Wittislingen\, Schulsporthalle  (250462)\nAdresse: Marktstatt 4\, 89426 Wittislingen\n
LOCATION:Wittislingen\, Schulsporthalle  (250462): Marktstatt 4\, 89426 Wittislingen
CATEGORIES:Saison 2024/25
END:VEVENT
BEGIN:VEVENT
DTSTAMP:20260421T161125Z
DTSTART;TZID=Europe/Berlin:20250216T180000
DTEND;TZID=Europe/Berlin:20250216T193000
SUMMARY:Bezirksoberliga M VfL Günzburg II vs TSV Friedberg II (25012093)
UID:8d123184-2b63-4c9a-95b1-81cc4ed8909a
STATUS:CONFIRMED
LAST-MODIFIED:20250216T195608Z
DESCRIPTION:Bezirksoberliga Männer\nBegegnungs-Nr: 25012093\nHeim: VfL Günzburg II\nGast: TSV Friedberg II\nHalle: Günzburg\, Sporthalle  (250125)\nAdresse: Rebaystr. 11\, 89312 Günzburg\n
LOCATION:Günzburg\, Sporthalle  (250125): Rebaystr. 11\, 89312 Günzburg
CATEGORIES:Saison 2024/25
END:VEVENT
BEGIN:VEVENT
DTSTAMP:20260421T161125Z
DTSTART;TZID=Europe/Berlin:20241006T173000
DTEND;TZID=Europe/Berlin:20241006T190000
SUMMARY:Bezirksoberliga M TSV Bobingen vs TSV Friedberg II (25012016)
UID:cb80e609-d229-4436-a40d-b30e7a037d7c
STATUS:CONFIRMED
LAST-MODIFIED:20241006T173036Z
DESCRIPTION:Bezirksoberliga Männer\nBegegnungs-Nr: 25012016\nHeim: TSV Bobingen\nGast: TSV Friedberg II\nHalle: Bobingen\, Sporthalle (250021)\nAdresse: Willi-Ohlendorf-Weg 5\, 86399 Bobingen\n
LOCATION:Bobingen\, Sporthalle (250021): Willi-Ohlendorf-Weg 5\, 86399 Bobingen
CATEGORIES:Saison 2024/25
END:VEVENT
BEGIN:VEVENT
DTSTAMP:20260421T161125Z
DTSTART;TZID=Europe/Berlin:20241214T193000
DTEND;TZID=Europe/Berlin:20241214T210000
SUMMARY:Bezirksoberliga M TSV Niederraunau vs TSV Friedberg II (25012060)
UID:8793c083-bd47-41f2-921c-fa9eb6f8c448
STATUS:CONFIRMED
LAST-MODIFIED:20241215T163845Z
DESCRIPTION:Bezirksoberliga Männer\nBegegnungs-Nr: 25012060\nHeim: TSV Niederraunau\nGast: TSV Friedberg II\nHalle: Krumbach\, Halle Schulzentrum (250182)\nAdresse: Talstr. 76\, 86381 Krumbach\n
LOCATION:Krumbach\, Halle Schulzentrum (250182): Talstr. 76\, 86381 Krumbach
CATEGORIES:Saison 2024/25
END:VEVENT
BEGIN:VEVENT
DTSTAMP:20260421T161125Z
DTSTART;TZID=Europe/Berlin:20250222T180000
DTEND;TZID=Europe/Berlin:20250222T193000
SUMMARY:Bezirksoberliga M TSV Aichach vs TSV Friedberg II (25012098)
UID:f1979d01-18ab-4bc1-ba71-07a8be63fdb4
STATUS:CONFIRMED
LAST-MODIFIED:20250224T055313Z
DESCRIPTION:Bezirksoberliga Männer\nBegegnungs-Nr: 25012098\nHeim: TSV Aichach\nGast: TSV Friedberg II\nHalle: Aichach\, Sporthalle Gymnasium (250000)\nAdresse: Ludwigstr. 60\, 86551 Aichach\n
LOCATION:Aichach\, Sporthalle Gymnasium (250000): Ludwigstr. 60\, 86551 Aichach
CATEGORIES:Saison 2024/25
END:VEVENT
BEGIN:VEVENT
DTSTAMP:20260421T161125Z
DTSTART;TZID=Europe/Berlin:20250208T193000
DTEND;TZID=Europe/Berlin:20250208T210000
SUMMARY:Bezirksoberliga M BHC Königsbr.09 vs TSV Friedberg II (25012087)
UID:f8e16a5d-49d7-4334-92a5-559ace4638ca
STATUS:CONFIRMED
LAST-MODIFIED:20250209T193602Z
DESCRIPTION:Bezirksoberliga Männer\nBegegnungs-Nr: 25012087\nHeim: BHC Königsbr.09\nGast: TSV Friedberg II\nHalle: Königsbrunn\, Dreifachhalle (250181)\nAdresse: Karwendelstr. 14\, 86343 Königsbrunn\n
LOCATION:Königsbrunn\, Dreifachhalle (250181): Karwendelstr. 14\, 86343 Königsbrunn
CATEGORIES:Saison 2024/25
END:VEVENT
BEGIN:VEVENT
DTSTAMP:20260421T161125Z
DTSTART;TZID=Europe/Berlin:20250322T200000
DTEND;TZID=Europe/Berlin:20250322T213000
SUMMARY:Bezirksoberliga M TSV Haunstetten II vs TSV Friedberg II (25012109)
UID:cd0a4d5b-4a1f-4176-983a-3e7596793bbf
STATUS:CONFIRMED
LAST-MODIFIED:20250324T212601Z
DESCRIPTION:Bezirksoberliga Männer\nBegegnungs-Nr: 25012109\nHeim: TSV Haunstetten II\nGast: TSV Friedberg II\nHalle: Haunstetten\, Sporthalle  TSV (250008)\nAdresse: Landsberger Str. 3a\, 86179 A.-Haunstetten\n
LOCATION:Haunstetten\, Sporthalle  TSV (250008): Landsberger Str. 3a\, 86179 A.-Haunstetten
CATEGORIES:Saison 2024/25
END:VEVENT
BEGIN:VEVENT
DTSTAMP:20260421T161125Z
DTSTART;TZID=Europe/Berlin:20241116T193000
DTEND;TZID=Europe/Berlin:20241116T210000
SUMMARY:Bezirksoberliga M TSV Göggingen vs TSV Friedberg II (25012038)
UID:836f2c81-8c86-4f20-bb61-ab2a25e407f8
STATUS:CONFIRMED
LAST-MODIFIED:20241117T080005Z
DESCRIPTION:Bezirksoberliga Männer\nBegegnungs-Nr: 25012038\nHeim: TSV Göggingen\nGast: TSV Friedberg II\nHalle: Göggingen\, Anton-Bezler-Halle (250121)\nAdresse: Anton-Bezler-Str. 1\, 86199 Göggingen\n
LOCATION:Göggingen\, Anton-Bezler-Halle (250121): Anton-Bezler-Str. 1\, 86199 Göggingen
CATEGORIES:Saison 2024/25
END:VEVENT
END:VCALENDAR
