BEGIN:VCALENDAR
PRODID:-//nuDatenautomaten//framework iCal4j //DE
VERSION:2.0
CALSCALE:GREGORIAN
BEGIN:VTIMEZONE
TZID:Europe/Berlin
LAST-MODIFIED:20260306T231828Z
TZURL:https://www.tzurl.org/zoneinfo/Europe/Berlin
X-LIC-LOCATION:Europe/Berlin
X-PROLEPTIC-TZNAME:LMT
BEGIN:STANDARD
TZNAME:CET
TZOFFSETFROM:+005328
TZOFFSETTO:+0100
DTSTART:18930401T000000
END:STANDARD
BEGIN:DAYLIGHT
TZNAME:CEST
TZOFFSETFROM:+0100
TZOFFSETTO:+0200
DTSTART:19160430T230000
RDATE:19400401T020000
RDATE:19430329T020000
RDATE:19460414T020000
RDATE:19470406T030000
RDATE:19480418T020000
RDATE:19490410T020000
RDATE:19800406T020000
END:DAYLIGHT
BEGIN:STANDARD
TZNAME:CET
TZOFFSETFROM:+0200
TZOFFSETTO:+0100
DTSTART:19161001T010000
RDATE:19421102T030000
RDATE:19431004T030000
RDATE:19441002T030000
RDATE:19451118T030000
RDATE:19461007T030000
END:STANDARD
BEGIN:DAYLIGHT
TZNAME:CEST
TZOFFSETFROM:+0100
TZOFFSETTO:+0200
DTSTART:19170416T020000
RRULE:FREQ=YEARLY;UNTIL=19180415T010000Z;BYMONTH=4;BYDAY=3MO
END:DAYLIGHT
BEGIN:STANDARD
TZNAME:CET
TZOFFSETFROM:+0200
TZOFFSETTO:+0100
DTSTART:19170917T030000
RRULE:FREQ=YEARLY;UNTIL=19180916T010000Z;BYMONTH=9;BYDAY=3MO
END:STANDARD
BEGIN:DAYLIGHT
TZNAME:CEST
TZOFFSETFROM:+0100
TZOFFSETTO:+0200
DTSTART:19440403T020000
RRULE:FREQ=YEARLY;UNTIL=19450402T010000Z;BYMONTH=4;BYDAY=1MO
END:DAYLIGHT
BEGIN:DAYLIGHT
TZNAME:CEMT
TZOFFSETFROM:+0200
TZOFFSETTO:+0300
DTSTART:19450524T020000
RDATE:19470511T030000
END:DAYLIGHT
BEGIN:DAYLIGHT
TZNAME:CEST
TZOFFSETFROM:+0300
TZOFFSETTO:+0200
DTSTART:19450924T030000
RDATE:19470629T030000
END:DAYLIGHT
BEGIN:STANDARD
TZNAME:CET
TZOFFSETFROM:+0100
TZOFFSETTO:+0100
DTSTART:19460101T000000
RDATE:19800101T000000
END:STANDARD
BEGIN:STANDARD
TZNAME:CET
TZOFFSETFROM:+0200
TZOFFSETTO:+0100
DTSTART:19471005T030000
RRULE:FREQ=YEARLY;UNTIL=19491002T010000Z;BYMONTH=10;BYDAY=1SU
END:STANDARD
BEGIN:STANDARD
TZNAME:CET
TZOFFSETFROM:+0200
TZOFFSETTO:+0100
DTSTART:19800928T030000
RRULE:FREQ=YEARLY;UNTIL=19950924T010000Z;BYMONTH=9;BYDAY=-1SU
END:STANDARD
BEGIN:DAYLIGHT
TZNAME:CEST
TZOFFSETFROM:+0100
TZOFFSETTO:+0200
DTSTART:19810329T020000
RRULE:FREQ=YEARLY;BYMONTH=3;BYDAY=-1SU
END:DAYLIGHT
BEGIN:STANDARD
TZNAME:CET
TZOFFSETFROM:+0200
TZOFFSETTO:+0100
DTSTART:19961027T030000
RRULE:FREQ=YEARLY;BYMONTH=10;BYDAY=-1SU
END:STANDARD
END:VTIMEZONE
BEGIN:VEVENT
DTSTAMP:20260424T202234Z
DTSTART;TZID=Europe/Berlin:20241123T193000
DTEND;TZID=Europe/Berlin:20241123T210000
SUMMARY:BZL  HaSpo Bayreuth III vs TS Schwarzenbach (22011033)
UID:977d3d10-749d-47c2-a019-b60088c6bc71
STATUS:CONFIRMED
LAST-MODIFIED:20250212T083830Z
DESCRIPTION:Bezirksliga Männer\nBegegnungs-Nr: 22011033\nHeim: HaSpo Bayreuth III\nGast: TS Schwarzenbach\nHalle: Bayreuth\, Sporthalle Ost (220021)\nAdresse: Äußere Badstr. 26\, 95448 Bayreuth\n
LOCATION:Bayreuth\, Sporthalle Ost (220021): Äußere Badstr. 26\, 95448 Bayreuth
CATEGORIES:Saison 2024/25
END:VEVENT
BEGIN:VEVENT
DTSTAMP:20260424T202234Z
DTSTART;TZID=Europe/Berlin:20241214T193000
DTEND;TZID=Europe/Berlin:20241214T210000
SUMMARY:BZL  HaSpo Bayreuth III vs TV Gefrees (22011042)
UID:74deeb6a-b9e7-4aee-a926-4124de04308f
STATUS:CONFIRMED
LAST-MODIFIED:20250212T083854Z
DESCRIPTION:Bezirksliga Männer\nBegegnungs-Nr: 22011042\nHeim: HaSpo Bayreuth III\nGast: TV Gefrees\nHalle: Bayreuth\, Sporthalle Ost (220021)\nAdresse: Äußere Badstr. 26\, 95448 Bayreuth\n
LOCATION:Bayreuth\, Sporthalle Ost (220021): Äußere Badstr. 26\, 95448 Bayreuth
CATEGORIES:Saison 2024/25
END:VEVENT
BEGIN:VEVENT
DTSTAMP:20260424T202234Z
DTSTART;TZID=Europe/Berlin:20250112T150000
DTEND;TZID=Europe/Berlin:20250112T163000
SUMMARY:BZL  HaSpo Bayreuth III vs SG Bad Rodach/Großw. (22011048)
UID:f8507863-4aa2-4a3b-b7e0-ca7add53bb74
STATUS:CONFIRMED
LAST-MODIFIED:20250212T083918Z
DESCRIPTION:Bezirksliga Männer\nBegegnungs-Nr: 22011048\nHeim: HaSpo Bayreuth III\nGast: SG Bad Rodach/Großw.\nHalle: Bayreuth\, Sporthalle Ost (220021)\nAdresse: Äußere Badstr. 26\, 95448 Bayreuth\n
LOCATION:Bayreuth\, Sporthalle Ost (220021): Äußere Badstr. 26\, 95448 Bayreuth
CATEGORIES:Saison 2024/25
END:VEVENT
BEGIN:VEVENT
DTSTAMP:20260424T202234Z
DTSTART;TZID=Europe/Berlin:20250209T180000
DTEND;TZID=Europe/Berlin:20250209T193000
SUMMARY:BZL  HaSpo Bayreuth III vs TV Marktleugast (22011064)
UID:7de6242c-bf02-474e-812a-710c62ba777b
STATUS:CONFIRMED
LAST-MODIFIED:20250213T063920Z
DESCRIPTION:Bezirksliga Männer\nBegegnungs-Nr: 22011064\nHeim: HaSpo Bayreuth III\nGast: TV Marktleugast\nHalle: Bayreuth\, Sporthalle Ost (220021)\nAdresse: Äußere Badstr. 26\, 95448 Bayreuth\n
LOCATION:Bayreuth\, Sporthalle Ost (220021): Äußere Badstr. 26\, 95448 Bayreuth
CATEGORIES:Saison 2024/25
END:VEVENT
BEGIN:VEVENT
DTSTAMP:20260424T202234Z
DTSTART;TZID=Europe/Berlin:20241020T160000
DTEND;TZID=Europe/Berlin:20241020T173000
SUMMARY:BZL  HaSpo Bayreuth III vs TS Lichtenfels (22011021)
UID:eb10286e-4d2d-43c5-b70a-ccd26db7bc22
STATUS:CONFIRMED
LAST-MODIFIED:20241021T183046Z
DESCRIPTION:Bezirksliga Männer\nBegegnungs-Nr: 22011021\nHeim: HaSpo Bayreuth III\nGast: TS Lichtenfels\nHalle: Bayreuth\, Sporthalle Ost (220021)\nAdresse: Äußere Badstr. 26\, 95448 Bayreuth\n
LOCATION:Bayreuth\, Sporthalle Ost (220021): Äußere Badstr. 26\, 95448 Bayreuth
CATEGORIES:Saison 2024/25
END:VEVENT
BEGIN:VEVENT
DTSTAMP:20260424T202234Z
DTSTART;TZID=Europe/Berlin:20250118T193000
DTEND;TZID=Europe/Berlin:20250118T210000
SUMMARY:BZL  HaSpo Bayreuth III vs HC 03 Bamberg II (22011051)
UID:95a5c0c2-4245-41c1-8220-aefc84ba1dba
STATUS:CONFIRMED
LAST-MODIFIED:20250210T130130Z
DESCRIPTION:Bezirksliga Männer\nBegegnungs-Nr: 22011051\nHeim: HaSpo Bayreuth III\nGast: HC 03 Bamberg II\nHalle: Bayreuth\, Sporthalle Ost (220021)\nAdresse: Äußere Badstr. 26\, 95448 Bayreuth\n
LOCATION:Bayreuth\, Sporthalle Ost (220021): Äußere Badstr. 26\, 95448 Bayreuth
CATEGORIES:Saison 2024/25
END:VEVENT
BEGIN:VEVENT
DTSTAMP:20260424T202234Z
DTSTART;TZID=Europe/Berlin:20250223T140000
DTEND;TZID=Europe/Berlin:20250223T153000
SUMMARY:BZL  HaSpo Bayreuth III vs SG Helmbrechts/Münchberg III (22011074)
UID:725c7463-124e-44b6-86b0-c6a0d2b7509e
STATUS:CONFIRMED
LAST-MODIFIED:20250224T085656Z
DESCRIPTION:Bezirksliga Männer\nBegegnungs-Nr: 22011074\nHeim: HaSpo Bayreuth III\nGast: SG Helmbrechts/Münchberg III\nHalle: Bayreuth\, Sporthalle Ost (220021)\nAdresse: Äußere Badstr. 26\, 95448 Bayreuth\n
LOCATION:Bayreuth\, Sporthalle Ost (220021): Äußere Badstr. 26\, 95448 Bayreuth
CATEGORIES:Saison 2024/25
END:VEVENT
BEGIN:VEVENT
DTSTAMP:20260424T202234Z
DTSTART;TZID=Europe/Berlin:20241006T180000
DTEND;TZID=Europe/Berlin:20241006T193000
SUMMARY:BZL  HaSpo Bayreuth III vs HSG 2020 Fichtelgebirge II (22011012)
UID:6460db9a-aeea-4b4e-8c44-a37c16a26104
STATUS:CONFIRMED
LAST-MODIFIED:20241006T183123Z
DESCRIPTION:Bezirksliga Männer\nBegegnungs-Nr: 22011012\nHeim: HaSpo Bayreuth III\nGast: HSG 2020 Fichtelgebirge II\nHalle: Bayreuth\, Sporthalle Ost (220021)\nAdresse: Äußere Badstr. 26\, 95448 Bayreuth\n
LOCATION:Bayreuth\, Sporthalle Ost (220021): Äußere Badstr. 26\, 95448 Bayreuth
CATEGORIES:Saison 2024/25
END:VEVENT
BEGIN:VEVENT
DTSTAMP:20260424T202234Z
DTSTART;TZID=Europe/Berlin:20250323T141500
DTEND;TZID=Europe/Berlin:20250323T154500
SUMMARY:BZL  HaSpo Bayreuth III vs TV Michelau (22011085)
UID:e6d3b5bf-3e8d-4bb4-8721-36e4798e31a2
STATUS:CONFIRMED
LAST-MODIFIED:20250324T105931Z
DESCRIPTION:Bezirksliga Männer\nBegegnungs-Nr: 22011085\nHeim: HaSpo Bayreuth III\nGast: TV Michelau\nHalle: Bayreuth\, Sporthalle Ost (220021)\nAdresse: Äußere Badstr. 26\, 95448 Bayreuth\n
LOCATION:Bayreuth\, Sporthalle Ost (220021): Äußere Badstr. 26\, 95448 Bayreuth
CATEGORIES:Saison 2024/25
END:VEVENT
BEGIN:VEVENT
DTSTAMP:20260424T202234Z
DTSTART;TZID=Europe/Berlin:20241109T134500
DTEND;TZID=Europe/Berlin:20241109T151500
SUMMARY:BZL  SG Helmbrechts/Münchberg III vs HaSpo Bayreuth III (22011024)
UID:f8f68b95-5d4f-42db-b310-0ae752e2ee4d
STATUS:CONFIRMED
LAST-MODIFIED:20250212T084106Z
DESCRIPTION:Bezirksliga Männer\nBegegnungs-Nr: 22011024\nHeim: SG Helmbrechts/Münchberg III\nGast: HaSpo Bayreuth III\nHalle: Münchberg\, Gymnasiumhalle (220224)\nAdresse: Hofer Str. 41\, 95213 Münchberg\n
LOCATION:Münchberg\, Gymnasiumhalle (220224): Hofer Str. 41\, 95213 Münchberg
CATEGORIES:Saison 2024/25
END:VEVENT
BEGIN:VEVENT
DTSTAMP:20260424T202234Z
DTSTART;TZID=Europe/Berlin:20250405T180000
DTEND;TZID=Europe/Berlin:20250405T193000
SUMMARY:BZL  TV Gefrees vs HaSpo Bayreuth III (22011090)
UID:d4df3ad0-dd2d-4107-956e-bf54e7e222e3
STATUS:CONFIRMED
LAST-MODIFIED:20250407T050207Z
DESCRIPTION:Bezirksliga Männer\nBegegnungs-Nr: 22011090\nHeim: TV Gefrees\nGast: HaSpo Bayreuth III\nHalle: Marktleugast\, Oberlandhalle (220220)\nAdresse: Karl-Pezold-Str. 1\, 95352 Marktleugast\n
LOCATION:Marktleugast\, Oberlandhalle (220220): Karl-Pezold-Str. 1\, 95352 Marktleugast
CATEGORIES:Saison 2024/25
END:VEVENT
BEGIN:VEVENT
DTSTAMP:20260424T202234Z
DTSTART;TZID=Europe/Berlin:20240929T131500
DTEND;TZID=Europe/Berlin:20240929T144500
SUMMARY:BZL  HC 03 Bamberg II vs HaSpo Bayreuth III (22011007)
UID:2cf20755-0a19-4d9c-bc9e-81980b5ae5be
STATUS:CONFIRMED
LAST-MODIFIED:20240930T110000Z
DESCRIPTION:Bezirksliga Männer\nBegegnungs-Nr: 22011007\nHeim: HC 03 Bamberg II\nGast: HaSpo Bayreuth III\nHalle: Bamberg Berufschule I (220022)\nAdresse: Ohmstr.16\, 96050 Bamberg\n
LOCATION:Bamberg Berufschule I (220022): Ohmstr.16\, 96050 Bamberg
CATEGORIES:Saison 2024/25
END:VEVENT
BEGIN:VEVENT
DTSTAMP:20260424T202234Z
DTSTART;TZID=Europe/Berlin:20240921T163000
DTEND;TZID=Europe/Berlin:20240921T180000
SUMMARY:BZL  SG Bad Rodach/Großw. vs HaSpo Bayreuth III (22011002)
UID:b171b95b-7d7e-4852-a785-111ed391cc9e
STATUS:CONFIRMED
LAST-MODIFIED:20240923T112146Z
DESCRIPTION:Bezirksliga Männer\nBegegnungs-Nr: 22011002\nHeim: SG Bad Rodach/Großw.\nGast: HaSpo Bayreuth III\nHalle: Bad Rodach\, Bayernhalle (220023)\nAdresse: Am Stiegelein\, 96476 Bad Rodach\n
LOCATION:Bad Rodach\, Bayernhalle (220023): Am Stiegelein\, 96476 Bad Rodach
CATEGORIES:Saison 2024/25
END:VEVENT
BEGIN:VEVENT
DTSTAMP:20260424T202234Z
DTSTART;TZID=Europe/Berlin:20250126T150000
DTEND;TZID=Europe/Berlin:20250126T163000
SUMMARY:BZL  HSG 2020 Fichtelgebirge II vs HaSpo Bayreuth III (22011056)
UID:9cdc95e7-16eb-4c0f-9ed4-7339da40e55e
STATUS:CONFIRMED
LAST-MODIFIED:20250127T054423Z
DESCRIPTION:Bezirksliga Männer\nBegegnungs-Nr: 22011056\nHeim: HSG 2020 Fichtelgebirge II\nGast: HaSpo Bayreuth III\nHalle: Marktleuthen\, Städtische Sporthalle (220222)\nAdresse: Hermenteil 3\, 95168 Marktleuthen\n
LOCATION:Marktleuthen\, Städtische Sporthalle (220222): Hermenteil 3\, 95168 Marktleuthen
CATEGORIES:Saison 2024/25
END:VEVENT
BEGIN:VEVENT
DTSTAMP:20260424T202234Z
DTSTART;TZID=Europe/Berlin:20250215T180000
DTEND;TZID=Europe/Berlin:20250215T193000
SUMMARY:BZL  TS Lichtenfels vs HaSpo Bayreuth III (22011066)
UID:8a114881-9537-49ff-b4a8-d760ed455837
STATUS:CONFIRMED
LAST-MODIFIED:20250216T093055Z
DESCRIPTION:Bezirksliga Männer\nBegegnungs-Nr: 22011066\nHeim: TS Lichtenfels\nGast: HaSpo Bayreuth III\nHalle: Lichtenfels\, Städt. Sporthalle (220200)\nAdresse: An der Friedenslinde 7\, 96215 Lichtenfels\n
LOCATION:Lichtenfels\, Städt. Sporthalle (220200): An der Friedenslinde 7\, 96215 Lichtenfels
CATEGORIES:Saison 2024/25
END:VEVENT
BEGIN:VEVENT
DTSTAMP:20260424T202234Z
DTSTART;TZID=Europe/Berlin:20241207T160000
DTEND;TZID=Europe/Berlin:20241207T173000
SUMMARY:BZL  TV Michelau vs HaSpo Bayreuth III (22011038)
UID:3e64d192-a9c2-4124-9a48-5e0b0e243ef4
STATUS:CONFIRMED
LAST-MODIFIED:20241209T061744Z
DESCRIPTION:Bezirksliga Männer\nBegegnungs-Nr: 22011038\nHeim: TV Michelau\nGast: HaSpo Bayreuth III\nHalle: Michelau\, Mainfeldhalle (220223)\nAdresse: Am Sportzentrum 10\, 96247 Michelau\n
LOCATION:Michelau\, Mainfeldhalle (220223): Am Sportzentrum 10\, 96247 Michelau
CATEGORIES:Saison 2024/25
END:VEVENT
BEGIN:VEVENT
DTSTAMP:20260424T202234Z
DTSTART;TZID=Europe/Berlin:20250316T150000
DTEND;TZID=Europe/Berlin:20250316T163000
SUMMARY:BZL  TS Schwarzenbach vs HaSpo Bayreuth III (22011081)
UID:f8c4fc0d-31c9-4104-96c1-b4c1ab8fd243
STATUS:CONFIRMED
LAST-MODIFIED:20250317T080910Z
DESCRIPTION:Bezirksliga Männer\nBegegnungs-Nr: 22011081\nHeim: TS Schwarzenbach\nGast: HaSpo Bayreuth III\nHalle: Oberkotzau\, Saaletalhalle (220300)\nAdresse: Schulstr. \, 95145 Oberkotzau\n
LOCATION:Oberkotzau\, Saaletalhalle (220300): Schulstr. \, 95145 Oberkotzau
CATEGORIES:Saison 2024/25
END:VEVENT
BEGIN:VEVENT
DTSTAMP:20260424T202234Z
DTSTART;TZID=Europe/Berlin:20241012T200000
DTEND;TZID=Europe/Berlin:20241012T213000
SUMMARY:BZL  TV Marktleugast vs HaSpo Bayreuth III (22011014)
UID:5a944fd4-1196-44ae-969c-f8047fbecfab
STATUS:CONFIRMED
LAST-MODIFIED:20241013T093500Z
DESCRIPTION:Bezirksliga Männer\nBegegnungs-Nr: 22011014\nHeim: TV Marktleugast\nGast: HaSpo Bayreuth III\nHalle: Marktleugast\, Oberlandhalle (220220)\nAdresse: Karl-Pezold-Str. 1\, 95352 Marktleugast\n
LOCATION:Marktleugast\, Oberlandhalle (220220): Karl-Pezold-Str. 1\, 95352 Marktleugast
CATEGORIES:Saison 2024/25
END:VEVENT
END:VCALENDAR
