BEGIN:VCALENDAR
PRODID:-//nuDatenautomaten//framework iCal4j //DE
VERSION:2.0
CALSCALE:GREGORIAN
BEGIN:VTIMEZONE
TZID:Europe/Berlin
LAST-MODIFIED:20260306T231828Z
TZURL:https://www.tzurl.org/zoneinfo/Europe/Berlin
X-LIC-LOCATION:Europe/Berlin
X-PROLEPTIC-TZNAME:LMT
BEGIN:STANDARD
TZNAME:CET
TZOFFSETFROM:+005328
TZOFFSETTO:+0100
DTSTART:18930401T000000
END:STANDARD
BEGIN:DAYLIGHT
TZNAME:CEST
TZOFFSETFROM:+0100
TZOFFSETTO:+0200
DTSTART:19160430T230000
RDATE:19400401T020000
RDATE:19430329T020000
RDATE:19460414T020000
RDATE:19470406T030000
RDATE:19480418T020000
RDATE:19490410T020000
RDATE:19800406T020000
END:DAYLIGHT
BEGIN:STANDARD
TZNAME:CET
TZOFFSETFROM:+0200
TZOFFSETTO:+0100
DTSTART:19161001T010000
RDATE:19421102T030000
RDATE:19431004T030000
RDATE:19441002T030000
RDATE:19451118T030000
RDATE:19461007T030000
END:STANDARD
BEGIN:DAYLIGHT
TZNAME:CEST
TZOFFSETFROM:+0100
TZOFFSETTO:+0200
DTSTART:19170416T020000
RRULE:FREQ=YEARLY;UNTIL=19180415T010000Z;BYMONTH=4;BYDAY=3MO
END:DAYLIGHT
BEGIN:STANDARD
TZNAME:CET
TZOFFSETFROM:+0200
TZOFFSETTO:+0100
DTSTART:19170917T030000
RRULE:FREQ=YEARLY;UNTIL=19180916T010000Z;BYMONTH=9;BYDAY=3MO
END:STANDARD
BEGIN:DAYLIGHT
TZNAME:CEST
TZOFFSETFROM:+0100
TZOFFSETTO:+0200
DTSTART:19440403T020000
RRULE:FREQ=YEARLY;UNTIL=19450402T010000Z;BYMONTH=4;BYDAY=1MO
END:DAYLIGHT
BEGIN:DAYLIGHT
TZNAME:CEMT
TZOFFSETFROM:+0200
TZOFFSETTO:+0300
DTSTART:19450524T020000
RDATE:19470511T030000
END:DAYLIGHT
BEGIN:DAYLIGHT
TZNAME:CEST
TZOFFSETFROM:+0300
TZOFFSETTO:+0200
DTSTART:19450924T030000
RDATE:19470629T030000
END:DAYLIGHT
BEGIN:STANDARD
TZNAME:CET
TZOFFSETFROM:+0100
TZOFFSETTO:+0100
DTSTART:19460101T000000
RDATE:19800101T000000
END:STANDARD
BEGIN:STANDARD
TZNAME:CET
TZOFFSETFROM:+0200
TZOFFSETTO:+0100
DTSTART:19471005T030000
RRULE:FREQ=YEARLY;UNTIL=19491002T010000Z;BYMONTH=10;BYDAY=1SU
END:STANDARD
BEGIN:STANDARD
TZNAME:CET
TZOFFSETFROM:+0200
TZOFFSETTO:+0100
DTSTART:19800928T030000
RRULE:FREQ=YEARLY;UNTIL=19950924T010000Z;BYMONTH=9;BYDAY=-1SU
END:STANDARD
BEGIN:DAYLIGHT
TZNAME:CEST
TZOFFSETFROM:+0100
TZOFFSETTO:+0200
DTSTART:19810329T020000
RRULE:FREQ=YEARLY;BYMONTH=3;BYDAY=-1SU
END:DAYLIGHT
BEGIN:STANDARD
TZNAME:CET
TZOFFSETFROM:+0200
TZOFFSETTO:+0100
DTSTART:19961027T030000
RRULE:FREQ=YEARLY;BYMONTH=10;BYDAY=-1SU
END:STANDARD
END:VTIMEZONE
BEGIN:VEVENT
DTSTAMP:20260422T085829Z
DTSTART;TZID=Europe/Berlin:20241110T173000
DTEND;TZID=Europe/Berlin:20241110T190000
SUMMARY:Bezirksliga F BHC Königsbr.09 vs DJK Augsburg-Hochzoll (25023024)
UID:bd5c1822-bed7-43b8-8312-a80b7ea3acbb
STATUS:CONFIRMED
LAST-MODIFIED:20241111T194742Z
DESCRIPTION:Bezirksliga Frauen\nBegegnungs-Nr: 25023024\nHeim: BHC Königsbr.09\nGast: DJK Augsburg-Hochzoll\nHalle: Königsbrunn\, Dreifachhalle (250181)\nAdresse: Karwendelstr. 14\, 86343 Königsbrunn\n
LOCATION:Königsbrunn\, Dreifachhalle (250181): Karwendelstr. 14\, 86343 Königsbrunn
CATEGORIES:Saison 2024/25
END:VEVENT
BEGIN:VEVENT
DTSTAMP:20260422T085829Z
DTSTART;TZID=Europe/Berlin:20241013T170000
DTEND;TZID=Europe/Berlin:20241013T183000
SUMMARY:Bezirksliga F BHC Königsbr.09 vs TSV Göggingen II (25023016)
UID:3d1791ed-9b6a-4ed6-96d5-05f30a3e6563
STATUS:CONFIRMED
LAST-MODIFIED:20241013T171524Z
DESCRIPTION:Bezirksliga Frauen\nBegegnungs-Nr: 25023016\nHeim: BHC Königsbr.09\nGast: TSV Göggingen II\nHalle: Königsbrunn\, Dreifachhalle (250181)\nAdresse: Karwendelstr. 14\, 86343 Königsbrunn\n
LOCATION:Königsbrunn\, Dreifachhalle (250181): Karwendelstr. 14\, 86343 Königsbrunn
CATEGORIES:Saison 2024/25
END:VEVENT
BEGIN:VEVENT
DTSTAMP:20260422T085829Z
DTSTART;TZID=Europe/Berlin:20241207T150000
DTEND;TZID=Europe/Berlin:20241207T163000
SUMMARY:Bezirksliga F BHC Königsbr.09 vs TSV Neusäss (25023032)
UID:d3d30e96-d7ce-46a6-bd6b-9d9ba2f98d3d
STATUS:CONFIRMED
LAST-MODIFIED:20241212T175823Z
DESCRIPTION:Bezirksliga Frauen\nBegegnungs-Nr: 25023032\nHeim: BHC Königsbr.09\nGast: TSV Neusäss\nHalle: Königsbrunn\, Dreifachhalle (250181)\nAdresse: Karwendelstr. 14\, 86343 Königsbrunn\n
LOCATION:Königsbrunn\, Dreifachhalle (250181): Karwendelstr. 14\, 86343 Königsbrunn
CATEGORIES:Saison 2024/25
END:VEVENT
BEGIN:VEVENT
DTSTAMP:20260422T085829Z
DTSTART;TZID=Europe/Berlin:20240928T193000
DTEND;TZID=Europe/Berlin:20240928T210000
SUMMARY:Bezirksliga F BHC Königsbr.09 vs TSV Aichach II (25023008)
UID:1849803d-db81-4faf-8bfa-4f9ba5746584
STATUS:CONFIRMED
LAST-MODIFIED:20241004T145109Z
DESCRIPTION:Bezirksliga Frauen\nBegegnungs-Nr: 25023008\nHeim: BHC Königsbr.09\nGast: TSV Aichach II\nHalle: Königsbrunn\, Dreifachhalle (250181)\nAdresse: Karwendelstr. 14\, 86343 Königsbrunn\n
LOCATION:Königsbrunn\, Dreifachhalle (250181): Karwendelstr. 14\, 86343 Königsbrunn
CATEGORIES:Saison 2024/25
END:VEVENT
BEGIN:VEVENT
DTSTAMP:20260422T085829Z
DTSTART;TZID=Europe/Berlin:20250406T134500
DTEND;TZID=Europe/Berlin:20250406T151500
SUMMARY:Bezirksliga F BHC Königsbr.09 vs TSV Wertingen (25023072)
UID:b0372368-7d58-4fc3-9930-99769df27712
STATUS:CONFIRMED
LAST-MODIFIED:20250410T180649Z
DESCRIPTION:Bezirksliga Frauen\nBegegnungs-Nr: 25023072\nHeim: BHC Königsbr.09\nGast: TSV Wertingen\nHalle: Königsbrunn\, Dreifachhalle (250181)\nAdresse: Karwendelstr. 14\, 86343 Königsbrunn\n
LOCATION:Königsbrunn\, Dreifachhalle (250181): Karwendelstr. 14\, 86343 Königsbrunn
CATEGORIES:Saison 2024/25
END:VEVENT
BEGIN:VEVENT
DTSTAMP:20260422T085829Z
DTSTART;TZID=Europe/Berlin:20250130T193000
DTEND;TZID=Europe/Berlin:20250130T210000
SUMMARY:Bezirksliga F BHC Königsbr.09 vs TSV Niederraunau (25023056)
UID:95728c25-44ff-4f40-8bb8-b5806abb62bb
STATUS:CONFIRMED
LAST-MODIFIED:20250130T200136Z
DESCRIPTION:Bezirksliga Frauen\nBegegnungs-Nr: 25023056\nHeim: BHC Königsbr.09\nGast: TSV Niederraunau\nHalle: Königsbrunn\, Dreifachhalle (250181)\nAdresse: Karwendelstr. 14\, 86343 Königsbrunn\n
LOCATION:Königsbrunn\, Dreifachhalle (250181): Karwendelstr. 14\, 86343 Königsbrunn
CATEGORIES:Saison 2024/25
END:VEVENT
BEGIN:VEVENT
DTSTAMP:20260422T085829Z
DTSTART;TZID=Europe/Berlin:20250315T183000
DTEND;TZID=Europe/Berlin:20250315T200000
SUMMARY:Bezirksliga F BHC Königsbr.09 vs SV Mering (25023064)
UID:fe105ea1-ecd3-42d8-97f8-763aa4ce633a
STATUS:CONFIRMED
LAST-MODIFIED:20250319T191624Z
DESCRIPTION:Bezirksliga Frauen\nBegegnungs-Nr: 25023064\nHeim: BHC Königsbr.09\nGast: SV Mering\nHalle: Königsbrunn\, Dreifachhalle (250181)\nAdresse: Karwendelstr. 14\, 86343 Königsbrunn\n
LOCATION:Königsbrunn\, Dreifachhalle (250181): Karwendelstr. 14\, 86343 Königsbrunn
CATEGORIES:Saison 2024/25
END:VEVENT
BEGIN:VEVENT
DTSTAMP:20260422T085829Z
DTSTART;TZID=Europe/Berlin:20250125T173000
DTEND;TZID=Europe/Berlin:20250125T190000
SUMMARY:Bezirksliga F BHC Königsbr.09 vs TSV Friedberg (25023048)
UID:c3372ee8-6c18-42b8-9cd5-c4a8412996bc
STATUS:CONFIRMED
LAST-MODIFIED:20250126T195857Z
DESCRIPTION:Bezirksliga Frauen\nBegegnungs-Nr: 25023048\nHeim: BHC Königsbr.09\nGast: TSV Friedberg\nHalle: Königsbrunn\, Dreifachhalle (250181)\nAdresse: Karwendelstr. 14\, 86343 Königsbrunn\n
LOCATION:Königsbrunn\, Dreifachhalle (250181): Karwendelstr. 14\, 86343 Königsbrunn
CATEGORIES:Saison 2024/25
END:VEVENT
BEGIN:VEVENT
DTSTAMP:20260422T085829Z
DTSTART;TZID=Europe/Berlin:20250223T174500
DTEND;TZID=Europe/Berlin:20250223T191500
SUMMARY:Bezirksliga F DJK Augsburg-Hochzoll vs BHC Königsbr.09 (25023060)
UID:4b59654b-4ec1-45b3-9269-9a3ef6f8388c
STATUS:CONFIRMED
LAST-MODIFIED:20250226T054339Z
DESCRIPTION:Bezirksliga Frauen\nBegegnungs-Nr: 25023060\nHeim: DJK Augsburg-Hochzoll\nGast: BHC Königsbr.09\nHalle: Augsburg-Hochzoll\, DJK-Sporthalle  (250009)\nAdresse: Zwölf-Apostel-Platz 3\, 86163 Augsburg-Hochzoll\n
LOCATION:Augsburg-Hochzoll\, DJK-Sporthalle  (250009): Zwölf-Apostel-Platz 3\, 86163 Augsburg-Hochzoll
CATEGORIES:Saison 2024/25
END:VEVENT
BEGIN:VEVENT
DTSTAMP:20260422T085829Z
DTSTART;TZID=Europe/Berlin:20250119T143000
DTEND;TZID=Europe/Berlin:20250119T160000
SUMMARY:Bezirksliga F TSV Aichach II vs BHC Königsbr.09 (25023044)
UID:0543afba-7e22-490a-aa21-6d50504ed5d5
STATUS:CONFIRMED
LAST-MODIFIED:20250119T193404Z
DESCRIPTION:Bezirksliga Frauen\nBegegnungs-Nr: 25023044\nHeim: TSV Aichach II\nGast: BHC Königsbr.09\nHalle: Aichach\, Sporthalle Gymnasium (250000)\nAdresse: Ludwigstr. 60\, 86551 Aichach\n
LOCATION:Aichach\, Sporthalle Gymnasium (250000): Ludwigstr. 60\, 86551 Aichach
CATEGORIES:Saison 2024/25
END:VEVENT
BEGIN:VEVENT
DTSTAMP:20260422T085829Z
DTSTART;TZID=Europe/Berlin:20241020T173000
DTEND;TZID=Europe/Berlin:20241020T190000
SUMMARY:Bezirksliga F TSV Niederraunau vs BHC Königsbr.09 (25023020)
UID:64a2960b-2d22-4ff6-a7d3-0d282e654903
STATUS:CONFIRMED
LAST-MODIFIED:20241021T113857Z
DESCRIPTION:Bezirksliga Frauen\nBegegnungs-Nr: 25023020\nHeim: TSV Niederraunau\nGast: BHC Königsbr.09\nHalle: Krumbach\, Halle Schulzentrum (250182)\nAdresse: Talstr. 76\, 86381 Krumbach\n
LOCATION:Krumbach\, Halle Schulzentrum (250182): Talstr. 76\, 86381 Krumbach
CATEGORIES:Saison 2024/25
END:VEVENT
BEGIN:VEVENT
DTSTAMP:20260422T085829Z
DTSTART;TZID=Europe/Berlin:20241124T163000
DTEND;TZID=Europe/Berlin:20241124T180000
SUMMARY:Bezirksliga F SV Mering vs BHC Königsbr.09 (25023028)
UID:e2a544e3-74ac-4ffe-8a84-cb1fe93cf702
STATUS:CONFIRMED
LAST-MODIFIED:20241125T192544Z
DESCRIPTION:Bezirksliga Frauen\nBegegnungs-Nr: 25023028\nHeim: SV Mering\nGast: BHC Königsbr.09\nHalle: Mering\, Eduard-Ettensberger-Halle (250222)\nAdresse: Tratteilstr.\, 86415 Mering\n
LOCATION:Mering\, Eduard-Ettensberger-Halle (250222): Tratteilstr.\, 86415 Mering
CATEGORIES:Saison 2024/25
END:VEVENT
BEGIN:VEVENT
DTSTAMP:20260422T085829Z
DTSTART;TZID=Europe/Berlin:20250322T180000
DTEND;TZID=Europe/Berlin:20250322T193000
SUMMARY:Bezirksliga F TSV Neusäss vs BHC Königsbr.09 (25023068)
UID:a6949449-c7a1-4874-9753-a8545440ec37
STATUS:CONFIRMED
LAST-MODIFIED:20250326T194332Z
DESCRIPTION:Bezirksliga Frauen\nBegegnungs-Nr: 25023068\nHeim: TSV Neusäss\nGast: BHC Königsbr.09\nHalle: Neusäss\, Sporthalle an der Eichenwaldschule (250260)\nAdresse: Am Eichenwald 51\, 86356 Neusäß\n
LOCATION:Neusäss\, Sporthalle an der Eichenwaldschule (250260): Am Eichenwald 51\, 86356 Neusäß
CATEGORIES:Saison 2024/25
END:VEVENT
BEGIN:VEVENT
DTSTAMP:20260422T085829Z
DTSTART;TZID=Europe/Berlin:20241117T123000
DTEND;TZID=Europe/Berlin:20241117T140000
SUMMARY:Bezirksliga F TSV Friedberg vs BHC Königsbr.09 (25023012)
UID:eb18eeba-2518-44ce-a3da-7fb914bba68e
STATUS:CONFIRMED
LAST-MODIFIED:20241122T143948Z
DESCRIPTION:Bezirksliga Frauen\nBegegnungs-Nr: 25023012\nHeim: TSV Friedberg\nGast: BHC Königsbr.09\nHalle: Friedberg\, Sporthalle des TSV Friedberg (250101)\nAdresse: Hans-Böller-Str. 3\, 86316 Friedberg\n
LOCATION:Friedberg\, Sporthalle des TSV Friedberg (250101): Hans-Böller-Str. 3\, 86316 Friedberg
CATEGORIES:Saison 2024/25
END:VEVENT
BEGIN:VEVENT
DTSTAMP:20260422T085829Z
DTSTART;TZID=Europe/Berlin:20250208T133000
DTEND;TZID=Europe/Berlin:20250208T150000
SUMMARY:Bezirksliga F TSV Göggingen II vs BHC Königsbr.09 (25023052)
UID:66f32abf-2516-43a1-b343-a97561f1d070
STATUS:CONFIRMED
LAST-MODIFIED:20250209T192515Z
DESCRIPTION:Bezirksliga Frauen\nBegegnungs-Nr: 25023052\nHeim: TSV Göggingen II\nGast: BHC Königsbr.09\nHalle: Göggingen\, Anton-Bezler-Halle (250121)\nAdresse: Anton-Bezler-Str. 1\, 86199 Göggingen\n
LOCATION:Göggingen\, Anton-Bezler-Halle (250121): Anton-Bezler-Str. 1\, 86199 Göggingen
CATEGORIES:Saison 2024/25
END:VEVENT
BEGIN:VEVENT
DTSTAMP:20260422T085829Z
DTSTART;TZID=Europe/Berlin:20241214T193000
DTEND;TZID=Europe/Berlin:20241214T210000
SUMMARY:Bezirksliga F TSV Wertingen vs BHC Königsbr.09 (25023036)
UID:991d92b3-cdd2-4f7e-8c80-080a0be2b70a
STATUS:CONFIRMED
LAST-MODIFIED:20241215T195952Z
DESCRIPTION:Bezirksliga Frauen\nBegegnungs-Nr: 25023036\nHeim: TSV Wertingen\nGast: BHC Königsbr.09\nHalle: Wertingen\, Stadthalle  (250460)\nAdresse: Landrat-Anton-Rauch-Platz 4\, 86637 Wertingen\n
LOCATION:Wertingen\, Stadthalle  (250460): Landrat-Anton-Rauch-Platz 4\, 86637 Wertingen
CATEGORIES:Saison 2024/25
END:VEVENT
END:VCALENDAR
