BEGIN:VCALENDAR
PRODID:-//nuDatenautomaten//framework iCal4j //DE
VERSION:2.0
CALSCALE:GREGORIAN
BEGIN:VTIMEZONE
TZID:Europe/Berlin
LAST-MODIFIED:20260306T231828Z
TZURL:https://www.tzurl.org/zoneinfo/Europe/Berlin
X-LIC-LOCATION:Europe/Berlin
X-PROLEPTIC-TZNAME:LMT
BEGIN:STANDARD
TZNAME:CET
TZOFFSETFROM:+005328
TZOFFSETTO:+0100
DTSTART:18930401T000000
END:STANDARD
BEGIN:DAYLIGHT
TZNAME:CEST
TZOFFSETFROM:+0100
TZOFFSETTO:+0200
DTSTART:19160430T230000
RDATE:19400401T020000
RDATE:19430329T020000
RDATE:19460414T020000
RDATE:19470406T030000
RDATE:19480418T020000
RDATE:19490410T020000
RDATE:19800406T020000
END:DAYLIGHT
BEGIN:STANDARD
TZNAME:CET
TZOFFSETFROM:+0200
TZOFFSETTO:+0100
DTSTART:19161001T010000
RDATE:19421102T030000
RDATE:19431004T030000
RDATE:19441002T030000
RDATE:19451118T030000
RDATE:19461007T030000
END:STANDARD
BEGIN:DAYLIGHT
TZNAME:CEST
TZOFFSETFROM:+0100
TZOFFSETTO:+0200
DTSTART:19170416T020000
RRULE:FREQ=YEARLY;UNTIL=19180415T010000Z;BYMONTH=4;BYDAY=3MO
END:DAYLIGHT
BEGIN:STANDARD
TZNAME:CET
TZOFFSETFROM:+0200
TZOFFSETTO:+0100
DTSTART:19170917T030000
RRULE:FREQ=YEARLY;UNTIL=19180916T010000Z;BYMONTH=9;BYDAY=3MO
END:STANDARD
BEGIN:DAYLIGHT
TZNAME:CEST
TZOFFSETFROM:+0100
TZOFFSETTO:+0200
DTSTART:19440403T020000
RRULE:FREQ=YEARLY;UNTIL=19450402T010000Z;BYMONTH=4;BYDAY=1MO
END:DAYLIGHT
BEGIN:DAYLIGHT
TZNAME:CEMT
TZOFFSETFROM:+0200
TZOFFSETTO:+0300
DTSTART:19450524T020000
RDATE:19470511T030000
END:DAYLIGHT
BEGIN:DAYLIGHT
TZNAME:CEST
TZOFFSETFROM:+0300
TZOFFSETTO:+0200
DTSTART:19450924T030000
RDATE:19470629T030000
END:DAYLIGHT
BEGIN:STANDARD
TZNAME:CET
TZOFFSETFROM:+0100
TZOFFSETTO:+0100
DTSTART:19460101T000000
RDATE:19800101T000000
END:STANDARD
BEGIN:STANDARD
TZNAME:CET
TZOFFSETFROM:+0200
TZOFFSETTO:+0100
DTSTART:19471005T030000
RRULE:FREQ=YEARLY;UNTIL=19491002T010000Z;BYMONTH=10;BYDAY=1SU
END:STANDARD
BEGIN:STANDARD
TZNAME:CET
TZOFFSETFROM:+0200
TZOFFSETTO:+0100
DTSTART:19800928T030000
RRULE:FREQ=YEARLY;UNTIL=19950924T010000Z;BYMONTH=9;BYDAY=-1SU
END:STANDARD
BEGIN:DAYLIGHT
TZNAME:CEST
TZOFFSETFROM:+0100
TZOFFSETTO:+0200
DTSTART:19810329T020000
RRULE:FREQ=YEARLY;BYMONTH=3;BYDAY=-1SU
END:DAYLIGHT
BEGIN:STANDARD
TZNAME:CET
TZOFFSETFROM:+0200
TZOFFSETTO:+0100
DTSTART:19961027T030000
RRULE:FREQ=YEARLY;BYMONTH=10;BYDAY=-1SU
END:STANDARD
END:VTIMEZONE
BEGIN:VEVENT
DTSTAMP:20260419T221432Z
DTSTART;TZID=Europe/Berlin:20250412T143000
DTEND;TZID=Europe/Berlin:20250412T160000
SUMMARY:Bezirksoberliga  TSV Ottobeuren vs TV Waltenhofen (127)
UID:683c7497-6751-4148-b143-77002cc7fe87
STATUS:CONFIRMED
LAST-MODIFIED:20250413T071426Z
DESCRIPTION:Bezirksoberliga Frauen\nBegegnungs-Nr: 127\nHeim: TSV Ottobeuren\nGast: TV Waltenhofen\nHalle: Ottobeuren\, Schulzentrum  (270306)\nAdresse: Bergstrasse 80\, 87724 Ottobeuren \n
LOCATION:Ottobeuren\, Schulzentrum  (270306): Bergstrasse 80\, 87724 Ottobeuren 
CATEGORIES:Saison 2024/25
END:VEVENT
BEGIN:VEVENT
DTSTAMP:20260419T221432Z
DTSTART;TZID=Europe/Berlin:20241201T160000
DTEND;TZID=Europe/Berlin:20241201T173000
SUMMARY:Bezirksoberliga  TSV Ottobeuren vs Eichenauer SV (55)
UID:b11faea3-b97b-4988-bb38-049f6de45586
STATUS:CONFIRMED
LAST-MODIFIED:20241201T171654Z
DESCRIPTION:Bezirksoberliga Frauen\nBegegnungs-Nr: 55\nHeim: TSV Ottobeuren\nGast: Eichenauer SV\nHalle: Ottobeuren\, Schulzentrum  (270306)\nAdresse: Bergstrasse 80\, 87724 Ottobeuren \n
LOCATION:Ottobeuren\, Schulzentrum  (270306): Bergstrasse 80\, 87724 Ottobeuren 
CATEGORIES:Saison 2024/25
END:VEVENT
BEGIN:VEVENT
DTSTAMP:20260419T221432Z
DTSTART;TZID=Europe/Berlin:20241013T140000
DTEND;TZID=Europe/Berlin:20241013T153000
SUMMARY:Bezirksoberliga  TSV Ottobeuren vs TV Immenstadt (22)
UID:c28ab1a8-ef7b-4bc1-a972-5eddfb8ffdda
STATUS:CONFIRMED
LAST-MODIFIED:20241013T141816Z
DESCRIPTION:Bezirksoberliga Frauen\nBegegnungs-Nr: 22\nHeim: TSV Ottobeuren\nGast: TV Immenstadt\nHalle: Ottobeuren\, Schulzentrum  (270306)\nAdresse: Bergstrasse 80\, 87724 Ottobeuren \n
LOCATION:Ottobeuren\, Schulzentrum  (270306): Bergstrasse 80\, 87724 Ottobeuren 
CATEGORIES:Saison 2024/25
END:VEVENT
BEGIN:VEVENT
DTSTAMP:20260419T221432Z
DTSTART;TZID=Europe/Berlin:20241123T174500
DTEND;TZID=Europe/Berlin:20241123T191500
SUMMARY:Bezirksoberliga  TSV Ottobeuren vs BSC Oberhausen (44)
UID:4db04c12-77e3-4cf8-bebd-5096b211a496
STATUS:CONFIRMED
LAST-MODIFIED:20241124T102432Z
DESCRIPTION:Bezirksoberliga Frauen\nBegegnungs-Nr: 44\nHeim: TSV Ottobeuren\nGast: BSC Oberhausen\nHalle: Ottobeuren\, Schulzentrum  (270306)\nAdresse: Bergstrasse 80\, 87724 Ottobeuren \n
LOCATION:Ottobeuren\, Schulzentrum  (270306): Bergstrasse 80\, 87724 Ottobeuren 
CATEGORIES:Saison 2024/25
END:VEVENT
BEGIN:VEVENT
DTSTAMP:20260419T221432Z
DTSTART;TZID=Europe/Berlin:20241110T170000
DTEND;TZID=Europe/Berlin:20241110T183000
SUMMARY:Bezirksoberliga  TSV Ottobeuren vs SG Biessenhofen-Marktoberdorf (33)
UID:a6252d9d-4305-408d-b359-092e374a03a5
STATUS:CONFIRMED
LAST-MODIFIED:20241110T180920Z
DESCRIPTION:Bezirksoberliga Frauen\nBegegnungs-Nr: 33\nHeim: TSV Ottobeuren\nGast: SG Biessenhofen-Marktoberdorf\nHalle: Ottobeuren\, Schulzentrum  (270306)\nAdresse: Bergstrasse 80\, 87724 Ottobeuren \n
LOCATION:Ottobeuren\, Schulzentrum  (270306): Bergstrasse 80\, 87724 Ottobeuren 
CATEGORIES:Saison 2024/25
END:VEVENT
BEGIN:VEVENT
DTSTAMP:20260419T221432Z
DTSTART;TZID=Europe/Berlin:20240921T174500
DTEND;TZID=Europe/Berlin:20240921T191500
SUMMARY:Bezirksoberliga  TSV Ottobeuren vs TSV Weilheim (6)
UID:51e1f373-3512-4c67-9c5e-6b121eaae95b
STATUS:CONFIRMED
LAST-MODIFIED:20240922T083047Z
DESCRIPTION:Bezirksoberliga Frauen\nBegegnungs-Nr: 6\nHeim: TSV Ottobeuren\nGast: TSV Weilheim\nHalle: Ottobeuren\, Schulzentrum  (270306)\nAdresse: Bergstrasse 80\, 87724 Ottobeuren \n
LOCATION:Ottobeuren\, Schulzentrum  (270306): Bergstrasse 80\, 87724 Ottobeuren 
CATEGORIES:Saison 2024/25
END:VEVENT
BEGIN:VEVENT
DTSTAMP:20260419T221432Z
DTSTART;TZID=Europe/Berlin:20240929T160000
DTEND;TZID=Europe/Berlin:20240929T173000
SUMMARY:Bezirksoberliga  TSV Ottobeuren vs TSV Gilching (11)
UID:75e27cbd-e924-47d5-b25c-1829cc3c3fc8
STATUS:CONFIRMED
LAST-MODIFIED:20240930T113847Z
DESCRIPTION:Bezirksoberliga Frauen\nBegegnungs-Nr: 11\nHeim: TSV Ottobeuren\nGast: TSV Gilching\nHalle: Ottobeuren\, Schulzentrum  (270306)\nAdresse: Bergstrasse 80\, 87724 Ottobeuren \n
LOCATION:Ottobeuren\, Schulzentrum  (270306): Bergstrasse 80\, 87724 Ottobeuren 
CATEGORIES:Saison 2024/25
END:VEVENT
BEGIN:VEVENT
DTSTAMP:20260419T221432Z
DTSTART;TZID=Europe/Berlin:20250202T173000
DTEND;TZID=Europe/Berlin:20250202T190000
SUMMARY:Bezirksoberliga  TSV Ottobeuren vs SC Weßling (83)
UID:4281e15d-1a0f-4244-bcb0-d435fe034136
STATUS:CONFIRMED
LAST-MODIFIED:20250203T101128Z
DESCRIPTION:Bezirksoberliga Frauen\nBegegnungs-Nr: 83\nHeim: TSV Ottobeuren\nGast: SC Weßling\nHalle: Ottobeuren\, Schulzentrum  (270306)\nAdresse: Bergstrasse 80\, 87724 Ottobeuren \n
LOCATION:Ottobeuren\, Schulzentrum  (270306): Bergstrasse 80\, 87724 Ottobeuren 
CATEGORIES:Saison 2024/25
END:VEVENT
BEGIN:VEVENT
DTSTAMP:20260419T221432Z
DTSTART;TZID=Europe/Berlin:20250215T200000
DTEND;TZID=Europe/Berlin:20250215T213000
SUMMARY:Bezirksoberliga  TSV Ottobeuren vs TSV Murnau (94)
UID:877b576c-cd5b-47bc-8286-9c4eaece7dfa
STATUS:CONFIRMED
LAST-MODIFIED:20250216T100201Z
DESCRIPTION:Bezirksoberliga Frauen\nBegegnungs-Nr: 94\nHeim: TSV Ottobeuren\nGast: TSV Murnau\nHalle: Ottobeuren\, Schulzentrum  (270306)\nAdresse: Bergstrasse 80\, 87724 Ottobeuren \n
LOCATION:Ottobeuren\, Schulzentrum  (270306): Bergstrasse 80\, 87724 Ottobeuren 
CATEGORIES:Saison 2024/25
END:VEVENT
BEGIN:VEVENT
DTSTAMP:20260419T221432Z
DTSTART;TZID=Europe/Berlin:20250315T174500
DTEND;TZID=Europe/Berlin:20250315T191500
SUMMARY:Bezirksoberliga  TSV Ottobeuren vs TSV Landsberg (105)
UID:9479ed26-e577-47e9-aa5a-53d2a77814ea
STATUS:CONFIRMED
LAST-MODIFIED:20250316T090218Z
DESCRIPTION:Bezirksoberliga Frauen\nBegegnungs-Nr: 105\nHeim: TSV Ottobeuren\nGast: TSV Landsberg\nHalle: Ottobeuren\, Schulzentrum  (270306)\nAdresse: Bergstrasse 80\, 87724 Ottobeuren \n
LOCATION:Ottobeuren\, Schulzentrum  (270306): Bergstrasse 80\, 87724 Ottobeuren 
CATEGORIES:Saison 2024/25
END:VEVENT
BEGIN:VEVENT
DTSTAMP:20260419T221432Z
DTSTART;TZID=Europe/Berlin:20250405T160000
DTEND;TZID=Europe/Berlin:20250405T173000
SUMMARY:Bezirksoberliga  Eichenauer SV vs TSV Ottobeuren (121)
UID:496a483f-7935-4dbe-a2b2-1a1379ac4c03
STATUS:CONFIRMED
LAST-MODIFIED:20250406T080716Z
DESCRIPTION:Bezirksoberliga Frauen\nBegegnungs-Nr: 121\nHeim: Eichenauer SV\nGast: TSV Ottobeuren\nHalle: Eichenau\, Sporthalle Budrio-Allee (270080)\nAdresse: Budrioallee\, 82223 Eichenau\n
LOCATION:Eichenau\, Sporthalle Budrio-Allee (270080): Budrioallee\, 82223 Eichenau
CATEGORIES:Saison 2024/25
END:VEVENT
BEGIN:VEVENT
DTSTAMP:20260419T221432Z
DTSTART;TZID=Europe/Berlin:20250209T130000
DTEND;TZID=Europe/Berlin:20250209T143000
SUMMARY:Bezirksoberliga  TV Immenstadt vs TSV Ottobeuren (88)
UID:5eabe1fc-8c02-4123-a2d4-2e379b2f222d
STATUS:CONFIRMED
LAST-MODIFIED:20250209T154441Z
DESCRIPTION:Bezirksoberliga Frauen\nBegegnungs-Nr: 88\nHeim: TV Immenstadt\nGast: TSV Ottobeuren\nHalle: Immenstadt\, Julius-Kunert-Halle (270160)\nAdresse: Allgäuer Str. 6\, 87509 Immenstadt\n
LOCATION:Immenstadt\, Julius-Kunert-Halle (270160): Allgäuer Str. 6\, 87509 Immenstadt
CATEGORIES:Saison 2024/25
END:VEVENT
BEGIN:VEVENT
DTSTAMP:20260419T221432Z
DTSTART;TZID=Europe/Berlin:20241005T194500
DTEND;TZID=Europe/Berlin:20241005T211500
SUMMARY:Bezirksoberliga  SC Weßling vs TSV Ottobeuren (17)
UID:e5f213c4-dfa5-42c6-b0e5-4a4034862a55
STATUS:CONFIRMED
LAST-MODIFIED:20241006T090241Z
DESCRIPTION:Bezirksoberliga Frauen\nBegegnungs-Nr: 17\nHeim: SC Weßling\nGast: TSV Ottobeuren\nHalle: Weßling\, Sporthalle am Meilinger Weg  (270463)\nAdresse: Meilinger Weg 24\, 82234 Weßling\n
LOCATION:Weßling\, Sporthalle am Meilinger Weg  (270463): Meilinger Weg 24\, 82234 Weßling
CATEGORIES:Saison 2024/25
END:VEVENT
BEGIN:VEVENT
DTSTAMP:20260419T221432Z
DTSTART;TZID=Europe/Berlin:20241102T160000
DTEND;TZID=Europe/Berlin:20241102T173000
SUMMARY:Bezirksoberliga  TSV Murnau vs TSV Ottobeuren (28)
UID:7de0e78a-7316-4816-9dc3-3ffc133104a1
STATUS:CONFIRMED
LAST-MODIFIED:20241102T171025Z
DESCRIPTION:Bezirksoberliga Frauen\nBegegnungs-Nr: 28\nHeim: TSV Murnau\nGast: TSV Ottobeuren\nHalle: Murnau\, Hans Burger (270226)\nAdresse: Poschinger Allee 8\, 82418 Murnau \n
LOCATION:Murnau\, Hans Burger (270226): Poschinger Allee 8\, 82418 Murnau 
CATEGORIES:Saison 2024/25
END:VEVENT
BEGIN:VEVENT
DTSTAMP:20260419T221432Z
DTSTART;TZID=Europe/Berlin:20250118T171500
DTEND;TZID=Europe/Berlin:20250118T184500
SUMMARY:Bezirksoberliga  TSV Weilheim vs TSV Ottobeuren (72)
UID:9bd307e6-7b02-484e-8189-e099234a75fb
STATUS:CONFIRMED
LAST-MODIFIED:20250119T100212Z
DESCRIPTION:Bezirksoberliga Frauen\nBegegnungs-Nr: 72\nHeim: TSV Weilheim\nGast: TSV Ottobeuren\nHalle: Weilheim\, Jahnhalle  (270461)\nAdresse: Jahnstrasse 2\, 82362 Weilheim\n
LOCATION:Weilheim\, Jahnhalle  (270461): Jahnstrasse 2\, 82362 Weilheim
CATEGORIES:Saison 2024/25
END:VEVENT
BEGIN:VEVENT
DTSTAMP:20260419T221432Z
DTSTART;TZID=Europe/Berlin:20241117T150000
DTEND;TZID=Europe/Berlin:20241117T163000
SUMMARY:Bezirksoberliga  TSV Landsberg vs TSV Ottobeuren (39)
UID:ff97023c-fbbc-4ec1-9221-1ec270b9360a
STATUS:CONFIRMED
LAST-MODIFIED:20241117T171236Z
DESCRIPTION:Bezirksoberliga Frauen\nBegegnungs-Nr: 39\nHeim: TSV Landsberg\nGast: TSV Ottobeuren\nHalle: Landsberg\, Isidor-Hipper-Strasse (270202)\nAdresse: Isidor-Hipper-Strasse 2\, 86899  Landsberg\n
LOCATION:Landsberg\, Isidor-Hipper-Strasse (270202): Isidor-Hipper-Strasse 2\, 86899  Landsberg
CATEGORIES:Saison 2024/25
END:VEVENT
BEGIN:VEVENT
DTSTAMP:20260419T221432Z
DTSTART;TZID=Europe/Berlin:20241026T180000
DTEND;TZID=Europe/Berlin:20241026T193000
SUMMARY:Bezirksoberliga  TV Waltenhofen vs TSV Ottobeuren (61)
UID:b25a6e78-6b73-40c1-8df3-b294a710d334
STATUS:CONFIRMED
LAST-MODIFIED:20241027T093700Z
DESCRIPTION:Bezirksoberliga Frauen\nBegegnungs-Nr: 61\nHeim: TV Waltenhofen\nGast: TSV Ottobeuren\nHalle: Waltenhofen\, Mehrzweckhalle  (270460)\nAdresse: Plabennecstr. 17\, 87448 Waltenhofen \n
LOCATION:Waltenhofen\, Mehrzweckhalle  (270460): Plabennecstr. 17\, 87448 Waltenhofen 
CATEGORIES:Saison 2024/25
END:VEVENT
BEGIN:VEVENT
DTSTAMP:20260419T221432Z
DTSTART;TZID=Europe/Berlin:20250125T170000
DTEND;TZID=Europe/Berlin:20250125T183000
SUMMARY:Bezirksoberliga  TSV Gilching vs TSV Ottobeuren (77)
UID:f599bff3-e425-4d7e-9833-a00dbf61a051
STATUS:CONFIRMED
LAST-MODIFIED:20250126T093303Z
DESCRIPTION:Bezirksoberliga Frauen\nBegegnungs-Nr: 77\nHeim: TSV Gilching\nGast: TSV Ottobeuren\nHalle: Gilching\, Rathaushalle  (270126)\nAdresse: Rathausstrasse 6\, 82205 Gilching\n
LOCATION:Gilching\, Rathaushalle  (270126): Rathausstrasse 6\, 82205 Gilching
CATEGORIES:Saison 2024/25
END:VEVENT
BEGIN:VEVENT
DTSTAMP:20260419T221432Z
DTSTART;TZID=Europe/Berlin:20250222T180000
DTEND;TZID=Europe/Berlin:20250222T193000
SUMMARY:Bezirksoberliga  SG Biessenhofen-Marktoberdorf vs TSV Ottobeuren (99)
UID:e96993f4-73be-4613-bb6e-79753d828666
STATUS:CONFIRMED
LAST-MODIFIED:20250223T131216Z
DESCRIPTION:Bezirksoberliga Frauen\nBegegnungs-Nr: 99\nHeim: SG Biessenhofen-Marktoberdorf\nGast: TSV Ottobeuren\nHalle: Marktoberdorf\, Hauptschule  (270220)\nAdresse: Mühlsteig\, 87616 Marktoberdorf\n
LOCATION:Marktoberdorf\, Hauptschule  (270220): Mühlsteig\, 87616 Marktoberdorf
CATEGORIES:Saison 2024/25
END:VEVENT
BEGIN:VEVENT
DTSTAMP:20260419T221432Z
DTSTART;TZID=Europe/Berlin:20250322T180000
DTEND;TZID=Europe/Berlin:20250322T193000
SUMMARY:Bezirksoberliga  BSC Oberhausen vs TSV Ottobeuren (110)
UID:a3dfe31e-4269-46ef-bdec-6e41c815090b
STATUS:CONFIRMED
LAST-MODIFIED:20250323T104855Z
DESCRIPTION:Bezirksoberliga Frauen\nBegegnungs-Nr: 110\nHeim: BSC Oberhausen\nGast: TSV Ottobeuren\nHalle: Huglfing\, Sporthalle an der Seeleite  (270141)\nAdresse: Seeleite \, 82386  Huglfing\n
LOCATION:Huglfing\, Sporthalle an der Seeleite  (270141): Seeleite \, 82386  Huglfing
CATEGORIES:Saison 2024/25
END:VEVENT
END:VCALENDAR
