BEGIN:VCALENDAR
PRODID:-//nuDatenautomaten//framework iCal4j //DE
VERSION:2.0
CALSCALE:GREGORIAN
BEGIN:VTIMEZONE
TZID:Europe/Berlin
LAST-MODIFIED:20260306T231828Z
TZURL:https://www.tzurl.org/zoneinfo/Europe/Berlin
X-LIC-LOCATION:Europe/Berlin
X-PROLEPTIC-TZNAME:LMT
BEGIN:STANDARD
TZNAME:CET
TZOFFSETFROM:+005328
TZOFFSETTO:+0100
DTSTART:18930401T000000
END:STANDARD
BEGIN:DAYLIGHT
TZNAME:CEST
TZOFFSETFROM:+0100
TZOFFSETTO:+0200
DTSTART:19160430T230000
RDATE:19400401T020000
RDATE:19430329T020000
RDATE:19460414T020000
RDATE:19470406T030000
RDATE:19480418T020000
RDATE:19490410T020000
RDATE:19800406T020000
END:DAYLIGHT
BEGIN:STANDARD
TZNAME:CET
TZOFFSETFROM:+0200
TZOFFSETTO:+0100
DTSTART:19161001T010000
RDATE:19421102T030000
RDATE:19431004T030000
RDATE:19441002T030000
RDATE:19451118T030000
RDATE:19461007T030000
END:STANDARD
BEGIN:DAYLIGHT
TZNAME:CEST
TZOFFSETFROM:+0100
TZOFFSETTO:+0200
DTSTART:19170416T020000
RRULE:FREQ=YEARLY;UNTIL=19180415T010000Z;BYMONTH=4;BYDAY=3MO
END:DAYLIGHT
BEGIN:STANDARD
TZNAME:CET
TZOFFSETFROM:+0200
TZOFFSETTO:+0100
DTSTART:19170917T030000
RRULE:FREQ=YEARLY;UNTIL=19180916T010000Z;BYMONTH=9;BYDAY=3MO
END:STANDARD
BEGIN:DAYLIGHT
TZNAME:CEST
TZOFFSETFROM:+0100
TZOFFSETTO:+0200
DTSTART:19440403T020000
RRULE:FREQ=YEARLY;UNTIL=19450402T010000Z;BYMONTH=4;BYDAY=1MO
END:DAYLIGHT
BEGIN:DAYLIGHT
TZNAME:CEMT
TZOFFSETFROM:+0200
TZOFFSETTO:+0300
DTSTART:19450524T020000
RDATE:19470511T030000
END:DAYLIGHT
BEGIN:DAYLIGHT
TZNAME:CEST
TZOFFSETFROM:+0300
TZOFFSETTO:+0200
DTSTART:19450924T030000
RDATE:19470629T030000
END:DAYLIGHT
BEGIN:STANDARD
TZNAME:CET
TZOFFSETFROM:+0100
TZOFFSETTO:+0100
DTSTART:19460101T000000
RDATE:19800101T000000
END:STANDARD
BEGIN:STANDARD
TZNAME:CET
TZOFFSETFROM:+0200
TZOFFSETTO:+0100
DTSTART:19471005T030000
RRULE:FREQ=YEARLY;UNTIL=19491002T010000Z;BYMONTH=10;BYDAY=1SU
END:STANDARD
BEGIN:STANDARD
TZNAME:CET
TZOFFSETFROM:+0200
TZOFFSETTO:+0100
DTSTART:19800928T030000
RRULE:FREQ=YEARLY;UNTIL=19950924T010000Z;BYMONTH=9;BYDAY=-1SU
END:STANDARD
BEGIN:DAYLIGHT
TZNAME:CEST
TZOFFSETFROM:+0100
TZOFFSETTO:+0200
DTSTART:19810329T020000
RRULE:FREQ=YEARLY;BYMONTH=3;BYDAY=-1SU
END:DAYLIGHT
BEGIN:STANDARD
TZNAME:CET
TZOFFSETFROM:+0200
TZOFFSETTO:+0100
DTSTART:19961027T030000
RRULE:FREQ=YEARLY;BYMONTH=10;BYDAY=-1SU
END:STANDARD
END:VTIMEZONE
BEGIN:VEVENT
DTSTAMP:20260423T010926Z
DTSTART;TZID=Europe/Berlin:20250215T170000
DTEND;TZID=Europe/Berlin:20250215T180000
SUMMARY:Regionsoberliga MJB  HSG Bentheim/Gildehaus vs SV Rot-Weiß Damme (908355)
UID:29526c71-9a1b-4c7c-ae80-fea14e749ce8
STATUS:CONFIRMED
LAST-MODIFIED:20250219T091224Z
DESCRIPTION:Regionsoberliga MJB\nBegegnungs-Nr: 908355\nHeim: HSG Bentheim/Gildehaus\nGast: SV Rot-Weiß Damme\nHalle: Bad Bentheim\, Schürkamphalle  (803102)\nAdresse: Schürkamp\, 48455 Bad Bentheim\n
LOCATION:Bad Bentheim\, Schürkamphalle  (803102): Schürkamp\, 48455 Bad Bentheim
CATEGORIES:Saison 2024/25
END:VEVENT
BEGIN:VEVENT
DTSTAMP:20260423T010926Z
DTSTART;TZID=Europe/Berlin:20250331T180000
DTEND;TZID=Europe/Berlin:20250331T190000
SUMMARY:Regionsoberliga MJB  HSG Bentheim/Gildehaus vs SV Dalum (908362)
UID:bbf6ddbf-b4ae-41a1-881d-6681f0de97a9
STATUS:CONFIRMED
LAST-MODIFIED:20250401T083213Z
DESCRIPTION:Regionsoberliga MJB\nBegegnungs-Nr: 908362\nHeim: HSG Bentheim/Gildehaus\nGast: SV Dalum\nHalle: Bad Bentheim\, Schürkamphalle  (803102)\nAdresse: Schürkamp\, 48455 Bad Bentheim\n
LOCATION:Bad Bentheim\, Schürkamphalle  (803102): Schürkamp\, 48455 Bad Bentheim
CATEGORIES:Saison 2024/25
END:VEVENT
BEGIN:VEVENT
DTSTAMP:20260423T010926Z
DTSTART;TZID=Europe/Berlin:20250125T160000
DTEND;TZID=Europe/Berlin:20250125T170000
SUMMARY:Regionsoberliga MJB  HSG Bentheim/Gildehaus vs SV Concordia Belm-Powe e.V. (908347)
UID:24100884-6791-4087-9bf9-e34357f94e5e
STATUS:CONFIRMED
LAST-MODIFIED:20250128T083725Z
DESCRIPTION:Regionsoberliga MJB\nBegegnungs-Nr: 908347\nHeim: HSG Bentheim/Gildehaus\nGast: SV Concordia Belm-Powe e.V.\nHalle: Bad Bentheim\, Schürkamphalle  (803102)\nAdresse: Schürkamp\, 48455 Bad Bentheim\n
LOCATION:Bad Bentheim\, Schürkamphalle  (803102): Schürkamp\, 48455 Bad Bentheim
CATEGORIES:Saison 2024/25
END:VEVENT
BEGIN:VEVENT
DTSTAMP:20260423T010926Z
DTSTART;TZID=Europe/Berlin:20241130T180000
DTEND;TZID=Europe/Berlin:20241130T190000
SUMMARY:Regionsoberliga MJB  HSG Bentheim/Gildehaus vs HSG Nordhorn e.V. II (908330)
UID:390a125a-9434-4a41-ae6c-c209c042064d
STATUS:CONFIRMED
LAST-MODIFIED:20241205T080150Z
DESCRIPTION:Regionsoberliga MJB\nBegegnungs-Nr: 908330\nHeim: HSG Bentheim/Gildehaus\nGast: HSG Nordhorn e.V. II\nHalle: Bad Bentheim\, Schürkamphalle  (803102)\nAdresse: Schürkamp\, 48455 Bad Bentheim\n
LOCATION:Bad Bentheim\, Schürkamphalle  (803102): Schürkamp\, 48455 Bad Bentheim
CATEGORIES:Saison 2024/25
END:VEVENT
BEGIN:VEVENT
DTSTAMP:20260423T010926Z
DTSTART;TZID=Europe/Berlin:20250111T120000
DTEND;TZID=Europe/Berlin:20250111T130000
SUMMARY:Regionsoberliga MJB  HSG Bentheim/Gildehaus vs THC Westerkappeln (908338)
UID:edc7d7e2-8277-4d44-9fe8-b4e033508b3a
STATUS:CONFIRMED
LAST-MODIFIED:20250115T080957Z
DESCRIPTION:Regionsoberliga MJB\nBegegnungs-Nr: 908338\nHeim: HSG Bentheim/Gildehaus\nGast: THC Westerkappeln\nHalle: Bad Bentheim\, Schürkamphalle  (803102)\nAdresse: Schürkamp\, 48455 Bad Bentheim\n
LOCATION:Bad Bentheim\, Schürkamphalle  (803102): Schürkamp\, 48455 Bad Bentheim
CATEGORIES:Saison 2024/25
END:VEVENT
BEGIN:VEVENT
DTSTAMP:20260423T010926Z
DTSTART;TZID=Europe/Berlin:20240928T130000
DTEND;TZID=Europe/Berlin:20240928T140000
SUMMARY:Regionsoberliga MJB  HSG Bentheim/Gildehaus vs VfL Bad Iburg (908312)
UID:1ad3257d-3386-42b0-8813-68c397f5b9c0
STATUS:CONFIRMED
LAST-MODIFIED:20241008T093651Z
DESCRIPTION:Regionsoberliga MJB\nBegegnungs-Nr: 908312\nHeim: HSG Bentheim/Gildehaus\nGast: VfL Bad Iburg\nHalle: Bad Bentheim\, Schürkamphalle  (803102)\nAdresse: Schürkamp\, 48455 Bad Bentheim\n
LOCATION:Bad Bentheim\, Schürkamphalle  (803102): Schürkamp\, 48455 Bad Bentheim
CATEGORIES:Saison 2024/25
END:VEVENT
BEGIN:VEVENT
DTSTAMP:20260423T010926Z
DTSTART;TZID=Europe/Berlin:20240913T170000
DTEND;TZID=Europe/Berlin:20240913T180000
SUMMARY:Regionsoberliga MJB  HSG Bentheim/Gildehaus vs SG Neuenhaus/Uelsen (908307)
UID:4f8ca7e1-925d-4da0-9a7a-260ebd41f57a
STATUS:CONFIRMED
LAST-MODIFIED:20240916T092025Z
DESCRIPTION:Regionsoberliga MJB\nBegegnungs-Nr: 908307\nHeim: HSG Bentheim/Gildehaus\nGast: SG Neuenhaus/Uelsen\nHalle: Bad Bentheim\, Schürkamphalle  (803102)\nAdresse: Schürkamp\, 48455 Bad Bentheim\n
LOCATION:Bad Bentheim\, Schürkamphalle  (803102): Schürkamp\, 48455 Bad Bentheim
CATEGORIES:Saison 2024/25
END:VEVENT
BEGIN:VEVENT
DTSTAMP:20260423T010926Z
DTSTART;TZID=Europe/Berlin:20250426T160000
DTEND;TZID=Europe/Berlin:20250426T170000
SUMMARY:Regionsoberliga MJB  HSG Bentheim/Gildehaus vs TuS Lemförde (908371)
UID:2601d77e-3483-4673-9cc8-510df8b192d3
STATUS:CONFIRMED
LAST-MODIFIED:20250429T080120Z
DESCRIPTION:Regionsoberliga MJB\nBegegnungs-Nr: 908371\nHeim: HSG Bentheim/Gildehaus\nGast: TuS Lemförde\nHalle: Bad Bentheim\, Schürkamphalle  (803102)\nAdresse: Schürkamp\, 48455 Bad Bentheim\n
LOCATION:Bad Bentheim\, Schürkamphalle  (803102): Schürkamp\, 48455 Bad Bentheim
CATEGORIES:Saison 2024/25
END:VEVENT
BEGIN:VEVENT
DTSTAMP:20260423T010926Z
DTSTART;TZID=Europe/Berlin:20250118T174500
DTEND;TZID=Europe/Berlin:20250118T184500
SUMMARY:Regionsoberliga MJB  SG Neuenhaus/Uelsen vs HSG Bentheim/Gildehaus (908343)
UID:a7a1eb40-bd39-4d10-b206-de0669c0cb3c
STATUS:CONFIRMED
LAST-MODIFIED:20250121T095216Z
DESCRIPTION:Regionsoberliga MJB\nBegegnungs-Nr: 908343\nHeim: SG Neuenhaus/Uelsen\nGast: HSG Bentheim/Gildehaus\nHalle: Sportzentrum DinkelDuo Neuenhaus (803178)\nAdresse: Schulstraße 6\, 49828 Neuenhaus\n
LOCATION:Sportzentrum DinkelDuo Neuenhaus (803178): Schulstraße 6\, 49828 Neuenhaus
CATEGORIES:Saison 2024/25
END:VEVENT
BEGIN:VEVENT
DTSTAMP:20260423T010926Z
DTSTART;TZID=Europe/Berlin:20241208T152000
DTEND;TZID=Europe/Berlin:20241208T162000
SUMMARY:Regionsoberliga MJB  TuS Lemförde vs HSG Bentheim/Gildehaus (908336)
UID:1de885b8-f04b-493f-a0bd-1e5b6378c49b
STATUS:CONFIRMED
LAST-MODIFIED:20241211T083449Z
DESCRIPTION:Regionsoberliga MJB\nBegegnungs-Nr: 908336\nHeim: TuS Lemförde\nGast: HSG Bentheim/Gildehaus\nHalle:  Lemförde\, SZ (809143)\nAdresse: Stettiner Str. 35\, 49448 Lemförde\n
LOCATION: Lemförde\, SZ (809143): Stettiner Str. 35\, 49448 Lemförde
CATEGORIES:Saison 2024/25
END:VEVENT
BEGIN:VEVENT
DTSTAMP:20260423T010926Z
DTSTART;TZID=Europe/Berlin:20250320T190000
DTEND;TZID=Europe/Berlin:20250320T200000
SUMMARY:Regionsoberliga MJB  VfL Bad Iburg vs HSG Bentheim/Gildehaus (908350)
UID:91e9bcc7-0fb0-47c8-8344-10984296c76f
STATUS:CONFIRMED
LAST-MODIFIED:20250325T100803Z
DESCRIPTION:Regionsoberliga MJB\nBegegnungs-Nr: 908350\nHeim: VfL Bad Iburg\nGast: HSG Bentheim/Gildehaus\nHalle: Bad Iburg\, Schulzentrum Halle 1 (808129)\nAdresse: Bielefelder Str. 15\, 49186 Bad Iburg\n
LOCATION:Bad Iburg\, Schulzentrum Halle 1 (808129): Bielefelder Str. 15\, 49186 Bad Iburg
CATEGORIES:Saison 2024/25
END:VEVENT
BEGIN:VEVENT
DTSTAMP:20260423T010926Z
DTSTART;TZID=Europe/Berlin:20250322T154500
DTEND;TZID=Europe/Berlin:20250322T164500
SUMMARY:Regionsoberliga MJB  HSG Nordhorn e.V. II vs HSG Bentheim/Gildehaus (908366)
UID:b41c5e41-5251-4cd7-ad30-e827d778099a
STATUS:CONFIRMED
LAST-MODIFIED:20250325T100843Z
DESCRIPTION:Regionsoberliga MJB\nBegegnungs-Nr: 908366\nHeim: HSG Nordhorn e.V. II\nGast: HSG Bentheim/Gildehaus\nHalle: Nordhorn\, KSH 3 Euregium  (803137)\nAdresse: Wilhelm-Raabe-Str.  15\, 48527 Nordhorn\n
LOCATION:Nordhorn\, KSH 3 Euregium  (803137): Wilhelm-Raabe-Str.  15\, 48527 Nordhorn
CATEGORIES:Saison 2024/25
END:VEVENT
BEGIN:VEVENT
DTSTAMP:20260423T010926Z
DTSTART;TZID=Europe/Berlin:20241005T143000
DTEND;TZID=Europe/Berlin:20241005T153000
SUMMARY:Regionsoberliga MJB  THC Westerkappeln vs HSG Bentheim/Gildehaus (908316)
UID:eea5c867-062f-48eb-a450-1c54b53d3508
STATUS:CONFIRMED
LAST-MODIFIED:20241008T093858Z
DESCRIPTION:Regionsoberliga MJB\nBegegnungs-Nr: 908316\nHeim: THC Westerkappeln\nGast: HSG Bentheim/Gildehaus\nHalle: Westerkappeln\, SH  (808177)\nAdresse: Osnabrücker Straße\, 49492 Westerkappeln\n
LOCATION:Westerkappeln\, SH  (808177): Osnabrücker Straße\, 49492 Westerkappeln
CATEGORIES:Saison 2024/25
END:VEVENT
BEGIN:VEVENT
DTSTAMP:20260423T010926Z
DTSTART;TZID=Europe/Berlin:20241026T171500
DTEND;TZID=Europe/Berlin:20241026T181500
SUMMARY:Regionsoberliga MJB  SV Rot-Weiß Damme vs HSG Bentheim/Gildehaus (908318)
UID:107bc004-41b5-435c-b5e2-fde271f539de
STATUS:CONFIRMED
LAST-MODIFIED:20241030T090442Z
DESCRIPTION:Regionsoberliga MJB\nBegegnungs-Nr: 908318\nHeim: SV Rot-Weiß Damme\nGast: HSG Bentheim/Gildehaus\nHalle: Damme\, HS  (809105)\nAdresse: Schützenstraße 1\, 49401 Damme\n
LOCATION:Damme\, HS  (809105): Schützenstraße 1\, 49401 Damme
CATEGORIES:Saison 2024/25
END:VEVENT
BEGIN:VEVENT
DTSTAMP:20260423T010926Z
DTSTART;TZID=Europe/Berlin:20240922T130000
DTEND;TZID=Europe/Berlin:20240922T140000
SUMMARY:Regionsoberliga MJB  SV Concordia Belm-Powe e.V. vs HSG Bentheim/Gildehaus (908309)
UID:0cacc31c-f674-4c55-b80d-f5b9a9a1a62c
STATUS:CONFIRMED
LAST-MODIFIED:20241008T093232Z
DESCRIPTION:Regionsoberliga MJB\nBegegnungs-Nr: 908309\nHeim: SV Concordia Belm-Powe e.V.\nGast: HSG Bentheim/Gildehaus\nHalle:  Belm\, Sportzentrum Belm (808122)\nAdresse: Heideweg 25\, 49191 Belm\n
LOCATION: Belm\, Sportzentrum Belm (808122): Heideweg 25\, 49191 Belm
CATEGORIES:Saison 2024/25
END:VEVENT
BEGIN:VEVENT
DTSTAMP:20260423T010926Z
DTSTART;TZID=Europe/Berlin:20241117T170000
DTEND;TZID=Europe/Berlin:20241117T180000
SUMMARY:Regionsoberliga MJB  SV Dalum vs HSG Bentheim/Gildehaus (908326)
UID:158356b2-fb2f-46c3-86d7-3f266d556470
STATUS:CONFIRMED
LAST-MODIFIED:20241119T112310Z
DESCRIPTION:Regionsoberliga MJB\nBegegnungs-Nr: 908326\nHeim: SV Dalum\nGast: HSG Bentheim/Gildehaus\nHalle: Geeste-Dalum\, SH  (803105)\nAdresse: Am Rathaus/Neuer Diek\, 49744 Geeste (OT Dalum)\n
LOCATION:Geeste-Dalum\, SH  (803105): Am Rathaus/Neuer Diek\, 49744 Geeste (OT Dalum)
CATEGORIES:Saison 2024/25
END:VEVENT
END:VCALENDAR
