BEGIN:VCALENDAR
PRODID:-//nuDatenautomaten//framework iCal4j //DE
VERSION:2.0
CALSCALE:GREGORIAN
BEGIN:VTIMEZONE
TZID:Europe/Berlin
LAST-MODIFIED:20260306T231828Z
TZURL:https://www.tzurl.org/zoneinfo/Europe/Berlin
X-LIC-LOCATION:Europe/Berlin
X-PROLEPTIC-TZNAME:LMT
BEGIN:STANDARD
TZNAME:CET
TZOFFSETFROM:+005328
TZOFFSETTO:+0100
DTSTART:18930401T000000
END:STANDARD
BEGIN:DAYLIGHT
TZNAME:CEST
TZOFFSETFROM:+0100
TZOFFSETTO:+0200
DTSTART:19160430T230000
RDATE:19400401T020000
RDATE:19430329T020000
RDATE:19460414T020000
RDATE:19470406T030000
RDATE:19480418T020000
RDATE:19490410T020000
RDATE:19800406T020000
END:DAYLIGHT
BEGIN:STANDARD
TZNAME:CET
TZOFFSETFROM:+0200
TZOFFSETTO:+0100
DTSTART:19161001T010000
RDATE:19421102T030000
RDATE:19431004T030000
RDATE:19441002T030000
RDATE:19451118T030000
RDATE:19461007T030000
END:STANDARD
BEGIN:DAYLIGHT
TZNAME:CEST
TZOFFSETFROM:+0100
TZOFFSETTO:+0200
DTSTART:19170416T020000
RRULE:FREQ=YEARLY;UNTIL=19180415T010000Z;BYMONTH=4;BYDAY=3MO
END:DAYLIGHT
BEGIN:STANDARD
TZNAME:CET
TZOFFSETFROM:+0200
TZOFFSETTO:+0100
DTSTART:19170917T030000
RRULE:FREQ=YEARLY;UNTIL=19180916T010000Z;BYMONTH=9;BYDAY=3MO
END:STANDARD
BEGIN:DAYLIGHT
TZNAME:CEST
TZOFFSETFROM:+0100
TZOFFSETTO:+0200
DTSTART:19440403T020000
RRULE:FREQ=YEARLY;UNTIL=19450402T010000Z;BYMONTH=4;BYDAY=1MO
END:DAYLIGHT
BEGIN:DAYLIGHT
TZNAME:CEMT
TZOFFSETFROM:+0200
TZOFFSETTO:+0300
DTSTART:19450524T020000
RDATE:19470511T030000
END:DAYLIGHT
BEGIN:DAYLIGHT
TZNAME:CEST
TZOFFSETFROM:+0300
TZOFFSETTO:+0200
DTSTART:19450924T030000
RDATE:19470629T030000
END:DAYLIGHT
BEGIN:STANDARD
TZNAME:CET
TZOFFSETFROM:+0100
TZOFFSETTO:+0100
DTSTART:19460101T000000
RDATE:19800101T000000
END:STANDARD
BEGIN:STANDARD
TZNAME:CET
TZOFFSETFROM:+0200
TZOFFSETTO:+0100
DTSTART:19471005T030000
RRULE:FREQ=YEARLY;UNTIL=19491002T010000Z;BYMONTH=10;BYDAY=1SU
END:STANDARD
BEGIN:STANDARD
TZNAME:CET
TZOFFSETFROM:+0200
TZOFFSETTO:+0100
DTSTART:19800928T030000
RRULE:FREQ=YEARLY;UNTIL=19950924T010000Z;BYMONTH=9;BYDAY=-1SU
END:STANDARD
BEGIN:DAYLIGHT
TZNAME:CEST
TZOFFSETFROM:+0100
TZOFFSETTO:+0200
DTSTART:19810329T020000
RRULE:FREQ=YEARLY;BYMONTH=3;BYDAY=-1SU
END:DAYLIGHT
BEGIN:STANDARD
TZNAME:CET
TZOFFSETFROM:+0200
TZOFFSETTO:+0100
DTSTART:19961027T030000
RRULE:FREQ=YEARLY;BYMONTH=10;BYDAY=-1SU
END:STANDARD
END:VTIMEZONE
BEGIN:VEVENT
DTSTAMP:20260423T135716Z
DTSTART;TZID=Europe/Berlin:20250125T134500
DTEND;TZID=Europe/Berlin:20250125T144500
SUMMARY:Regionsoberliga WC Mitte TSV Wietzendorf vs MTV Schwarmstedt (60)
UID:640c483e-c73f-48b5-8aa0-0e3932a8cbbf
STATUS:CONFIRMED
LAST-MODIFIED:20250128T175315Z
DESCRIPTION:Regionsoberliga weibliche Jugend C Mitte\nBegegnungs-Nr: 60\nHeim: TSV Wietzendorf\nGast: MTV Schwarmstedt\nHalle: Wietzendorf\, SH (607116)\nAdresse: Kampstraße\, 29649 Wietzendorf\n
LOCATION:Wietzendorf\, SH (607116): Kampstraße\, 29649 Wietzendorf
CATEGORIES:Saison 2024/25
END:VEVENT
BEGIN:VEVENT
DTSTAMP:20260423T135716Z
DTSTART;TZID=Europe/Berlin:20250223T120000
DTEND;TZID=Europe/Berlin:20250223T130000
SUMMARY:Regionsoberliga WC Mitte TSV Wietzendorf vs SG Adendorf/Scharnebeck (69)
UID:b65107c2-8698-4fc0-9078-cee46830f876
STATUS:CONFIRMED
LAST-MODIFIED:20250225T130019Z
DESCRIPTION:Regionsoberliga weibliche Jugend C Mitte\nBegegnungs-Nr: 69\nHeim: TSV Wietzendorf\nGast: SG Adendorf/Scharnebeck\nHalle: Wietzendorf\, SH (607116)\nAdresse: Kampstraße\, 29649 Wietzendorf\n
LOCATION:Wietzendorf\, SH (607116): Kampstraße\, 29649 Wietzendorf
CATEGORIES:Saison 2024/25
END:VEVENT
BEGIN:VEVENT
DTSTAMP:20260423T135716Z
DTSTART;TZID=Europe/Berlin:20250216T161500
DTEND;TZID=Europe/Berlin:20250216T171500
SUMMARY:Regionsoberliga WC Mitte TSV Wietzendorf vs HSG Lohheide (65)
UID:493f8285-1f49-4971-a1f2-90316966f5dd
STATUS:CONFIRMED
LAST-MODIFIED:20250220T070429Z
DESCRIPTION:Regionsoberliga weibliche Jugend C Mitte\nBegegnungs-Nr: 65\nHeim: TSV Wietzendorf\nGast: HSG Lohheide\nHalle: Wietzendorf\, SH (607116)\nAdresse: Kampstraße\, 29649 Wietzendorf\n
LOCATION:Wietzendorf\, SH (607116): Kampstraße\, 29649 Wietzendorf
CATEGORIES:Saison 2024/25
END:VEVENT
BEGIN:VEVENT
DTSTAMP:20260423T135716Z
DTSTART;TZID=Europe/Berlin:20241215T133000
DTEND;TZID=Europe/Berlin:20241215T143000
SUMMARY:Regionsoberliga WC Mitte TSV Wietzendorf vs HSG Elbmarsch (38)
UID:57a3eb7a-5a36-4a72-954b-f3cca4288d83
STATUS:CONFIRMED
LAST-MODIFIED:20241220T122054Z
DESCRIPTION:Regionsoberliga weibliche Jugend C Mitte\nBegegnungs-Nr: 38\nHeim: TSV Wietzendorf\nGast: HSG Elbmarsch\nHalle: Wietzendorf\, SH (607116)\nAdresse: Kampstraße\, 29649 Wietzendorf\n
LOCATION:Wietzendorf\, SH (607116): Kampstraße\, 29649 Wietzendorf
CATEGORIES:Saison 2024/25
END:VEVENT
BEGIN:VEVENT
DTSTAMP:20260423T135716Z
DTSTART;TZID=Europe/Berlin:20250329T154500
DTEND;TZID=Europe/Berlin:20250329T164500
SUMMARY:Regionsoberliga WC Mitte TSV Wietzendorf vs HSG Heidmark II (89)
UID:9c12959a-0db8-4a70-a640-294da685ab99
STATUS:CONFIRMED
LAST-MODIFIED:20250330T082936Z
DESCRIPTION:Regionsoberliga weibliche Jugend C Mitte\nBegegnungs-Nr: 89\nHeim: TSV Wietzendorf\nGast: HSG Heidmark II\nHalle: Wietzendorf\, SH (607116)\nAdresse: Kampstraße\, 29649 Wietzendorf\n
LOCATION:Wietzendorf\, SH (607116): Kampstraße\, 29649 Wietzendorf
CATEGORIES:Saison 2024/25
END:VEVENT
BEGIN:VEVENT
DTSTAMP:20260423T135716Z
DTSTART;TZID=Europe/Berlin:20240914T123000
DTEND;TZID=Europe/Berlin:20240914T133000
SUMMARY:Regionsoberliga WC Mitte TSV Wietzendorf vs TV Jahn Schneverdingen (4)
UID:7f732a53-37b9-492f-9c44-ec4e92a05df6
STATUS:CONFIRMED
LAST-MODIFIED:20240917T171825Z
DESCRIPTION:Regionsoberliga weibliche Jugend C Mitte\nBegegnungs-Nr: 4\nHeim: TSV Wietzendorf\nGast: TV Jahn Schneverdingen\nHalle: Wietzendorf\, SH (607116)\nAdresse: Kampstraße\, 29649 Wietzendorf\n
LOCATION:Wietzendorf\, SH (607116): Kampstraße\, 29649 Wietzendorf
CATEGORIES:Saison 2024/25
END:VEVENT
BEGIN:VEVENT
DTSTAMP:20260423T135716Z
DTSTART;TZID=Europe/Berlin:20250316T143000
DTEND;TZID=Europe/Berlin:20250316T153000
SUMMARY:Regionsoberliga WC Mitte TSV Wietzendorf vs TuS Jahn Hollenstedt (77)
UID:7bd4282a-33fc-447f-a025-f81c35267cf5
STATUS:CONFIRMED
LAST-MODIFIED:20250320T111647Z
DESCRIPTION:Regionsoberliga weibliche Jugend C Mitte\nBegegnungs-Nr: 77\nHeim: TSV Wietzendorf\nGast: TuS Jahn Hollenstedt\nHalle: Wietzendorf\, SH (607116)\nAdresse: Kampstraße\, 29649 Wietzendorf\n
LOCATION:Wietzendorf\, SH (607116): Kampstraße\, 29649 Wietzendorf
CATEGORIES:Saison 2024/25
END:VEVENT
BEGIN:VEVENT
DTSTAMP:20260423T135716Z
DTSTART;TZID=Europe/Berlin:20241117T173000
DTEND;TZID=Europe/Berlin:20241117T183000
SUMMARY:Regionsoberliga WC Mitte TSV Wietzendorf vs JMSG Gellersen/Lüneburg (26)
UID:535e2448-774d-4f3e-866e-c3208065a982
STATUS:CONFIRMED
LAST-MODIFIED:20241119T174458Z
DESCRIPTION:Regionsoberliga weibliche Jugend C Mitte\nBegegnungs-Nr: 26\nHeim: TSV Wietzendorf\nGast: JMSG Gellersen/Lüneburg\nHalle: Wietzendorf\, SH (607116)\nAdresse: Kampstraße\, 29649 Wietzendorf\n
LOCATION:Wietzendorf\, SH (607116): Kampstraße\, 29649 Wietzendorf
CATEGORIES:Saison 2024/25
END:VEVENT
BEGIN:VEVENT
DTSTAMP:20260423T135716Z
DTSTART;TZID=Europe/Berlin:20241103T114500
DTEND;TZID=Europe/Berlin:20241103T124500
SUMMARY:Regionsoberliga WC Mitte SG Adendorf/Scharnebeck vs TSV Wietzendorf (24)
UID:b577d4af-42c9-467e-aa5b-acf81bddaf37
STATUS:CONFIRMED
LAST-MODIFIED:20241107T120340Z
DESCRIPTION:Regionsoberliga weibliche Jugend C Mitte\nBegegnungs-Nr: 24\nHeim: SG Adendorf/Scharnebeck\nGast: TSV Wietzendorf\nHalle: Adendorf\, SH Schulzentrum (605101)\nAdresse: Scharnebecker Weg\, 21365 Adendorf\n
LOCATION:Adendorf\, SH Schulzentrum (605101): Scharnebecker Weg\, 21365 Adendorf
CATEGORIES:Saison 2024/25
END:VEVENT
BEGIN:VEVENT
DTSTAMP:20260423T135716Z
DTSTART;TZID=Europe/Berlin:20250427T170000
DTEND;TZID=Europe/Berlin:20250427T180000
SUMMARY:Regionsoberliga WC Mitte JMSG Gellersen/Lüneburg vs TSV Wietzendorf (71)
UID:58f8dc0e-6bcb-4344-bd94-e78d700410ab
STATUS:CONFIRMED
LAST-MODIFIED:20250429T173827Z
DESCRIPTION:Regionsoberliga weibliche Jugend C Mitte\nBegegnungs-Nr: 71\nHeim: JMSG Gellersen/Lüneburg\nGast: TSV Wietzendorf\nHalle: Reppenstedt\, SH (605151)\nAdresse: Dachtmisser Straße\, 21391 Reppenstedt\n
LOCATION:Reppenstedt\, SH (605151): Dachtmisser Straße\, 21391 Reppenstedt
CATEGORIES:Saison 2024/25
END:VEVENT
BEGIN:VEVENT
DTSTAMP:20260423T135716Z
DTSTART;TZID=Europe/Berlin:20241208T110000
DTEND;TZID=Europe/Berlin:20241208T120000
SUMMARY:Regionsoberliga WC Mitte HSG Heidmark II vs TSV Wietzendorf (44)
UID:ed66fb69-355b-4d0c-a61c-7d04838667ad
STATUS:CONFIRMED
LAST-MODIFIED:20241213T145725Z
DESCRIPTION:Regionsoberliga weibliche Jugend C Mitte\nBegegnungs-Nr: 44\nHeim: HSG Heidmark II\nGast: TSV Wietzendorf\nHalle: Dorfmark\, Thormarcon-Arena (607124)\nAdresse: Justus von Liebig Str.\, 29683 Dorfmark\n
LOCATION:Dorfmark\, Thormarcon-Arena (607124): Justus von Liebig Str.\, 29683 Dorfmark
CATEGORIES:Saison 2024/25
END:VEVENT
BEGIN:VEVENT
DTSTAMP:20260423T135716Z
DTSTART;TZID=Europe/Berlin:20250111T130000
DTEND;TZID=Europe/Berlin:20250111T140000
SUMMARY:Regionsoberliga WC Mitte TV Jahn Schneverdingen vs TSV Wietzendorf (49)
UID:76d47767-53b4-4a2d-ac96-a0053c895810
STATUS:CONFIRMED
LAST-MODIFIED:20250115T163431Z
DESCRIPTION:Regionsoberliga weibliche Jugend C Mitte\nBegegnungs-Nr: 49\nHeim: TV Jahn Schneverdingen\nGast: TSV Wietzendorf\nHalle: Schneverdingen\, SH SZ (607109)\nAdresse: Am Timmerahde 32\, 29640 Schneverdingen\n
LOCATION:Schneverdingen\, SH SZ (607109): Am Timmerahde 32\, 29640 Schneverdingen
CATEGORIES:Saison 2024/25
END:VEVENT
BEGIN:VEVENT
DTSTAMP:20260423T135716Z
DTSTART;TZID=Europe/Berlin:20241026T140000
DTEND;TZID=Europe/Berlin:20241026T150000
SUMMARY:Regionsoberliga WC Mitte HSG Lohheide vs TSV Wietzendorf (20)
UID:a86b1151-7266-4c84-8470-5decff8cc164
STATUS:CONFIRMED
LAST-MODIFIED:20241027T105052Z
DESCRIPTION:Regionsoberliga weibliche Jugend C Mitte\nBegegnungs-Nr: 20\nHeim: HSG Lohheide\nGast: TSV Wietzendorf\nHalle: Bomlitz\, SH Schulzentrum (607102)\nAdresse: Am Hoop 15\, 29699 Bomlitz\n
LOCATION:Bomlitz\, SH Schulzentrum (607102): Am Hoop 15\, 29699 Bomlitz
CATEGORIES:Saison 2024/25
END:VEVENT
BEGIN:VEVENT
DTSTAMP:20260423T135716Z
DTSTART;TZID=Europe/Berlin:20241124T110000
DTEND;TZID=Europe/Berlin:20241124T120000
SUMMARY:Regionsoberliga WC Mitte TuS Jahn Hollenstedt vs TSV Wietzendorf (32)
UID:3200575f-fcbc-49db-819d-3196f872e7a1
STATUS:CONFIRMED
LAST-MODIFIED:20241126T083932Z
DESCRIPTION:Regionsoberliga weibliche Jugend C Mitte\nBegegnungs-Nr: 32\nHeim: TuS Jahn Hollenstedt\nGast: TSV Wietzendorf\nHalle: Hollenstedt\, Max-Schmeling-Hallen (Halle 2) (603135)\nAdresse: Jahnstraße\, 21279 Hollenstedt\n
LOCATION:Hollenstedt\, Max-Schmeling-Hallen (Halle 2) (603135): Jahnstraße\, 21279 Hollenstedt
CATEGORIES:Saison 2024/25
END:VEVENT
BEGIN:VEVENT
DTSTAMP:20260423T135716Z
DTSTART;TZID=Europe/Berlin:20250202T163000
DTEND;TZID=Europe/Berlin:20250202T173000
SUMMARY:Regionsoberliga WC Mitte MTV Schwarmstedt vs TSV Wietzendorf (15)
UID:683b7979-5b56-4183-bbcb-93a7ba8686c9
STATUS:CONFIRMED
LAST-MODIFIED:20250205T170224Z
DESCRIPTION:Regionsoberliga weibliche Jugend C Mitte\nBegegnungs-Nr: 15\nHeim: MTV Schwarmstedt\nGast: TSV Wietzendorf\nHalle: Schwarmstedt\, Wilhelm-Röpke-Schule (607111)\nAdresse: Am Schloonberg 9\, 29690 Schwarmstedt\n
LOCATION:Schwarmstedt\, Wilhelm-Röpke-Schule (607111): Am Schloonberg 9\, 29690 Schwarmstedt
CATEGORIES:Saison 2024/25
END:VEVENT
BEGIN:VEVENT
DTSTAMP:20260423T135716Z
DTSTART;TZID=Europe/Berlin:20250323T140000
DTEND;TZID=Europe/Berlin:20250323T150000
SUMMARY:Regionsoberliga WC Mitte HSG Elbmarsch vs TSV Wietzendorf (83)
UID:da23165b-0ee0-46ab-beee-22b562b7d34e
STATUS:CONFIRMED
LAST-MODIFIED:20250326T162235Z
DESCRIPTION:Regionsoberliga weibliche Jugend C Mitte\nBegegnungs-Nr: 83\nHeim: HSG Elbmarsch\nGast: TSV Wietzendorf\nHalle: Drage/Elbe\, Elbmarsch-SH (603105)\nAdresse: Stover Straße 76\, 21423 Drage/Elbe\n
LOCATION:Drage/Elbe\, Elbmarsch-SH (603105): Stover Straße 76\, 21423 Drage/Elbe
CATEGORIES:Saison 2024/25
END:VEVENT
END:VCALENDAR
