BEGIN:VCALENDAR
PRODID:-//nuDatenautomaten//framework iCal4j //DE
VERSION:2.0
CALSCALE:GREGORIAN
BEGIN:VTIMEZONE
TZID:Europe/Berlin
LAST-MODIFIED:20260306T231828Z
TZURL:https://www.tzurl.org/zoneinfo/Europe/Berlin
X-LIC-LOCATION:Europe/Berlin
X-PROLEPTIC-TZNAME:LMT
BEGIN:STANDARD
TZNAME:CET
TZOFFSETFROM:+005328
TZOFFSETTO:+0100
DTSTART:18930401T000000
END:STANDARD
BEGIN:DAYLIGHT
TZNAME:CEST
TZOFFSETFROM:+0100
TZOFFSETTO:+0200
DTSTART:19160430T230000
RDATE:19400401T020000
RDATE:19430329T020000
RDATE:19460414T020000
RDATE:19470406T030000
RDATE:19480418T020000
RDATE:19490410T020000
RDATE:19800406T020000
END:DAYLIGHT
BEGIN:STANDARD
TZNAME:CET
TZOFFSETFROM:+0200
TZOFFSETTO:+0100
DTSTART:19161001T010000
RDATE:19421102T030000
RDATE:19431004T030000
RDATE:19441002T030000
RDATE:19451118T030000
RDATE:19461007T030000
END:STANDARD
BEGIN:DAYLIGHT
TZNAME:CEST
TZOFFSETFROM:+0100
TZOFFSETTO:+0200
DTSTART:19170416T020000
RRULE:FREQ=YEARLY;UNTIL=19180415T010000Z;BYMONTH=4;BYDAY=3MO
END:DAYLIGHT
BEGIN:STANDARD
TZNAME:CET
TZOFFSETFROM:+0200
TZOFFSETTO:+0100
DTSTART:19170917T030000
RRULE:FREQ=YEARLY;UNTIL=19180916T010000Z;BYMONTH=9;BYDAY=3MO
END:STANDARD
BEGIN:DAYLIGHT
TZNAME:CEST
TZOFFSETFROM:+0100
TZOFFSETTO:+0200
DTSTART:19440403T020000
RRULE:FREQ=YEARLY;UNTIL=19450402T010000Z;BYMONTH=4;BYDAY=1MO
END:DAYLIGHT
BEGIN:DAYLIGHT
TZNAME:CEMT
TZOFFSETFROM:+0200
TZOFFSETTO:+0300
DTSTART:19450524T020000
RDATE:19470511T030000
END:DAYLIGHT
BEGIN:DAYLIGHT
TZNAME:CEST
TZOFFSETFROM:+0300
TZOFFSETTO:+0200
DTSTART:19450924T030000
RDATE:19470629T030000
END:DAYLIGHT
BEGIN:STANDARD
TZNAME:CET
TZOFFSETFROM:+0100
TZOFFSETTO:+0100
DTSTART:19460101T000000
RDATE:19800101T000000
END:STANDARD
BEGIN:STANDARD
TZNAME:CET
TZOFFSETFROM:+0200
TZOFFSETTO:+0100
DTSTART:19471005T030000
RRULE:FREQ=YEARLY;UNTIL=19491002T010000Z;BYMONTH=10;BYDAY=1SU
END:STANDARD
BEGIN:STANDARD
TZNAME:CET
TZOFFSETFROM:+0200
TZOFFSETTO:+0100
DTSTART:19800928T030000
RRULE:FREQ=YEARLY;UNTIL=19950924T010000Z;BYMONTH=9;BYDAY=-1SU
END:STANDARD
BEGIN:DAYLIGHT
TZNAME:CEST
TZOFFSETFROM:+0100
TZOFFSETTO:+0200
DTSTART:19810329T020000
RRULE:FREQ=YEARLY;BYMONTH=3;BYDAY=-1SU
END:DAYLIGHT
BEGIN:STANDARD
TZNAME:CET
TZOFFSETFROM:+0200
TZOFFSETTO:+0100
DTSTART:19961027T030000
RRULE:FREQ=YEARLY;BYMONTH=10;BYDAY=-1SU
END:STANDARD
END:VTIMEZONE
BEGIN:VEVENT
DTSTAMP:20260424T113822Z
DTSTART;TZID=Europe/Berlin:20241110T100000
DTEND;TZID=Europe/Berlin:20241110T110000
SUMMARY:Regionsoberliga WJE West SpVgg Brandlecht-Hestrup vs HSG Haselünne/Herzlake (963208)
UID:c2ffc854-56c1-4988-af8f-87fa0c2787df
STATUS:CONFIRMED
LAST-MODIFIED:20241110T161615Z
DESCRIPTION:Regionsoberliga WJE West\nBegegnungs-Nr: 963208\nHeim: SpVgg Brandlecht-Hestrup\nGast: HSG Haselünne/Herzlake\nHalle: Nordhorn-Mitte\, KSH I Euregium  (803138)\nAdresse: Wilhelm-Raabe-Straße 15\, 48527 Nordhorn (OT Mitte)\n
LOCATION:Nordhorn-Mitte\, KSH I Euregium  (803138): Wilhelm-Raabe-Straße 15\, 48527 Nordhorn (OT Mitte)
CATEGORIES:Saison 2024/25
END:VEVENT
BEGIN:VEVENT
DTSTAMP:20260424T113822Z
DTSTART;TZID=Europe/Berlin:20240921T140000
DTEND;TZID=Europe/Berlin:20240921T150000
SUMMARY:ROL WJE VR 2 SpVgg Brandlecht-Hestrup vs ASC GW Itterbeck (965113)
UID:f5157b06-cef8-4ba7-acc2-037943b7df80
STATUS:CONFIRMED
LAST-MODIFIED:20240922T185150Z
DESCRIPTION:Regionsoberliga WJE Vorrunde 2\nBegegnungs-Nr: 965113\nHeim: SpVgg Brandlecht-Hestrup\nGast: ASC GW Itterbeck\nHalle: Wilsum\, SH  (803169)\nAdresse: Echteler Straße 2a\, 49849 Wilsum\n
LOCATION:Wilsum\, SH  (803169): Echteler Straße 2a\, 49849 Wilsum
CATEGORIES:Saison 2024/25
END:VEVENT
BEGIN:VEVENT
DTSTAMP:20260424T113822Z
DTSTART;TZID=Europe/Berlin:20250125T123000
DTEND;TZID=Europe/Berlin:20250125T133000
SUMMARY:Regionsoberliga WJE West SpVgg Brandlecht-Hestrup vs HSG Bentheim/Gildehaus (963224)
UID:b6bebd84-8ee2-4699-a707-931829210b99
STATUS:CONFIRMED
LAST-MODIFIED:20250125T181833Z
DESCRIPTION:Regionsoberliga WJE West\nBegegnungs-Nr: 963224\nHeim: SpVgg Brandlecht-Hestrup\nGast: HSG Bentheim/Gildehaus\nHalle: Nordhorn-Mitte\, KSH I Euregium  (803138)\nAdresse: Wilhelm-Raabe-Straße 15\, 48527 Nordhorn (OT Mitte)\n
LOCATION:Nordhorn-Mitte\, KSH I Euregium  (803138): Wilhelm-Raabe-Straße 15\, 48527 Nordhorn (OT Mitte)
CATEGORIES:Saison 2024/25
END:VEVENT
BEGIN:VEVENT
DTSTAMP:20260424T113822Z
DTSTART;TZID=Europe/Berlin:20250215T140000
DTEND;TZID=Europe/Berlin:20250215T150000
SUMMARY:Regionsoberliga WJE West SpVgg Brandlecht-Hestrup vs HSG Nordhorn e.V. (963229)
UID:b125f8d4-829f-45c3-9fe6-8c79e7c6369e
STATUS:CONFIRMED
LAST-MODIFIED:20250220T094011Z
DESCRIPTION:Regionsoberliga WJE West\nBegegnungs-Nr: 963229\nHeim: SpVgg Brandlecht-Hestrup\nGast: HSG Nordhorn e.V.\nHalle: Nordhorn\, KSH 3 Euregium  (803137)\nAdresse: Wilhelm-Raabe-Str.  15\, 48527 Nordhorn\n
LOCATION:Nordhorn\, KSH 3 Euregium  (803137): Wilhelm-Raabe-Str.  15\, 48527 Nordhorn
CATEGORIES:Saison 2024/25
END:VEVENT
BEGIN:VEVENT
DTSTAMP:20260424T113822Z
DTSTART;TZID=Europe/Berlin:20241130T101500
DTEND;TZID=Europe/Berlin:20241130T111500
SUMMARY:Regionsoberliga WJE West SpVgg Brandlecht-Hestrup vs SV Dalum (963216)
UID:d433294f-4c6b-48ee-b317-59a43afc1052
STATUS:CONFIRMED
LAST-MODIFIED:20241201T170719Z
DESCRIPTION:Regionsoberliga WJE West\nBegegnungs-Nr: 963216\nHeim: SpVgg Brandlecht-Hestrup\nGast: SV Dalum\nHalle: Nordhorn-Mitte\, KSH I Euregium  (803138)\nAdresse: Wilhelm-Raabe-Straße 15\, 48527 Nordhorn (OT Mitte)\n
LOCATION:Nordhorn-Mitte\, KSH I Euregium  (803138): Wilhelm-Raabe-Straße 15\, 48527 Nordhorn (OT Mitte)
CATEGORIES:Saison 2024/25
END:VEVENT
BEGIN:VEVENT
DTSTAMP:20260424T113822Z
DTSTART;TZID=Europe/Berlin:20241207T153000
DTEND;TZID=Europe/Berlin:20241207T163000
SUMMARY:Regionsoberliga WJE West SpVgg Brandlecht-Hestrup vs FC Schüttorf 09 (963219)
UID:1d19143b-5c5b-4534-bbac-4aa74fb83dad
STATUS:CONFIRMED
LAST-MODIFIED:20241210T184235Z
DESCRIPTION:Regionsoberliga WJE West\nBegegnungs-Nr: 963219\nHeim: SpVgg Brandlecht-Hestrup\nGast: FC Schüttorf 09\nHalle: Nordhorn\, KSH II Euregium  (803139)\nAdresse: Wilhelm-Raabe-Straße 15\, 48527 Nordhorn (OT Mitte)\n
LOCATION:Nordhorn\, KSH II Euregium  (803139): Wilhelm-Raabe-Straße 15\, 48527 Nordhorn (OT Mitte)
CATEGORIES:Saison 2024/25
END:VEVENT
BEGIN:VEVENT
DTSTAMP:20260424T113822Z
DTSTART;TZID=Europe/Berlin:20250329T140000
DTEND;TZID=Europe/Berlin:20250329T150000
SUMMARY:Regionsoberliga WJE West SpVgg Brandlecht-Hestrup vs TV Meppen (963242)
UID:b517dea5-1796-4d8d-be85-1be8b960a4b3
STATUS:CONFIRMED
LAST-MODIFIED:20250401T183218Z
DESCRIPTION:Regionsoberliga WJE West\nBegegnungs-Nr: 963242\nHeim: SpVgg Brandlecht-Hestrup\nGast: TV Meppen\nHalle: Nordhorn-Mitte\, KSH I Euregium  (803138)\nAdresse: Wilhelm-Raabe-Straße 15\, 48527 Nordhorn (OT Mitte)\n
LOCATION:Nordhorn-Mitte\, KSH I Euregium  (803138): Wilhelm-Raabe-Straße 15\, 48527 Nordhorn (OT Mitte)
CATEGORIES:Saison 2024/25
END:VEVENT
BEGIN:VEVENT
DTSTAMP:20260424T113822Z
DTSTART;TZID=Europe/Berlin:20240921T160000
DTEND;TZID=Europe/Berlin:20240921T170000
SUMMARY:ROL WJE VR 2 SpVgg Brandlecht-Hestrup vs SG Neuenhaus/Uelsen (965115)
UID:20b6a3fb-ecbe-4d5f-80b0-7b2057545797
STATUS:CONFIRMED
LAST-MODIFIED:20240922T185334Z
DESCRIPTION:Regionsoberliga WJE Vorrunde 2\nBegegnungs-Nr: 965115\nHeim: SpVgg Brandlecht-Hestrup\nGast: SG Neuenhaus/Uelsen\nHalle: Wilsum\, SH  (803169)\nAdresse: Echteler Straße 2a\, 49849 Wilsum\n
LOCATION:Wilsum\, SH  (803169): Echteler Straße 2a\, 49849 Wilsum
CATEGORIES:Saison 2024/25
END:VEVENT
BEGIN:VEVENT
DTSTAMP:20260424T113822Z
DTSTART;TZID=Europe/Berlin:20240818T100000
DTEND;TZID=Europe/Berlin:20240818T110000
SUMMARY:ROL WJE VR 2 SpVgg Brandlecht-Hestrup vs TV Meppen (965101)
UID:3134099c-4e08-4287-877f-aa6a2e362416
STATUS:CONFIRMED
LAST-MODIFIED:20240821T080032Z
DESCRIPTION:Regionsoberliga WJE Vorrunde 2\nBegegnungs-Nr: 965101\nHeim: SpVgg Brandlecht-Hestrup\nGast: TV Meppen\nHalle: Nordhorn-Mitte\, KSH I Euregium  (803138)\nAdresse: Wilhelm-Raabe-Straße 15\, 48527 Nordhorn (OT Mitte)\n
LOCATION:Nordhorn-Mitte\, KSH I Euregium  (803138): Wilhelm-Raabe-Straße 15\, 48527 Nordhorn (OT Mitte)
CATEGORIES:Saison 2024/25
END:VEVENT
BEGIN:VEVENT
DTSTAMP:20260424T113822Z
DTSTART;TZID=Europe/Berlin:20241214T100000
DTEND;TZID=Europe/Berlin:20241214T110000
SUMMARY:Regionsoberliga WJE West HSG Bentheim/Gildehaus vs SpVgg Brandlecht-Hestrup (963205)
UID:14eab788-cc81-4aeb-9299-6550e1bf149f
STATUS:CONFIRMED
LAST-MODIFIED:20241219T150250Z
DESCRIPTION:Regionsoberliga WJE West\nBegegnungs-Nr: 963205\nHeim: HSG Bentheim/Gildehaus\nGast: SpVgg Brandlecht-Hestrup\nHalle: Bad Bentheim\, Schürkamphalle  (803102)\nAdresse: Schürkamp\, 48455 Bad Bentheim\n
LOCATION:Bad Bentheim\, Schürkamphalle  (803102): Schürkamp\, 48455 Bad Bentheim
CATEGORIES:Saison 2024/25
END:VEVENT
BEGIN:VEVENT
DTSTAMP:20260424T113822Z
DTSTART;TZID=Europe/Berlin:20250208T120000
DTEND;TZID=Europe/Berlin:20250208T130000
SUMMARY:Regionsoberliga WJE West HSG Haselünne/Herzlake vs SpVgg Brandlecht-Hestrup (963227)
UID:c0ad3edf-a242-40ca-a708-203cb516c78b
STATUS:CONFIRMED
LAST-MODIFIED:20250209T180636Z
DESCRIPTION:Regionsoberliga WJE West\nBegegnungs-Nr: 963227\nHeim: HSG Haselünne/Herzlake\nGast: SpVgg Brandlecht-Hestrup\nHalle: Herzlake\, SZ  (803119)\nAdresse: Bookhofer Straße\, 49770 Herzlake\n
LOCATION:Herzlake\, SZ  (803119): Bookhofer Straße\, 49770 Herzlake
CATEGORIES:Saison 2024/25
END:VEVENT
BEGIN:VEVENT
DTSTAMP:20260424T113822Z
DTSTART;TZID=Europe/Berlin:20250301T133000
DTEND;TZID=Europe/Berlin:20250301T143000
SUMMARY:Regionsoberliga WJE West SV Dalum vs SpVgg Brandlecht-Hestrup (963233)
UID:c0aabf88-9d72-4731-90a2-28338d451bc5
STATUS:CONFIRMED
LAST-MODIFIED:20250302T170411Z
DESCRIPTION:Regionsoberliga WJE West\nBegegnungs-Nr: 963233\nHeim: SV Dalum\nGast: SpVgg Brandlecht-Hestrup\nHalle: Geeste-Dalum\, SH  (803105)\nAdresse: Am Rathaus/Neuer Diek\, 49744 Geeste (OT Dalum)\n
LOCATION:Geeste-Dalum\, SH  (803105): Am Rathaus/Neuer Diek\, 49744 Geeste (OT Dalum)
CATEGORIES:Saison 2024/25
END:VEVENT
BEGIN:VEVENT
DTSTAMP:20260424T113822Z
DTSTART;TZID=Europe/Berlin:20240921T110000
DTEND;TZID=Europe/Berlin:20240921T120000
SUMMARY:ROL WJE VR 2 SV Dalum vs SpVgg Brandlecht-Hestrup (965110)
UID:66423717-d836-4e1b-a4ef-5a650e275b7a
STATUS:CONFIRMED
LAST-MODIFIED:20240922T184935Z
DESCRIPTION:Regionsoberliga WJE Vorrunde 2\nBegegnungs-Nr: 965110\nHeim: SV Dalum\nGast: SpVgg Brandlecht-Hestrup\nHalle: Wilsum\, SH  (803169)\nAdresse: Echteler Straße 2a\, 49849 Wilsum\n
LOCATION:Wilsum\, SH  (803169): Echteler Straße 2a\, 49849 Wilsum
CATEGORIES:Saison 2024/25
END:VEVENT
BEGIN:VEVENT
DTSTAMP:20260424T113822Z
DTSTART;TZID=Europe/Berlin:20241116T123000
DTEND;TZID=Europe/Berlin:20241116T133000
SUMMARY:Regionsoberliga WJE West HSG Nordhorn e.V. vs SpVgg Brandlecht-Hestrup (963211)
UID:e967efe4-0d43-4483-811c-aa2d19c5a79e
STATUS:CONFIRMED
LAST-MODIFIED:20241119T175514Z
DESCRIPTION:Regionsoberliga WJE West\nBegegnungs-Nr: 963211\nHeim: HSG Nordhorn e.V.\nGast: SpVgg Brandlecht-Hestrup\nHalle: Nordhorn-Mitte\, KSH I Euregium  (803138)\nAdresse: Wilhelm-Raabe-Straße 15\, 48527 Nordhorn (OT Mitte)\n
LOCATION:Nordhorn-Mitte\, KSH I Euregium  (803138): Wilhelm-Raabe-Straße 15\, 48527 Nordhorn (OT Mitte)
CATEGORIES:Saison 2024/25
END:VEVENT
BEGIN:VEVENT
DTSTAMP:20260424T113822Z
DTSTART;TZID=Europe/Berlin:20250112T110000
DTEND;TZID=Europe/Berlin:20250112T120000
SUMMARY:Regionsoberliga WJE West TV Meppen vs SpVgg Brandlecht-Hestrup (963220)
UID:aaa006ea-b8c9-45fa-8e7f-a5f1c28b7acf
STATUS:CONFIRMED
LAST-MODIFIED:20250116T162853Z
DESCRIPTION:Regionsoberliga WJE West\nBegegnungs-Nr: 963220\nHeim: TV Meppen\nGast: SpVgg Brandlecht-Hestrup\nHalle:  Meppen\, Kardinal-von-Galen-Halle (803135)\nAdresse: Dammstr.\, 49716 Meppen\n
LOCATION: Meppen\, Kardinal-von-Galen-Halle (803135): Dammstr.\, 49716 Meppen
CATEGORIES:Saison 2024/25
END:VEVENT
BEGIN:VEVENT
DTSTAMP:20260424T113822Z
DTSTART;TZID=Europe/Berlin:20250322T163000
DTEND;TZID=Europe/Berlin:20250322T173000
SUMMARY:Regionsoberliga WJE West FC Schüttorf 09 vs SpVgg Brandlecht-Hestrup (963237)
UID:a715d3d6-36e7-41ce-a957-7cad9fbcac8b
STATUS:CONFIRMED
LAST-MODIFIED:20250326T070351Z
DESCRIPTION:Regionsoberliga WJE West\nBegegnungs-Nr: 963237\nHeim: FC Schüttorf 09\nGast: SpVgg Brandlecht-Hestrup\nHalle: Wietkamphalle (803173)\nAdresse: Wietkampstr.\, 48465 Schüttorf\n
LOCATION:Wietkamphalle (803173): Wietkampstr.\, 48465 Schüttorf
CATEGORIES:Saison 2024/25
END:VEVENT
BEGIN:VEVENT
DTSTAMP:20260424T113822Z
DTSTART;TZID=Europe/Berlin:20240818T140000
DTEND;TZID=Europe/Berlin:20240818T150000
SUMMARY:ROL WJE VR 2 HSG Nordhorn e.V. vs SpVgg Brandlecht-Hestrup (965105)
UID:a0f69a8a-29f9-465a-b211-d1155061b09b
STATUS:CONFIRMED
LAST-MODIFIED:20240821T080302Z
DESCRIPTION:Regionsoberliga WJE Vorrunde 2\nBegegnungs-Nr: 965105\nHeim: HSG Nordhorn e.V.\nGast: SpVgg Brandlecht-Hestrup\nHalle: Nordhorn-Mitte\, KSH I Euregium  (803138)\nAdresse: Wilhelm-Raabe-Straße 15\, 48527 Nordhorn (OT Mitte)\n
LOCATION:Nordhorn-Mitte\, KSH I Euregium  (803138): Wilhelm-Raabe-Straße 15\, 48527 Nordhorn (OT Mitte)
CATEGORIES:Saison 2024/25
END:VEVENT
END:VCALENDAR
