BEGIN:VCALENDAR
PRODID:-//nuDatenautomaten//framework iCal4j //DE
VERSION:2.0
CALSCALE:GREGORIAN
BEGIN:VTIMEZONE
TZID:Europe/Berlin
LAST-MODIFIED:20260306T231828Z
TZURL:https://www.tzurl.org/zoneinfo/Europe/Berlin
X-LIC-LOCATION:Europe/Berlin
X-PROLEPTIC-TZNAME:LMT
BEGIN:STANDARD
TZNAME:CET
TZOFFSETFROM:+005328
TZOFFSETTO:+0100
DTSTART:18930401T000000
END:STANDARD
BEGIN:DAYLIGHT
TZNAME:CEST
TZOFFSETFROM:+0100
TZOFFSETTO:+0200
DTSTART:19160430T230000
RDATE:19400401T020000
RDATE:19430329T020000
RDATE:19460414T020000
RDATE:19470406T030000
RDATE:19480418T020000
RDATE:19490410T020000
RDATE:19800406T020000
END:DAYLIGHT
BEGIN:STANDARD
TZNAME:CET
TZOFFSETFROM:+0200
TZOFFSETTO:+0100
DTSTART:19161001T010000
RDATE:19421102T030000
RDATE:19431004T030000
RDATE:19441002T030000
RDATE:19451118T030000
RDATE:19461007T030000
END:STANDARD
BEGIN:DAYLIGHT
TZNAME:CEST
TZOFFSETFROM:+0100
TZOFFSETTO:+0200
DTSTART:19170416T020000
RRULE:FREQ=YEARLY;UNTIL=19180415T010000Z;BYMONTH=4;BYDAY=3MO
END:DAYLIGHT
BEGIN:STANDARD
TZNAME:CET
TZOFFSETFROM:+0200
TZOFFSETTO:+0100
DTSTART:19170917T030000
RRULE:FREQ=YEARLY;UNTIL=19180916T010000Z;BYMONTH=9;BYDAY=3MO
END:STANDARD
BEGIN:DAYLIGHT
TZNAME:CEST
TZOFFSETFROM:+0100
TZOFFSETTO:+0200
DTSTART:19440403T020000
RRULE:FREQ=YEARLY;UNTIL=19450402T010000Z;BYMONTH=4;BYDAY=1MO
END:DAYLIGHT
BEGIN:DAYLIGHT
TZNAME:CEMT
TZOFFSETFROM:+0200
TZOFFSETTO:+0300
DTSTART:19450524T020000
RDATE:19470511T030000
END:DAYLIGHT
BEGIN:DAYLIGHT
TZNAME:CEST
TZOFFSETFROM:+0300
TZOFFSETTO:+0200
DTSTART:19450924T030000
RDATE:19470629T030000
END:DAYLIGHT
BEGIN:STANDARD
TZNAME:CET
TZOFFSETFROM:+0100
TZOFFSETTO:+0100
DTSTART:19460101T000000
RDATE:19800101T000000
END:STANDARD
BEGIN:STANDARD
TZNAME:CET
TZOFFSETFROM:+0200
TZOFFSETTO:+0100
DTSTART:19471005T030000
RRULE:FREQ=YEARLY;UNTIL=19491002T010000Z;BYMONTH=10;BYDAY=1SU
END:STANDARD
BEGIN:STANDARD
TZNAME:CET
TZOFFSETFROM:+0200
TZOFFSETTO:+0100
DTSTART:19800928T030000
RRULE:FREQ=YEARLY;UNTIL=19950924T010000Z;BYMONTH=9;BYDAY=-1SU
END:STANDARD
BEGIN:DAYLIGHT
TZNAME:CEST
TZOFFSETFROM:+0100
TZOFFSETTO:+0200
DTSTART:19810329T020000
RRULE:FREQ=YEARLY;BYMONTH=3;BYDAY=-1SU
END:DAYLIGHT
BEGIN:STANDARD
TZNAME:CET
TZOFFSETFROM:+0200
TZOFFSETTO:+0100
DTSTART:19961027T030000
RRULE:FREQ=YEARLY;BYMONTH=10;BYDAY=-1SU
END:STANDARD
END:VTIMEZONE
BEGIN:VEVENT
DTSTAMP:20260420T041945Z
DTSTART;TZID=Europe/Berlin:20250330T133000
DTEND;TZID=Europe/Berlin:20250330T143000
SUMMARY:Regionsliga WE Ost SG Luhdorf/Scharmbeck vs HSG Elbmarsch (56)
UID:b2e9192f-feae-4f39-a166-6ebf16ffac74
STATUS:CONFIRMED
LAST-MODIFIED:20250331T144000Z
DESCRIPTION:Regionsliga WE Ost\nBegegnungs-Nr: 56\nHeim: SG Luhdorf/Scharmbeck\nGast: HSG Elbmarsch\nHalle: Winsen-Luhdorf\, Peter-Wind-Halle (603112)\nAdresse: Höllenberg\, 21423 Winsen/Luhe (OT Luhdorf)\n
LOCATION:Winsen-Luhdorf\, Peter-Wind-Halle (603112): Höllenberg\, 21423 Winsen/Luhe (OT Luhdorf)
CATEGORIES:Saison 2024/25
END:VEVENT
BEGIN:VEVENT
DTSTAMP:20260420T041945Z
DTSTART;TZID=Europe/Berlin:20240915T100000
DTEND;TZID=Europe/Berlin:20240915T110000
SUMMARY:Vorrunde WE Staffel 4 SG Luhdorf/Scharmbeck vs MTV Eyendorf II (6)
UID:17155aa3-438e-4b5e-b21c-80e67706766a
STATUS:CONFIRMED
LAST-MODIFIED:20240918T144341Z
DESCRIPTION:Vorrunde weibliche Jugend E Staffel 4\nBegegnungs-Nr: 6\nHeim: SG Luhdorf/Scharmbeck\nGast: MTV Eyendorf II\nHalle: Lüneburg\, SH Oedeme (605150)\nAdresse: Schaperdrift\, 21335 Lüneburg (OT Oedeme)\n
LOCATION:Lüneburg\, SH Oedeme (605150): Schaperdrift\, 21335 Lüneburg (OT Oedeme)
CATEGORIES:Saison 2024/25
END:VEVENT
BEGIN:VEVENT
DTSTAMP:20260420T041945Z
DTSTART;TZID=Europe/Berlin:20240922T120000
DTEND;TZID=Europe/Berlin:20240922T130000
SUMMARY:Vorrunde WE Staffel 4 SG Luhdorf/Scharmbeck vs Buxtehuder SV (14)
UID:896804d8-7401-418f-bf9f-e5544250f919
STATUS:CONFIRMED
LAST-MODIFIED:20240924T142229Z
DESCRIPTION:Vorrunde weibliche Jugend E Staffel 4\nBegegnungs-Nr: 14\nHeim: SG Luhdorf/Scharmbeck\nGast: Buxtehuder SV\nHalle: Winsen-Luhdorf\, Peter-Wind-Halle (603112)\nAdresse: Höllenberg\, 21423 Winsen/Luhe (OT Luhdorf)\n
LOCATION:Winsen-Luhdorf\, Peter-Wind-Halle (603112): Höllenberg\, 21423 Winsen/Luhe (OT Luhdorf)
CATEGORIES:Saison 2024/25
END:VEVENT
BEGIN:VEVENT
DTSTAMP:20260420T041945Z
DTSTART;TZID=Europe/Berlin:20241208T131500
DTEND;TZID=Europe/Berlin:20241208T141500
SUMMARY:Regionsliga WE Ost SG Luhdorf/Scharmbeck vs Handballverein Lüneburg (23)
UID:3d7f7a9f-af82-425d-a0c6-ea9de23f073f
STATUS:CONFIRMED
LAST-MODIFIED:20241210T143125Z
DESCRIPTION:Regionsliga WE Ost\nBegegnungs-Nr: 23\nHeim: SG Luhdorf/Scharmbeck\nGast: Handballverein Lüneburg\nHalle: Winsen-Luhdorf\, Peter-Wind-Halle (603112)\nAdresse: Höllenberg\, 21423 Winsen/Luhe (OT Luhdorf)\n
LOCATION:Winsen-Luhdorf\, Peter-Wind-Halle (603112): Höllenberg\, 21423 Winsen/Luhe (OT Luhdorf)
CATEGORIES:Saison 2024/25
END:VEVENT
BEGIN:VEVENT
DTSTAMP:20260420T041945Z
DTSTART;TZID=Europe/Berlin:20250309T101500
DTEND;TZID=Europe/Berlin:20250309T111500
SUMMARY:Regionsliga WE Ost SG Luhdorf/Scharmbeck vs TSV Gellersen (46)
UID:bb77a130-b6a4-40a3-926e-a114b21462ae
STATUS:CONFIRMED
LAST-MODIFIED:20250312T130804Z
DESCRIPTION:Regionsliga WE Ost\nBegegnungs-Nr: 46\nHeim: SG Luhdorf/Scharmbeck\nGast: TSV Gellersen\nHalle: Winsen-Luhdorf\, Peter-Wind-Halle (603112)\nAdresse: Höllenberg\, 21423 Winsen/Luhe (OT Luhdorf)\n
LOCATION:Winsen-Luhdorf\, Peter-Wind-Halle (603112): Höllenberg\, 21423 Winsen/Luhe (OT Luhdorf)
CATEGORIES:Saison 2024/25
END:VEVENT
BEGIN:VEVENT
DTSTAMP:20260420T041945Z
DTSTART;TZID=Europe/Berlin:20241103T110000
DTEND;TZID=Europe/Berlin:20241103T120000
SUMMARY:Regionsliga WE Ost SG Luhdorf/Scharmbeck vs Handballverein Lüneburg II (8)
UID:c2626d72-72bc-4e3c-9a1f-4152431ba291
STATUS:CONFIRMED
LAST-MODIFIED:20241210T141359Z
DESCRIPTION:Regionsliga WE Ost\nBegegnungs-Nr: 8\nHeim: SG Luhdorf/Scharmbeck\nGast: Handballverein Lüneburg II\nHalle: Winsen/L.-Pattensen\, SH (603124)\nAdresse: Rehkamp\, 21423 Winsen/Luhe (OT Pattensen)\n
LOCATION:Winsen/L.-Pattensen\, SH (603124): Rehkamp\, 21423 Winsen/Luhe (OT Pattensen)
CATEGORIES:Saison 2024/25
END:VEVENT
BEGIN:VEVENT
DTSTAMP:20260420T041945Z
DTSTART;TZID=Europe/Berlin:20250223T114500
DTEND;TZID=Europe/Berlin:20250223T124500
SUMMARY:Regionsliga WE Ost SG Luhdorf/Scharmbeck vs HG Winsen/Luhe (39)
UID:8c159584-5b10-44c6-a09f-7b78b23babb0
STATUS:CONFIRMED
LAST-MODIFIED:20250303T105749Z
DESCRIPTION:Regionsliga WE Ost\nBegegnungs-Nr: 39\nHeim: SG Luhdorf/Scharmbeck\nGast: HG Winsen/Luhe\nHalle: Winsen-Luhdorf\, Peter-Wind-Halle (603112)\nAdresse: Höllenberg\, 21423 Winsen/Luhe (OT Luhdorf)\n
LOCATION:Winsen-Luhdorf\, Peter-Wind-Halle (603112): Höllenberg\, 21423 Winsen/Luhe (OT Luhdorf)
CATEGORIES:Saison 2024/25
END:VEVENT
BEGIN:VEVENT
DTSTAMP:20260420T041945Z
DTSTART;TZID=Europe/Berlin:20250323T114500
DTEND;TZID=Europe/Berlin:20250323T124500
SUMMARY:Regionsliga WE Ost SG Luhdorf/Scharmbeck vs Handballverein Lüneburg (51)
UID:b10672d9-d9fe-40d7-8beb-d8a3d0e3db85
STATUS:CONFIRMED
LAST-MODIFIED:20250324T102717Z
DESCRIPTION:Regionsliga WE Ost\nBegegnungs-Nr: 51\nHeim: SG Luhdorf/Scharmbeck\nGast: Handballverein Lüneburg\nHalle: Winsen-Luhdorf\, Peter-Wind-Halle (603112)\nAdresse: Höllenberg\, 21423 Winsen/Luhe (OT Luhdorf)\n
LOCATION:Winsen-Luhdorf\, Peter-Wind-Halle (603112): Höllenberg\, 21423 Winsen/Luhe (OT Luhdorf)
CATEGORIES:Saison 2024/25
END:VEVENT
BEGIN:VEVENT
DTSTAMP:20260420T041945Z
DTSTART;TZID=Europe/Berlin:20241124T100000
DTEND;TZID=Europe/Berlin:20241124T110000
SUMMARY:Regionsliga WE Ost SG Luhdorf/Scharmbeck vs TV Uelzen (13)
UID:6cb93cb8-a900-4dfb-a245-d2b8975cb49a
STATUS:CONFIRMED
LAST-MODIFIED:20241127T144441Z
DESCRIPTION:Regionsliga WE Ost\nBegegnungs-Nr: 13\nHeim: SG Luhdorf/Scharmbeck\nGast: TV Uelzen\nHalle: Winsen-Luhdorf\, Peter-Wind-Halle (603112)\nAdresse: Höllenberg\, 21423 Winsen/Luhe (OT Luhdorf)\n
LOCATION:Winsen-Luhdorf\, Peter-Wind-Halle (603112): Höllenberg\, 21423 Winsen/Luhe (OT Luhdorf)
CATEGORIES:Saison 2024/25
END:VEVENT
BEGIN:VEVENT
DTSTAMP:20260420T041945Z
DTSTART;TZID=Europe/Berlin:20250302T110000
DTEND;TZID=Europe/Berlin:20250302T120000
SUMMARY:Regionsliga WE Ost TV Uelzen vs SG Luhdorf/Scharmbeck (41)
UID:256d54f1-bb18-4aad-9635-a0851ee57b0f
STATUS:CONFIRMED
LAST-MODIFIED:20250303T110318Z
DESCRIPTION:Regionsliga WE Ost\nBegegnungs-Nr: 41\nHeim: TV Uelzen\nGast: SG Luhdorf/Scharmbeck\nHalle: Uelzen\, Herzog-Ernst-Gymnasium (605185)\nAdresse: Greyerstraße\, 29525 Uelzen\n
LOCATION:Uelzen\, Herzog-Ernst-Gymnasium (605185): Greyerstraße\, 29525 Uelzen
CATEGORIES:Saison 2024/25
END:VEVENT
BEGIN:VEVENT
DTSTAMP:20260420T041945Z
DTSTART;TZID=Europe/Berlin:20241109T140000
DTEND;TZID=Europe/Berlin:20241109T150000
SUMMARY:Regionsliga WE Ost HG Winsen/Luhe vs SG Luhdorf/Scharmbeck (11)
UID:e1175fad-7502-4c6d-8c2c-661e579e5e5e
STATUS:CONFIRMED
LAST-MODIFIED:20241111T131754Z
DESCRIPTION:Regionsliga WE Ost\nBegegnungs-Nr: 11\nHeim: HG Winsen/Luhe\nGast: SG Luhdorf/Scharmbeck\nHalle: Winsen/L.\, SH BS (603121)\nAdresse: Bürgerweide\, 21423 Winsen/Luhe\n
LOCATION:Winsen/L.\, SH BS (603121): Bürgerweide\, 21423 Winsen/Luhe
CATEGORIES:Saison 2024/25
END:VEVENT
BEGIN:VEVENT
DTSTAMP:20260420T041945Z
DTSTART;TZID=Europe/Berlin:20240915T112500
DTEND;TZID=Europe/Berlin:20240915T122500
SUMMARY:Vorrunde WE Staffel 4 Handballverein Lüneburg II vs SG Luhdorf/Scharmbeck (8)
UID:ce0fcf57-2854-44a9-9c73-4d749b58e1f8
STATUS:CONFIRMED
LAST-MODIFIED:20240924T141830Z
DESCRIPTION:Vorrunde weibliche Jugend E Staffel 4\nBegegnungs-Nr: 8\nHeim: Handballverein Lüneburg II\nGast: SG Luhdorf/Scharmbeck\nHalle: Lüneburg\, SH Oedeme (605150)\nAdresse: Schaperdrift\, 21335 Lüneburg (OT Oedeme)\n
LOCATION:Lüneburg\, SH Oedeme (605150): Schaperdrift\, 21335 Lüneburg (OT Oedeme)
CATEGORIES:Saison 2024/25
END:VEVENT
BEGIN:VEVENT
DTSTAMP:20260420T041945Z
DTSTART;TZID=Europe/Berlin:20240915T121500
DTEND;TZID=Europe/Berlin:20240915T131500
SUMMARY:Vorrunde WE Staffel 4 HSG Seevetal/Ashausen vs SG Luhdorf/Scharmbeck (9)
UID:7adca3b8-84e9-40a3-a1af-56d0966a1ae8
STATUS:CONFIRMED
LAST-MODIFIED:20240924T141718Z
DESCRIPTION:Vorrunde weibliche Jugend E Staffel 4\nBegegnungs-Nr: 9\nHeim: HSG Seevetal/Ashausen\nGast: SG Luhdorf/Scharmbeck\nHalle: Lüneburg\, SH Oedeme (605150)\nAdresse: Schaperdrift\, 21335 Lüneburg (OT Oedeme)\n
LOCATION:Lüneburg\, SH Oedeme (605150): Schaperdrift\, 21335 Lüneburg (OT Oedeme)
CATEGORIES:Saison 2024/25
END:VEVENT
BEGIN:VEVENT
DTSTAMP:20260420T041945Z
DTSTART;TZID=Europe/Berlin:20241201T113000
DTEND;TZID=Europe/Berlin:20241201T123000
SUMMARY:Regionsliga WE Ost TSV Gellersen vs SG Luhdorf/Scharmbeck (18)
UID:751972e8-4138-43e8-af5c-6c60456276b0
STATUS:CONFIRMED
LAST-MODIFIED:20241204T092258Z
DESCRIPTION:Regionsliga WE Ost\nBegegnungs-Nr: 18\nHeim: TSV Gellersen\nGast: SG Luhdorf/Scharmbeck\nHalle: Reppenstedt\, SH (605151)\nAdresse: Dachtmisser Straße\, 21391 Reppenstedt\n
LOCATION:Reppenstedt\, SH (605151): Dachtmisser Straße\, 21391 Reppenstedt
CATEGORIES:Saison 2024/25
END:VEVENT
BEGIN:VEVENT
DTSTAMP:20260420T041945Z
DTSTART;TZID=Europe/Berlin:20250118T150000
DTEND;TZID=Europe/Berlin:20250118T160000
SUMMARY:Regionsliga WE Ost HSG Elbmarsch vs SG Luhdorf/Scharmbeck (28)
UID:ef34b052-7cdc-4a18-8c23-240b126f0c48
STATUS:CONFIRMED
LAST-MODIFIED:20250122T205236Z
DESCRIPTION:Regionsliga WE Ost\nBegegnungs-Nr: 28\nHeim: HSG Elbmarsch\nGast: SG Luhdorf/Scharmbeck\nHalle: Marschacht-Niederm.\, Ernst-R.-Sch. (603130)\nAdresse: Wennerweg\, 21436 Marschacht / OT Niedermarschacht\n
LOCATION:Marschacht-Niederm.\, Ernst-R.-Sch. (603130): Wennerweg\, 21436 Marschacht / OT Niedermarschacht
CATEGORIES:Saison 2024/25
END:VEVENT
BEGIN:VEVENT
DTSTAMP:20260420T041945Z
DTSTART;TZID=Europe/Berlin:20240922T103500
DTEND;TZID=Europe/Berlin:20240922T113500
SUMMARY:Vorrunde WE Staffel 4 TuS Jahn Hollenstedt vs SG Luhdorf/Scharmbeck (12)
UID:43ec66f0-0613-4f7d-806c-c5a7f4ddcfc0
STATUS:CONFIRMED
LAST-MODIFIED:20240924T142106Z
DESCRIPTION:Vorrunde weibliche Jugend E Staffel 4\nBegegnungs-Nr: 12\nHeim: TuS Jahn Hollenstedt\nGast: SG Luhdorf/Scharmbeck\nHalle: Winsen-Luhdorf\, Peter-Wind-Halle (603112)\nAdresse: Höllenberg\, 21423 Winsen/Luhe (OT Luhdorf)\n
LOCATION:Winsen-Luhdorf\, Peter-Wind-Halle (603112): Höllenberg\, 21423 Winsen/Luhe (OT Luhdorf)
CATEGORIES:Saison 2024/25
END:VEVENT
END:VCALENDAR
