BEGIN:VCALENDAR
PRODID:-//nuDatenautomaten//framework iCal4j //DE
VERSION:2.0
CALSCALE:GREGORIAN
BEGIN:VTIMEZONE
TZID:Europe/Berlin
LAST-MODIFIED:20260306T231828Z
TZURL:https://www.tzurl.org/zoneinfo/Europe/Berlin
X-LIC-LOCATION:Europe/Berlin
X-PROLEPTIC-TZNAME:LMT
BEGIN:STANDARD
TZNAME:CET
TZOFFSETFROM:+005328
TZOFFSETTO:+0100
DTSTART:18930401T000000
END:STANDARD
BEGIN:DAYLIGHT
TZNAME:CEST
TZOFFSETFROM:+0100
TZOFFSETTO:+0200
DTSTART:19160430T230000
RDATE:19400401T020000
RDATE:19430329T020000
RDATE:19460414T020000
RDATE:19470406T030000
RDATE:19480418T020000
RDATE:19490410T020000
RDATE:19800406T020000
END:DAYLIGHT
BEGIN:STANDARD
TZNAME:CET
TZOFFSETFROM:+0200
TZOFFSETTO:+0100
DTSTART:19161001T010000
RDATE:19421102T030000
RDATE:19431004T030000
RDATE:19441002T030000
RDATE:19451118T030000
RDATE:19461007T030000
END:STANDARD
BEGIN:DAYLIGHT
TZNAME:CEST
TZOFFSETFROM:+0100
TZOFFSETTO:+0200
DTSTART:19170416T020000
RRULE:FREQ=YEARLY;UNTIL=19180415T010000Z;BYMONTH=4;BYDAY=3MO
END:DAYLIGHT
BEGIN:STANDARD
TZNAME:CET
TZOFFSETFROM:+0200
TZOFFSETTO:+0100
DTSTART:19170917T030000
RRULE:FREQ=YEARLY;UNTIL=19180916T010000Z;BYMONTH=9;BYDAY=3MO
END:STANDARD
BEGIN:DAYLIGHT
TZNAME:CEST
TZOFFSETFROM:+0100
TZOFFSETTO:+0200
DTSTART:19440403T020000
RRULE:FREQ=YEARLY;UNTIL=19450402T010000Z;BYMONTH=4;BYDAY=1MO
END:DAYLIGHT
BEGIN:DAYLIGHT
TZNAME:CEMT
TZOFFSETFROM:+0200
TZOFFSETTO:+0300
DTSTART:19450524T020000
RDATE:19470511T030000
END:DAYLIGHT
BEGIN:DAYLIGHT
TZNAME:CEST
TZOFFSETFROM:+0300
TZOFFSETTO:+0200
DTSTART:19450924T030000
RDATE:19470629T030000
END:DAYLIGHT
BEGIN:STANDARD
TZNAME:CET
TZOFFSETFROM:+0100
TZOFFSETTO:+0100
DTSTART:19460101T000000
RDATE:19800101T000000
END:STANDARD
BEGIN:STANDARD
TZNAME:CET
TZOFFSETFROM:+0200
TZOFFSETTO:+0100
DTSTART:19471005T030000
RRULE:FREQ=YEARLY;UNTIL=19491002T010000Z;BYMONTH=10;BYDAY=1SU
END:STANDARD
BEGIN:STANDARD
TZNAME:CET
TZOFFSETFROM:+0200
TZOFFSETTO:+0100
DTSTART:19800928T030000
RRULE:FREQ=YEARLY;UNTIL=19950924T010000Z;BYMONTH=9;BYDAY=-1SU
END:STANDARD
BEGIN:DAYLIGHT
TZNAME:CEST
TZOFFSETFROM:+0100
TZOFFSETTO:+0200
DTSTART:19810329T020000
RRULE:FREQ=YEARLY;BYMONTH=3;BYDAY=-1SU
END:DAYLIGHT
BEGIN:STANDARD
TZNAME:CET
TZOFFSETFROM:+0200
TZOFFSETTO:+0100
DTSTART:19961027T030000
RRULE:FREQ=YEARLY;BYMONTH=10;BYDAY=-1SU
END:STANDARD
END:VTIMEZONE
BEGIN:VEVENT
DTSTAMP:20260419T180115Z
DTSTART;TZID=Europe/Berlin:20250215T160000
DTEND;TZID=Europe/Berlin:20250215T170000
SUMMARY:Oberliga WJC West HSG Varel vs TV Meppen (24)
UID:1865a812-8d02-411c-8b45-99e696c3abd2
STATUS:CONFIRMED
LAST-MODIFIED:20250215T214236Z
DESCRIPTION:Oberliga weibliche Jugend C West\nBegegnungs-Nr: 24\nHeim: HSG Varel\nGast: TV Meppen\nHalle: Varel\, SH Manfred-Schmidt  (805120)\nAdresse: Altjührdener Straße 34\, 26316 Varel (OT Altjührden)\n
LOCATION:Varel\, SH Manfred-Schmidt  (805120): Altjührdener Straße 34\, 26316 Varel (OT Altjührden)
CATEGORIES:Saison 2024/25
END:VEVENT
BEGIN:VEVENT
DTSTAMP:20260419T180115Z
DTSTART;TZID=Europe/Berlin:20250112T173000
DTEND;TZID=Europe/Berlin:20250112T183000
SUMMARY:Oberliga WJC West HSG Varel vs SV Cappeln (2)
UID:f8e05d36-b9d2-4cb8-9ee6-0a82355947e5
STATUS:CONFIRMED
LAST-MODIFIED:20250116T211544Z
DESCRIPTION:Oberliga weibliche Jugend C West\nBegegnungs-Nr: 2\nHeim: HSG Varel\nGast: SV Cappeln\nHalle: Varel\, SH Manfred-Schmidt  (805120)\nAdresse: Altjührdener Straße 34\, 26316 Varel (OT Altjührden)\n
LOCATION:Varel\, SH Manfred-Schmidt  (805120): Altjührdener Straße 34\, 26316 Varel (OT Altjührden)
CATEGORIES:Saison 2024/25
END:VEVENT
BEGIN:VEVENT
DTSTAMP:20260419T180115Z
DTSTART;TZID=Europe/Berlin:20250125T163000
DTEND;TZID=Europe/Berlin:20250125T173000
SUMMARY:Oberliga WJC West HSG Varel vs SFN Vechta (13)
UID:fe0eb2a5-95f3-4668-acac-232399c53513
STATUS:CONFIRMED
LAST-MODIFIED:20250127T135040Z
DESCRIPTION:Oberliga weibliche Jugend C West\nBegegnungs-Nr: 13\nHeim: HSG Varel\nGast: SFN Vechta\nHalle: Varel\, SH Manfred-Schmidt  (805120)\nAdresse: Altjührdener Straße 34\, 26316 Varel (OT Altjührden)\n
LOCATION:Varel\, SH Manfred-Schmidt  (805120): Altjührdener Straße 34\, 26316 Varel (OT Altjührden)
CATEGORIES:Saison 2024/25
END:VEVENT
BEGIN:VEVENT
DTSTAMP:20260419T180115Z
DTSTART;TZID=Europe/Berlin:20241130T140000
DTEND;TZID=Europe/Berlin:20241130T150000
SUMMARY:Regionalliga WJC Vorr. West HSG Varel vs SV Vorwärts Nordhorn (44)
UID:0ca5f2d5-c2ca-4620-8d67-383eb643f903
STATUS:CONFIRMED
LAST-MODIFIED:20241130T202252Z
DESCRIPTION:Regionalliga weibliche Jugend C Vorrunde West\nBegegnungs-Nr: 44\nHeim: HSG Varel\nGast: SV Vorwärts Nordhorn\nHalle: Varel\, SH Manfred-Schmidt  (805120)\nAdresse: Altjührdener Straße 34\, 26316 Varel (OT Altjührden)\n
LOCATION:Varel\, SH Manfred-Schmidt  (805120): Altjührdener Straße 34\, 26316 Varel (OT Altjührden)
CATEGORIES:Saison 2024/25
END:VEVENT
BEGIN:VEVENT
DTSTAMP:20260419T180115Z
DTSTART;TZID=Europe/Berlin:20250323T143000
DTEND;TZID=Europe/Berlin:20250323T153000
SUMMARY:Oberliga WJC West HSG Varel vs TSV Altenwalde (36)
UID:e07e2368-01e9-49cc-bb7f-3cf1f05b83d7
STATUS:CONFIRMED
LAST-MODIFIED:20250323T212302Z
DESCRIPTION:Oberliga weibliche Jugend C West\nBegegnungs-Nr: 36\nHeim: HSG Varel\nGast: TSV Altenwalde\nHalle: Varel\, SH Manfred-Schmidt  (805120)\nAdresse: Altjührdener Straße 34\, 26316 Varel (OT Altjührden)\n
LOCATION:Varel\, SH Manfred-Schmidt  (805120): Altjührdener Straße 34\, 26316 Varel (OT Altjührden)
CATEGORIES:Saison 2024/25
END:VEVENT
BEGIN:VEVENT
DTSTAMP:20260419T180115Z
DTSTART;TZID=Europe/Berlin:20241109T140000
DTEND;TZID=Europe/Berlin:20241109T150000
SUMMARY:Regionalliga WJC Vorr. West HSG Varel vs MTV Aurich (34)
UID:017cc985-c458-41fe-9922-d50566b89cda
STATUS:CONFIRMED
LAST-MODIFIED:20241109T202920Z
DESCRIPTION:Regionalliga weibliche Jugend C Vorrunde West\nBegegnungs-Nr: 34\nHeim: HSG Varel\nGast: MTV Aurich\nHalle: Varel\, SH Manfred-Schmidt  (805120)\nAdresse: Altjührdener Straße 34\, 26316 Varel (OT Altjührden)\n
LOCATION:Varel\, SH Manfred-Schmidt  (805120): Altjührdener Straße 34\, 26316 Varel (OT Altjührden)
CATEGORIES:Saison 2024/25
END:VEVENT
BEGIN:VEVENT
DTSTAMP:20260419T180115Z
DTSTART;TZID=Europe/Berlin:20240928T140000
DTEND;TZID=Europe/Berlin:20240928T150000
SUMMARY:Regionalliga WJC Vorr. West HSG Varel vs VfL Oldenburg (17)
UID:49bb674a-4474-4b84-a090-d94117c8f9f0
STATUS:CONFIRMED
LAST-MODIFIED:20240928T203015Z
DESCRIPTION:Regionalliga weibliche Jugend C Vorrunde West\nBegegnungs-Nr: 17\nHeim: HSG Varel\nGast: VfL Oldenburg\nHalle: Varel\, SH Manfred-Schmidt  (805120)\nAdresse: Altjührdener Straße 34\, 26316 Varel (OT Altjührden)\n
LOCATION:Varel\, SH Manfred-Schmidt  (805120): Altjührdener Straße 34\, 26316 Varel (OT Altjührden)
CATEGORIES:Saison 2024/25
END:VEVENT
BEGIN:VEVENT
DTSTAMP:20260419T180115Z
DTSTART;TZID=Europe/Berlin:20240914T111500
DTEND;TZID=Europe/Berlin:20240914T121500
SUMMARY:Regionalliga WJC Vorr. West HSG Varel vs BV Garrel (8)
UID:c79b5c74-6f4a-4d46-af55-3fa0d59d6758
STATUS:CONFIRMED
LAST-MODIFIED:20240917T120428Z
DESCRIPTION:Regionalliga weibliche Jugend C Vorrunde West\nBegegnungs-Nr: 8\nHeim: HSG Varel\nGast: BV Garrel\nHalle: Varel\, SH Manfred-Schmidt  (805120)\nAdresse: Altjührdener Straße 34\, 26316 Varel (OT Altjührden)\n
LOCATION:Varel\, SH Manfred-Schmidt  (805120): Altjührdener Straße 34\, 26316 Varel (OT Altjührden)
CATEGORIES:Saison 2024/25
END:VEVENT
BEGIN:VEVENT
DTSTAMP:20260419T180115Z
DTSTART;TZID=Europe/Berlin:20250119T143000
DTEND;TZID=Europe/Berlin:20250119T153000
SUMMARY:Oberliga WJC West SV Vorwärts Nordhorn vs HSG Varel (8)
UID:1e471a34-2181-4b35-bcba-59a37affc377
STATUS:CONFIRMED
LAST-MODIFIED:20250119T201233Z
DESCRIPTION:Oberliga weibliche Jugend C West\nBegegnungs-Nr: 8\nHeim: SV Vorwärts Nordhorn\nGast: HSG Varel\nHalle: Nordhorn\, SZ Nordhorn-Deegfeld (803140)\nAdresse: Deegfelder Weg\, 48531 Nordhorn (OT Deegfeld)\n
LOCATION:Nordhorn\, SZ Nordhorn-Deegfeld (803140): Deegfelder Weg\, 48531 Nordhorn (OT Deegfeld)
CATEGORIES:Saison 2024/25
END:VEVENT
BEGIN:VEVENT
DTSTAMP:20260419T180115Z
DTSTART;TZID=Europe/Berlin:20250209T170000
DTEND;TZID=Europe/Berlin:20250209T180000
SUMMARY:Oberliga WJC West HSG Stuhr vs HSG Varel (19)
UID:41407b7c-bfde-4b6b-9f3c-58afdcd3d665
STATUS:CONFIRMED
LAST-MODIFIED:20250212T133901Z
DESCRIPTION:Oberliga weibliche Jugend C West\nBegegnungs-Nr: 19\nHeim: HSG Stuhr\nGast: HSG Varel\nHalle: Stuhr-Brinkum\, SH FTSV Jahn Brinkum (401160)\nAdresse: Birkenstr. 60\, 28816 Stuhr (OT Brinkum)\n
LOCATION:Stuhr-Brinkum\, SH FTSV Jahn Brinkum (401160): Birkenstr. 60\, 28816 Stuhr (OT Brinkum)
CATEGORIES:Saison 2024/25
END:VEVENT
BEGIN:VEVENT
DTSTAMP:20260419T180115Z
DTSTART;TZID=Europe/Berlin:20250301T173000
DTEND;TZID=Europe/Berlin:20250301T183000
SUMMARY:Oberliga WJC West TV Neerstedt vs HSG Varel (30)
UID:7cd5912d-fe0b-4ce5-b94c-19ff1fe4162d
STATUS:CONFIRMED
LAST-MODIFIED:20250301T192752Z
DESCRIPTION:Oberliga weibliche Jugend C West\nBegegnungs-Nr: 30\nHeim: TV Neerstedt\nGast: HSG Varel\nHalle:  Neerstedt\, SZ (813037)\nAdresse: Am Sportplatz 7\, 27801 Neerstedt\n
LOCATION: Neerstedt\, SZ (813037): Am Sportplatz 7\, 27801 Neerstedt
CATEGORIES:Saison 2024/25
END:VEVENT
BEGIN:VEVENT
DTSTAMP:20260419T180115Z
DTSTART;TZID=Europe/Berlin:20250222T150000
DTEND;TZID=Europe/Berlin:20250222T160000
SUMMARY:Oberliga WJC West BV Garrel vs HSG Varel (42)
UID:e05b1d3a-297c-43b1-95fb-d929640c0e0c
STATUS:CONFIRMED
LAST-MODIFIED:20250226T100221Z
DESCRIPTION:Oberliga weibliche Jugend C West\nBegegnungs-Nr: 42\nHeim: BV Garrel\nGast: HSG Varel\nHalle: Garrel\, SZ  (809115)\nAdresse: St.-Johannes-Straße\, 49681 Garrel\n
LOCATION:Garrel\, SZ  (809115): St.-Johannes-Straße\, 49681 Garrel
CATEGORIES:Saison 2024/25
END:VEVENT
BEGIN:VEVENT
DTSTAMP:20260419T180115Z
DTSTART;TZID=Europe/Berlin:20240921T160000
DTEND;TZID=Europe/Berlin:20240921T170000
SUMMARY:Regionalliga WJC Vorr. West SV Cappeln vs HSG Varel (11)
UID:92d67215-0e23-45ee-a2d3-99c15875f440
STATUS:CONFIRMED
LAST-MODIFIED:20240923T125647Z
DESCRIPTION:Regionalliga weibliche Jugend C Vorrunde West\nBegegnungs-Nr: 11\nHeim: SV Cappeln\nGast: HSG Varel\nHalle: Cappeln\, SH  (809101)\nAdresse: Schulstraße 10\, 49692 Cappeln\n
LOCATION:Cappeln\, SH  (809101): Schulstraße 10\, 49692 Cappeln
CATEGORIES:Saison 2024/25
END:VEVENT
BEGIN:VEVENT
DTSTAMP:20260419T180115Z
DTSTART;TZID=Europe/Berlin:20241124T140000
DTEND;TZID=Europe/Berlin:20241124T150000
SUMMARY:Regionalliga WJC Vorr. West SFN Vechta vs HSG Varel (3)
UID:e79f5d57-d1bd-400c-bb80-741a7b5fd0b0
STATUS:CONFIRMED
LAST-MODIFIED:20241125T105509Z
DESCRIPTION:Regionalliga weibliche Jugend C Vorrunde West\nBegegnungs-Nr: 3\nHeim: SFN Vechta\nGast: HSG Varel\nHalle: Vechta-West\, SH  (809140)\nAdresse: Brüsseler Str. 37\, 49377 Vechta\n
LOCATION:Vechta-West\, SH  (809140): Brüsseler Str. 37\, 49377 Vechta
CATEGORIES:Saison 2024/25
END:VEVENT
BEGIN:VEVENT
DTSTAMP:20260419T180115Z
DTSTART;TZID=Europe/Berlin:20241020T160000
DTEND;TZID=Europe/Berlin:20241020T170000
SUMMARY:Regionalliga WJC Vorr. West SG Neuenhaus/Uelsen vs HSG Varel (23)
UID:dc48b4ff-51b6-4319-9a46-1aaef465c6e9
STATUS:CONFIRMED
LAST-MODIFIED:20241022T094914Z
DESCRIPTION:Regionalliga weibliche Jugend C Vorrunde West\nBegegnungs-Nr: 23\nHeim: SG Neuenhaus/Uelsen\nGast: HSG Varel\nHalle: Sportzentrum DinkelDuo Neuenhaus (803178)\nAdresse: Schulstraße 6\, 49828 Neuenhaus\n
LOCATION:Sportzentrum DinkelDuo Neuenhaus (803178): Schulstraße 6\, 49828 Neuenhaus
CATEGORIES:Saison 2024/25
END:VEVENT
BEGIN:VEVENT
DTSTAMP:20260419T180115Z
DTSTART;TZID=Europe/Berlin:20241116T150000
DTEND;TZID=Europe/Berlin:20241116T160000
SUMMARY:Regionalliga WJC Vorr. West TV Meppen vs HSG Varel (39)
UID:5e79255e-600c-4d58-9907-19668d389274
STATUS:CONFIRMED
LAST-MODIFIED:20241116T221655Z
DESCRIPTION:Regionalliga weibliche Jugend C Vorrunde West\nBegegnungs-Nr: 39\nHeim: TV Meppen\nGast: HSG Varel\nHalle: Meppen-Altstadt\, Nagelshof I und II  (Stadt-SH)  (803130)\nAdresse: Nagelshof\, 49716 Meppen (OT Altstadt)\n
LOCATION:Meppen-Altstadt\, Nagelshof I und II  (Stadt-SH)  (803130): Nagelshof\, 49716 Meppen (OT Altstadt)
CATEGORIES:Saison 2024/25
END:VEVENT
END:VCALENDAR
