BEGIN:VCALENDAR
PRODID:-//nuDatenautomaten//framework iCal4j //DE
VERSION:2.0
CALSCALE:GREGORIAN
BEGIN:VTIMEZONE
TZID:Europe/Berlin
LAST-MODIFIED:20260306T231828Z
TZURL:https://www.tzurl.org/zoneinfo/Europe/Berlin
X-LIC-LOCATION:Europe/Berlin
X-PROLEPTIC-TZNAME:LMT
BEGIN:STANDARD
TZNAME:CET
TZOFFSETFROM:+005328
TZOFFSETTO:+0100
DTSTART:18930401T000000
END:STANDARD
BEGIN:DAYLIGHT
TZNAME:CEST
TZOFFSETFROM:+0100
TZOFFSETTO:+0200
DTSTART:19160430T230000
RDATE:19400401T020000
RDATE:19430329T020000
RDATE:19460414T020000
RDATE:19470406T030000
RDATE:19480418T020000
RDATE:19490410T020000
RDATE:19800406T020000
END:DAYLIGHT
BEGIN:STANDARD
TZNAME:CET
TZOFFSETFROM:+0200
TZOFFSETTO:+0100
DTSTART:19161001T010000
RDATE:19421102T030000
RDATE:19431004T030000
RDATE:19441002T030000
RDATE:19451118T030000
RDATE:19461007T030000
END:STANDARD
BEGIN:DAYLIGHT
TZNAME:CEST
TZOFFSETFROM:+0100
TZOFFSETTO:+0200
DTSTART:19170416T020000
RRULE:FREQ=YEARLY;UNTIL=19180415T010000Z;BYMONTH=4;BYDAY=3MO
END:DAYLIGHT
BEGIN:STANDARD
TZNAME:CET
TZOFFSETFROM:+0200
TZOFFSETTO:+0100
DTSTART:19170917T030000
RRULE:FREQ=YEARLY;UNTIL=19180916T010000Z;BYMONTH=9;BYDAY=3MO
END:STANDARD
BEGIN:DAYLIGHT
TZNAME:CEST
TZOFFSETFROM:+0100
TZOFFSETTO:+0200
DTSTART:19440403T020000
RRULE:FREQ=YEARLY;UNTIL=19450402T010000Z;BYMONTH=4;BYDAY=1MO
END:DAYLIGHT
BEGIN:DAYLIGHT
TZNAME:CEMT
TZOFFSETFROM:+0200
TZOFFSETTO:+0300
DTSTART:19450524T020000
RDATE:19470511T030000
END:DAYLIGHT
BEGIN:DAYLIGHT
TZNAME:CEST
TZOFFSETFROM:+0300
TZOFFSETTO:+0200
DTSTART:19450924T030000
RDATE:19470629T030000
END:DAYLIGHT
BEGIN:STANDARD
TZNAME:CET
TZOFFSETFROM:+0100
TZOFFSETTO:+0100
DTSTART:19460101T000000
RDATE:19800101T000000
END:STANDARD
BEGIN:STANDARD
TZNAME:CET
TZOFFSETFROM:+0200
TZOFFSETTO:+0100
DTSTART:19471005T030000
RRULE:FREQ=YEARLY;UNTIL=19491002T010000Z;BYMONTH=10;BYDAY=1SU
END:STANDARD
BEGIN:STANDARD
TZNAME:CET
TZOFFSETFROM:+0200
TZOFFSETTO:+0100
DTSTART:19800928T030000
RRULE:FREQ=YEARLY;UNTIL=19950924T010000Z;BYMONTH=9;BYDAY=-1SU
END:STANDARD
BEGIN:DAYLIGHT
TZNAME:CEST
TZOFFSETFROM:+0100
TZOFFSETTO:+0200
DTSTART:19810329T020000
RRULE:FREQ=YEARLY;BYMONTH=3;BYDAY=-1SU
END:DAYLIGHT
BEGIN:STANDARD
TZNAME:CET
TZOFFSETFROM:+0200
TZOFFSETTO:+0100
DTSTART:19961027T030000
RRULE:FREQ=YEARLY;BYMONTH=10;BYDAY=-1SU
END:STANDARD
END:VTIMEZONE
BEGIN:VEVENT
DTSTAMP:20260419T111417Z
DTSTART;TZID=Europe/Berlin:20241130T120000
DTEND;TZID=Europe/Berlin:20241130T130000
SUMMARY:Regionsliga MJD West SG Lingen-Lohne vs TSV Ostrhauderfehn e.V. (941318)
UID:48dadba3-f3aa-4922-b8a8-1aad48a6fe28
STATUS:CONFIRMED
LAST-MODIFIED:20241201T110309Z
DESCRIPTION:Regionsliga männl. Jugend D West\nBegegnungs-Nr: 941318\nHeim: SG Lingen-Lohne\nGast: TSV Ostrhauderfehn e.V.\nHalle:  Lohne\, Mehrzweckhalle (803163)\nAdresse: Jahnstr. 8\, 49835 Wietmarschen (Lohne)\n
LOCATION: Lohne\, Mehrzweckhalle (803163): Jahnstr. 8\, 49835 Wietmarschen (Lohne)
CATEGORIES:Saison 2024/25
END:VEVENT
BEGIN:VEVENT
DTSTAMP:20260419T111417Z
DTSTART;TZID=Europe/Berlin:20241029T180000
DTEND;TZID=Europe/Berlin:20241029T190000
SUMMARY:Regionsliga MJD West SG Lingen-Lohne vs HSG Bentheim/Gildehaus (941307)
UID:d1c0e0b7-1b76-47af-b707-85b28349f1d6
STATUS:CONFIRMED
LAST-MODIFIED:20241030T073213Z
DESCRIPTION:Regionsliga männl. Jugend D West\nBegegnungs-Nr: 941307\nHeim: SG Lingen-Lohne\nGast: HSG Bentheim/Gildehaus\nHalle:  Lohne\, Mehrzweckhalle (803163)\nAdresse: Jahnstr. 8\, 49835 Wietmarschen (Lohne)\n
LOCATION: Lohne\, Mehrzweckhalle (803163): Jahnstr. 8\, 49835 Wietmarschen (Lohne)
CATEGORIES:Saison 2024/25
END:VEVENT
BEGIN:VEVENT
DTSTAMP:20260419T111417Z
DTSTART;TZID=Europe/Berlin:20250319T173000
DTEND;TZID=Europe/Berlin:20250319T183000
SUMMARY:Regionsliga MJD West SG Lingen-Lohne vs SG Lingen-Lohne II (941349)
UID:9352bbfd-9d2b-445f-81d5-ceae92ea7680
STATUS:CONFIRMED
LAST-MODIFIED:20250323T111630Z
DESCRIPTION:Regionsliga männl. Jugend D West\nBegegnungs-Nr: 941349\nHeim: SG Lingen-Lohne\nGast: SG Lingen-Lohne II\nHalle:  Lohne\, Mehrzweckhalle (803163)\nAdresse: Jahnstr. 8\, 49835 Wietmarschen (Lohne)\n
LOCATION: Lohne\, Mehrzweckhalle (803163): Jahnstr. 8\, 49835 Wietmarschen (Lohne)
CATEGORIES:Saison 2024/25
END:VEVENT
BEGIN:VEVENT
DTSTAMP:20260419T111417Z
DTSTART;TZID=Europe/Berlin:20250215T123000
DTEND;TZID=Europe/Berlin:20250215T133000
SUMMARY:Regionsliga MJD West SG Lingen-Lohne vs HSG Nordhorn e.V. II (941343)
UID:dac2b7df-6e90-4233-a3cb-ac1b7d764bac
STATUS:CONFIRMED
LAST-MODIFIED:20250218T172237Z
DESCRIPTION:Regionsliga männl. Jugend D West\nBegegnungs-Nr: 941343\nHeim: SG Lingen-Lohne\nGast: HSG Nordhorn e.V. II\nHalle:  Lohne\, Mehrzweckhalle (803163)\nAdresse: Jahnstr. 8\, 49835 Wietmarschen (Lohne)\n
LOCATION: Lohne\, Mehrzweckhalle (803163): Jahnstr. 8\, 49835 Wietmarschen (Lohne)
CATEGORIES:Saison 2024/25
END:VEVENT
BEGIN:VEVENT
DTSTAMP:20260419T111417Z
DTSTART;TZID=Europe/Berlin:20241027T153000
DTEND;TZID=Europe/Berlin:20241027T163000
SUMMARY:Regionsliga MJD West SG Lingen-Lohne vs JSG Larrelt/ Pewsum/ Groß Midlum (941304)
UID:e2297252-f534-4eb5-aa89-29b57c8287b8
STATUS:CONFIRMED
LAST-MODIFIED:20241027T183234Z
DESCRIPTION:Regionsliga männl. Jugend D West\nBegegnungs-Nr: 941304\nHeim: SG Lingen-Lohne\nGast: JSG Larrelt/ Pewsum/ Groß Midlum\nHalle:  Lohne\, Mehrzweckhalle (803163)\nAdresse: Jahnstr. 8\, 49835 Wietmarschen (Lohne)\n
LOCATION: Lohne\, Mehrzweckhalle (803163): Jahnstr. 8\, 49835 Wietmarschen (Lohne)
CATEGORIES:Saison 2024/25
END:VEVENT
BEGIN:VEVENT
DTSTAMP:20260419T111417Z
DTSTART;TZID=Europe/Berlin:20250111T133000
DTEND;TZID=Europe/Berlin:20250111T143000
SUMMARY:Regionsliga MJD West SG Lingen-Lohne vs HSG Emden (941327)
UID:305a5ade-8fb2-4995-94e8-0e3062db3232
STATUS:CONFIRMED
LAST-MODIFIED:20250112T192346Z
DESCRIPTION:Regionsliga männl. Jugend D West\nBegegnungs-Nr: 941327\nHeim: SG Lingen-Lohne\nGast: HSG Emden\nHalle: Lingen\, G Johanneum  (803126)\nAdresse: Kardinal-von-Galen-Straße 7\, 49809 Lingen\n
LOCATION:Lingen\, G Johanneum  (803126): Kardinal-von-Galen-Straße 7\, 49809 Lingen
CATEGORIES:Saison 2024/25
END:VEVENT
BEGIN:VEVENT
DTSTAMP:20260419T111417Z
DTSTART;TZID=Europe/Berlin:20241110T163000
DTEND;TZID=Europe/Berlin:20241110T173000
SUMMARY:Regionsliga MJD West SG Lingen-Lohne vs SC Union Emlichheim (941312)
UID:0975958e-3d39-4d4e-97f1-4557a509c535
STATUS:CONFIRMED
LAST-MODIFIED:20241112T155758Z
DESCRIPTION:Regionsliga männl. Jugend D West\nBegegnungs-Nr: 941312\nHeim: SG Lingen-Lohne\nGast: SC Union Emlichheim\nHalle: Lingen\, SH Gebrüder-Grimm-Schule (803128)\nAdresse: Elsterstr.1\, 49808 Lingen\n
LOCATION:Lingen\, SH Gebrüder-Grimm-Schule (803128): Elsterstr.1\, 49808 Lingen
CATEGORIES:Saison 2024/25
END:VEVENT
BEGIN:VEVENT
DTSTAMP:20260419T111417Z
DTSTART;TZID=Europe/Berlin:20240921T100000
DTEND;TZID=Europe/Berlin:20240921T110000
SUMMARY:Vorrunde MJD 3 SG Lingen-Lohne vs SG Teuto Handball (942325)
UID:126c2e01-413a-4989-a0f1-d26824c04307
STATUS:CONFIRMED
LAST-MODIFIED:20240922T083235Z
DESCRIPTION:Vorrunde MJD 3\nBegegnungs-Nr: 942325\nHeim: SG Lingen-Lohne\nGast: SG Teuto Handball\nHalle: Hagen a.T.W.\, SH -Gellenbeck (808134)\nAdresse: Görsmannstrasse 14\, 49170 Hagen a.T.W. (OT Gellenbeck)\n
LOCATION:Hagen a.T.W.\, SH -Gellenbeck (808134): Görsmannstrasse 14\, 49170 Hagen a.T.W. (OT Gellenbeck)
CATEGORIES:Saison 2024/25
END:VEVENT
BEGIN:VEVENT
DTSTAMP:20260419T111417Z
DTSTART;TZID=Europe/Berlin:20240921T120000
DTEND;TZID=Europe/Berlin:20240921T130000
SUMMARY:Vorrunde MJD 3 SG Lingen-Lohne vs SV Eversburg (942327)
UID:fa6c293c-d124-4a73-bbdd-3704401e4341
STATUS:CONFIRMED
LAST-MODIFIED:20240922T083411Z
DESCRIPTION:Vorrunde MJD 3\nBegegnungs-Nr: 942327\nHeim: SG Lingen-Lohne\nGast: SV Eversburg\nHalle: Hagen a.T.W.\, SH -Gellenbeck (808134)\nAdresse: Görsmannstrasse 14\, 49170 Hagen a.T.W. (OT Gellenbeck)\n
LOCATION:Hagen a.T.W.\, SH -Gellenbeck (808134): Görsmannstrasse 14\, 49170 Hagen a.T.W. (OT Gellenbeck)
CATEGORIES:Saison 2024/25
END:VEVENT
BEGIN:VEVENT
DTSTAMP:20260419T111417Z
DTSTART;TZID=Europe/Berlin:20250329T120000
DTEND;TZID=Europe/Berlin:20250329T130000
SUMMARY:Regionsliga MJD West HSG Emden vs SG Lingen-Lohne (941353)
UID:3aa1e47d-9d66-4a12-83da-8dac0d851859
STATUS:CONFIRMED
LAST-MODIFIED:20250330T092116Z
DESCRIPTION:Regionsliga männl. Jugend D West\nBegegnungs-Nr: 941353\nHeim: HSG Emden\nGast: SG Lingen-Lohne\nHalle: Emden\, SH BBS II (806109)\nAdresse: Steinweg\, 26721 Emden\n
LOCATION:Emden\, SH BBS II (806109): Steinweg\, 26721 Emden
CATEGORIES:Saison 2024/25
END:VEVENT
BEGIN:VEVENT
DTSTAMP:20260419T111417Z
DTSTART;TZID=Europe/Berlin:20250208T154500
DTEND;TZID=Europe/Berlin:20250208T164500
SUMMARY:Regionsliga MJD West SC Union Emlichheim vs SG Lingen-Lohne (941339)
UID:9d4b5c61-9f52-4756-802c-d42b5cfe593e
STATUS:CONFIRMED
LAST-MODIFIED:20250211T164232Z
DESCRIPTION:Regionsliga männl. Jugend D West\nBegegnungs-Nr: 941339\nHeim: SC Union Emlichheim\nGast: SG Lingen-Lohne\nHalle: Emlichheim\, Herbert Taube Halle  (803109)\nAdresse: Lägen Diek\, 49824 Emlichheim\n
LOCATION:Emlichheim\, Herbert Taube Halle  (803109): Lägen Diek\, 49824 Emlichheim
CATEGORIES:Saison 2024/25
END:VEVENT
BEGIN:VEVENT
DTSTAMP:20260419T111417Z
DTSTART;TZID=Europe/Berlin:20241117T113000
DTEND;TZID=Europe/Berlin:20241117T123000
SUMMARY:Regionsliga MJD West HSG Nordhorn e.V. II vs SG Lingen-Lohne (941315)
UID:1d37e538-38c7-4965-9a38-4a7964bee5cd
STATUS:CONFIRMED
LAST-MODIFIED:20241118T173324Z
DESCRIPTION:Regionsliga männl. Jugend D West\nBegegnungs-Nr: 941315\nHeim: HSG Nordhorn e.V. II\nGast: SG Lingen-Lohne\nHalle: Nordhorn-Mitte\, KSH I Euregium  (803138)\nAdresse: Wilhelm-Raabe-Straße 15\, 48527 Nordhorn (OT Mitte)\n
LOCATION:Nordhorn-Mitte\, KSH I Euregium  (803138): Wilhelm-Raabe-Straße 15\, 48527 Nordhorn (OT Mitte)
CATEGORIES:Saison 2024/25
END:VEVENT
BEGIN:VEVENT
DTSTAMP:20260419T111417Z
DTSTART;TZID=Europe/Berlin:20250119T140000
DTEND;TZID=Europe/Berlin:20250119T150000
SUMMARY:Regionsliga MJD West JSG Larrelt/ Pewsum/ Groß Midlum vs SG Lingen-Lohne (941333)
UID:98478d0f-9295-4a1c-9c62-baf15a62f2ce
STATUS:CONFIRMED
LAST-MODIFIED:20250122T185259Z
DESCRIPTION:Regionsliga männl. Jugend D West\nBegegnungs-Nr: 941333\nHeim: JSG Larrelt/ Pewsum/ Groß Midlum\nGast: SG Lingen-Lohne\nHalle: Krummhörn-Pewsum\, SZ (802140)\nAdresse: Bunter Weg\, 26736 Krummhörn (OT Pewsum)\n
LOCATION:Krummhörn-Pewsum\, SZ (802140): Bunter Weg\, 26736 Krummhörn (OT Pewsum)
CATEGORIES:Saison 2024/25
END:VEVENT
BEGIN:VEVENT
DTSTAMP:20260419T111417Z
DTSTART;TZID=Europe/Berlin:20240907T120000
DTEND;TZID=Europe/Berlin:20240907T130000
SUMMARY:Vorrunde MJD 3 HSG Nordhorn e.V. II vs SG Lingen-Lohne (942318)
UID:dcbb4cda-7a27-4257-8c29-9bdc9621b3f3
STATUS:CONFIRMED
LAST-MODIFIED:20240908T105304Z
DESCRIPTION:Vorrunde MJD 3\nBegegnungs-Nr: 942318\nHeim: HSG Nordhorn e.V. II\nGast: SG Lingen-Lohne\nHalle: Lingen-Darme\, Friedensschule  (803124)\nAdresse: Kiesbergstraße 80\, 49809 Lingen (OT Darme)\n
LOCATION:Lingen-Darme\, Friedensschule  (803124): Kiesbergstraße 80\, 49809 Lingen (OT Darme)
CATEGORIES:Saison 2024/25
END:VEVENT
BEGIN:VEVENT
DTSTAMP:20260419T111417Z
DTSTART;TZID=Europe/Berlin:20240825T110000
DTEND;TZID=Europe/Berlin:20240825T120000
SUMMARY:Vorrunde MJD 3 THC Westerkappeln vs SG Lingen-Lohne (942302)
UID:8ce825a9-55f5-440b-9466-4e4b1e703853
STATUS:CONFIRMED
LAST-MODIFIED:20240826T154322Z
DESCRIPTION:Vorrunde MJD 3\nBegegnungs-Nr: 942302\nHeim: THC Westerkappeln\nGast: SG Lingen-Lohne\nHalle: Westerkappeln\, SH  (808177)\nAdresse: Osnabrücker Straße\, 49492 Westerkappeln\n
LOCATION:Westerkappeln\, SH  (808177): Osnabrücker Straße\, 49492 Westerkappeln
CATEGORIES:Saison 2024/25
END:VEVENT
BEGIN:VEVENT
DTSTAMP:20260419T111417Z
DTSTART;TZID=Europe/Berlin:20241204T173000
DTEND;TZID=Europe/Berlin:20241204T183000
SUMMARY:Regionsliga MJD West SG Lingen-Lohne II vs SG Lingen-Lohne (941321)
UID:a783c474-ae38-4f2b-b5bd-fe255e4604f0
STATUS:CONFIRMED
LAST-MODIFIED:20241208T111155Z
DESCRIPTION:Regionsliga männl. Jugend D West\nBegegnungs-Nr: 941321\nHeim: SG Lingen-Lohne II\nGast: SG Lingen-Lohne\nHalle:  Lohne\, Mehrzweckhalle (803163)\nAdresse: Jahnstr. 8\, 49835 Wietmarschen (Lohne)\n
LOCATION: Lohne\, Mehrzweckhalle (803163): Jahnstr. 8\, 49835 Wietmarschen (Lohne)
CATEGORIES:Saison 2024/25
END:VEVENT
BEGIN:VEVENT
DTSTAMP:20260419T111417Z
DTSTART;TZID=Europe/Berlin:20250301T120000
DTEND;TZID=Europe/Berlin:20250301T130000
SUMMARY:Regionsliga MJD West TSV Ostrhauderfehn e.V. vs SG Lingen-Lohne (941346)
UID:39f20f3f-db0d-499a-ba40-1746dff59b13
STATUS:CONFIRMED
LAST-MODIFIED:20250303T160934Z
DESCRIPTION:Regionsliga männl. Jugend D West\nBegegnungs-Nr: 941346\nHeim: TSV Ostrhauderfehn e.V.\nGast: SG Lingen-Lohne\nHalle: Ostrhauderfehn\, HRS (806113)\nAdresse: Hauptstraße 155\, 26842 Ostrhauderfehn\n
LOCATION:Ostrhauderfehn\, HRS (806113): Hauptstraße 155\, 26842 Ostrhauderfehn
CATEGORIES:Saison 2024/25
END:VEVENT
BEGIN:VEVENT
DTSTAMP:20260419T111417Z
DTSTART;TZID=Europe/Berlin:20250223T153000
DTEND;TZID=Europe/Berlin:20250223T163000
SUMMARY:Regionsliga MJD West HSG Bentheim/Gildehaus vs SG Lingen-Lohne (941334)
UID:a3648493-8432-4b1a-8afe-bc86bef48ec8
STATUS:CONFIRMED
LAST-MODIFIED:20250224T155923Z
DESCRIPTION:Regionsliga männl. Jugend D West\nBegegnungs-Nr: 941334\nHeim: HSG Bentheim/Gildehaus\nGast: SG Lingen-Lohne\nHalle: Bad Bentheim\, Schürkamphalle  (803102)\nAdresse: Schürkamp\, 48455 Bad Bentheim\n
LOCATION:Bad Bentheim\, Schürkamphalle  (803102): Schürkamp\, 48455 Bad Bentheim
CATEGORIES:Saison 2024/25
END:VEVENT
BEGIN:VEVENT
DTSTAMP:20260419T111417Z
DTSTART;TZID=Europe/Berlin:20240825T130000
DTEND;TZID=Europe/Berlin:20240825T140000
SUMMARY:Vorrunde MJD 3 TV Bissendorf-Holte vs SG Lingen-Lohne (942304)
UID:845e176e-4592-41a8-ad2d-fa254dce8bc0
STATUS:CONFIRMED
LAST-MODIFIED:20240826T154456Z
DESCRIPTION:Vorrunde MJD 3\nBegegnungs-Nr: 942304\nHeim: TV Bissendorf-Holte\nGast: SG Lingen-Lohne\nHalle: Westerkappeln\, SH  (808177)\nAdresse: Osnabrücker Straße\, 49492 Westerkappeln\n
LOCATION:Westerkappeln\, SH  (808177): Osnabrücker Straße\, 49492 Westerkappeln
CATEGORIES:Saison 2024/25
END:VEVENT
BEGIN:VEVENT
DTSTAMP:20260419T111417Z
DTSTART;TZID=Europe/Berlin:20240907T100000
DTEND;TZID=Europe/Berlin:20240907T110000
SUMMARY:Vorrunde MJD 3 HSG Osnabrück vs SG Lingen-Lohne (942314)
UID:5b1d039a-5a83-4fbc-9802-fef7df9b089a
STATUS:CONFIRMED
LAST-MODIFIED:20240908T104548Z
DESCRIPTION:Vorrunde MJD 3\nBegegnungs-Nr: 942314\nHeim: HSG Osnabrück\nGast: SG Lingen-Lohne\nHalle: Lingen-Darme\, Friedensschule  (803124)\nAdresse: Kiesbergstraße 80\, 49809 Lingen (OT Darme)\n
LOCATION:Lingen-Darme\, Friedensschule  (803124): Kiesbergstraße 80\, 49809 Lingen (OT Darme)
CATEGORIES:Saison 2024/25
END:VEVENT
BEGIN:VEVENT
DTSTAMP:20260419T111417Z
DTSTART;TZID=Europe/Berlin:20240825T100000
DTEND;TZID=Europe/Berlin:20240825T110000
SUMMARY:Vorrunde MJD 3 TV Georgsmarienhütte vs SG Lingen-Lohne (942301)
UID:2ff49869-82e8-4952-aa25-d9b27505dcd9
STATUS:CONFIRMED
LAST-MODIFIED:20240826T154229Z
DESCRIPTION:Vorrunde MJD 3\nBegegnungs-Nr: 942301\nHeim: TV Georgsmarienhütte\nGast: SG Lingen-Lohne\nHalle: Westerkappeln\, SH  (808177)\nAdresse: Osnabrücker Straße\, 49492 Westerkappeln\n
LOCATION:Westerkappeln\, SH  (808177): Osnabrücker Straße\, 49492 Westerkappeln
CATEGORIES:Saison 2024/25
END:VEVENT
END:VCALENDAR
