BEGIN:VCALENDAR
PRODID:-//nuDatenautomaten//framework iCal4j //DE
VERSION:2.0
CALSCALE:GREGORIAN
BEGIN:VTIMEZONE
TZID:Europe/Berlin
LAST-MODIFIED:20260306T231828Z
TZURL:https://www.tzurl.org/zoneinfo/Europe/Berlin
X-LIC-LOCATION:Europe/Berlin
X-PROLEPTIC-TZNAME:LMT
BEGIN:STANDARD
TZNAME:CET
TZOFFSETFROM:+005328
TZOFFSETTO:+0100
DTSTART:18930401T000000
END:STANDARD
BEGIN:DAYLIGHT
TZNAME:CEST
TZOFFSETFROM:+0100
TZOFFSETTO:+0200
DTSTART:19160430T230000
RDATE:19400401T020000
RDATE:19430329T020000
RDATE:19460414T020000
RDATE:19470406T030000
RDATE:19480418T020000
RDATE:19490410T020000
RDATE:19800406T020000
END:DAYLIGHT
BEGIN:STANDARD
TZNAME:CET
TZOFFSETFROM:+0200
TZOFFSETTO:+0100
DTSTART:19161001T010000
RDATE:19421102T030000
RDATE:19431004T030000
RDATE:19441002T030000
RDATE:19451118T030000
RDATE:19461007T030000
END:STANDARD
BEGIN:DAYLIGHT
TZNAME:CEST
TZOFFSETFROM:+0100
TZOFFSETTO:+0200
DTSTART:19170416T020000
RRULE:FREQ=YEARLY;UNTIL=19180415T010000Z;BYMONTH=4;BYDAY=3MO
END:DAYLIGHT
BEGIN:STANDARD
TZNAME:CET
TZOFFSETFROM:+0200
TZOFFSETTO:+0100
DTSTART:19170917T030000
RRULE:FREQ=YEARLY;UNTIL=19180916T010000Z;BYMONTH=9;BYDAY=3MO
END:STANDARD
BEGIN:DAYLIGHT
TZNAME:CEST
TZOFFSETFROM:+0100
TZOFFSETTO:+0200
DTSTART:19440403T020000
RRULE:FREQ=YEARLY;UNTIL=19450402T010000Z;BYMONTH=4;BYDAY=1MO
END:DAYLIGHT
BEGIN:DAYLIGHT
TZNAME:CEMT
TZOFFSETFROM:+0200
TZOFFSETTO:+0300
DTSTART:19450524T020000
RDATE:19470511T030000
END:DAYLIGHT
BEGIN:DAYLIGHT
TZNAME:CEST
TZOFFSETFROM:+0300
TZOFFSETTO:+0200
DTSTART:19450924T030000
RDATE:19470629T030000
END:DAYLIGHT
BEGIN:STANDARD
TZNAME:CET
TZOFFSETFROM:+0100
TZOFFSETTO:+0100
DTSTART:19460101T000000
RDATE:19800101T000000
END:STANDARD
BEGIN:STANDARD
TZNAME:CET
TZOFFSETFROM:+0200
TZOFFSETTO:+0100
DTSTART:19471005T030000
RRULE:FREQ=YEARLY;UNTIL=19491002T010000Z;BYMONTH=10;BYDAY=1SU
END:STANDARD
BEGIN:STANDARD
TZNAME:CET
TZOFFSETFROM:+0200
TZOFFSETTO:+0100
DTSTART:19800928T030000
RRULE:FREQ=YEARLY;UNTIL=19950924T010000Z;BYMONTH=9;BYDAY=-1SU
END:STANDARD
BEGIN:DAYLIGHT
TZNAME:CEST
TZOFFSETFROM:+0100
TZOFFSETTO:+0200
DTSTART:19810329T020000
RRULE:FREQ=YEARLY;BYMONTH=3;BYDAY=-1SU
END:DAYLIGHT
BEGIN:STANDARD
TZNAME:CET
TZOFFSETFROM:+0200
TZOFFSETTO:+0100
DTSTART:19961027T030000
RRULE:FREQ=YEARLY;BYMONTH=10;BYDAY=-1SU
END:STANDARD
END:VTIMEZONE
BEGIN:VEVENT
DTSTAMP:20260423T134750Z
DTSTART;TZID=Europe/Berlin:20241110T150000
DTEND;TZID=Europe/Berlin:20241110T160000
SUMMARY:Regionsoberliga ME Nord JSG Fredenbeck/Stade gem. vs JSG Fredenbeck/Stade II (14)
UID:29fcacf7-eb1d-483c-9a3a-19076431e926
STATUS:CONFIRMED
LAST-MODIFIED:20241111T112108Z
DESCRIPTION:Regionsoberliga männliche Jugend E Nord\nBegegnungs-Nr: 14\nHeim: JSG Fredenbeck/Stade gem.\nGast: JSG Fredenbeck/Stade II\nHalle: Sportcampus Stade (BCR) (608178)\nAdresse: Harsefelder Landstr. 200\, 21684 Stade\n
LOCATION:Sportcampus Stade (BCR) (608178): Harsefelder Landstr. 200\, 21684 Stade
CATEGORIES:Saison 2024/25
END:VEVENT
BEGIN:VEVENT
DTSTAMP:20260423T134750Z
DTSTART;TZID=Europe/Berlin:20240908T121500
DTEND;TZID=Europe/Berlin:20240908T131500
SUMMARY:Vorrunde ME Staffel 8 JSG Fredenbeck/Stade gem. vs JSG Himmelpforten/Oldendorf (4)
UID:c5dd87de-c481-4790-bebe-02d7b4e202f4
STATUS:CONFIRMED
LAST-MODIFIED:20240911T202702Z
DESCRIPTION:Vorrunde männliche Jugend E Staffel 8\nBegegnungs-Nr: 4\nHeim: JSG Fredenbeck/Stade gem.\nGast: JSG Himmelpforten/Oldendorf\nHalle: Drochtersen\,SH (608107)\nAdresse: Am Sportplatz 19\, 21706 Drochtersen\n
LOCATION:Drochtersen\,SH (608107): Am Sportplatz 19\, 21706 Drochtersen
CATEGORIES:Saison 2024/25
END:VEVENT
BEGIN:VEVENT
DTSTAMP:20260423T134750Z
DTSTART;TZID=Europe/Berlin:20240922T103500
DTEND;TZID=Europe/Berlin:20240922T113500
SUMMARY:Vorrunde ME Staffel 8 JSG Fredenbeck/Stade gem. vs VfL Horneburg II (7)
UID:9038f986-f4f1-4c58-ae1f-8561e91acf6b
STATUS:CONFIRMED
LAST-MODIFIED:20241002T122920Z
DESCRIPTION:Vorrunde männliche Jugend E Staffel 8\nBegegnungs-Nr: 7\nHeim: JSG Fredenbeck/Stade gem.\nGast: VfL Horneburg II\nHalle: Sportcampus Stade (BCR) (608178)\nAdresse: Harsefelder Landstr. 200\, 21684 Stade\n
LOCATION:Sportcampus Stade (BCR) (608178): Harsefelder Landstr. 200\, 21684 Stade
CATEGORIES:Saison 2024/25
END:VEVENT
BEGIN:VEVENT
DTSTAMP:20260423T134750Z
DTSTART;TZID=Europe/Berlin:20240922T121500
DTEND;TZID=Europe/Berlin:20240922T131500
SUMMARY:Vorrunde ME Staffel 8 JSG Fredenbeck/Stade gem. vs mJSG Buxtehude/ Beckdorf II (9)
UID:f545cae1-d693-4d4e-958e-553c3d6a6c4d
STATUS:CONFIRMED
LAST-MODIFIED:20240924T163847Z
DESCRIPTION:Vorrunde männliche Jugend E Staffel 8\nBegegnungs-Nr: 9\nHeim: JSG Fredenbeck/Stade gem.\nGast: mJSG Buxtehude/ Beckdorf II\nHalle: Sportcampus Stade (BCR) (608178)\nAdresse: Harsefelder Landstr. 200\, 21684 Stade\n
LOCATION:Sportcampus Stade (BCR) (608178): Harsefelder Landstr. 200\, 21684 Stade
CATEGORIES:Saison 2024/25
END:VEVENT
BEGIN:VEVENT
DTSTAMP:20260423T134750Z
DTSTART;TZID=Europe/Berlin:20241027T100000
DTEND;TZID=Europe/Berlin:20241027T110000
SUMMARY:Regionsoberliga ME Nord JSG Fredenbeck/Stade gem. vs TSV Bremervörde (3)
UID:1852612c-6d2d-40c3-a418-8d3d2a6fe568
STATUS:CONFIRMED
LAST-MODIFIED:20241029T185215Z
DESCRIPTION:Regionsoberliga männliche Jugend E Nord\nBegegnungs-Nr: 3\nHeim: JSG Fredenbeck/Stade gem.\nGast: TSV Bremervörde\nHalle: Fredenbeck\, Geestland-Halle (608108)\nAdresse: Am Mühlenbeck 2\, 21717 Fredenbeck\n
LOCATION:Fredenbeck\, Geestland-Halle (608108): Am Mühlenbeck 2\, 21717 Fredenbeck
CATEGORIES:Saison 2024/25
END:VEVENT
BEGIN:VEVENT
DTSTAMP:20260423T134750Z
DTSTART;TZID=Europe/Berlin:20241201T153000
DTEND;TZID=Europe/Berlin:20241201T163000
SUMMARY:Regionsoberliga ME Nord JSG Fredenbeck/Stade gem. vs HSG Bützfleth/Drochtersen (30)
UID:7a22a02a-b084-4843-b307-9a97625b41ae
STATUS:CONFIRMED
LAST-MODIFIED:20241204T100158Z
DESCRIPTION:Regionsoberliga männliche Jugend E Nord\nBegegnungs-Nr: 30\nHeim: JSG Fredenbeck/Stade gem.\nGast: HSG Bützfleth/Drochtersen\nHalle: Sportcampus Stade (BCR) (608178)\nAdresse: Harsefelder Landstr. 200\, 21684 Stade\n
LOCATION:Sportcampus Stade (BCR) (608178): Harsefelder Landstr. 200\, 21684 Stade
CATEGORIES:Saison 2024/25
END:VEVENT
BEGIN:VEVENT
DTSTAMP:20260423T134750Z
DTSTART;TZID=Europe/Berlin:20250112T110000
DTEND;TZID=Europe/Berlin:20250112T120000
SUMMARY:Regionsoberliga ME Nord JSG Fredenbeck/Stade gem. vs SG Luhdorf/Scharmbeck (37)
UID:659f0ab5-374e-4a14-b70c-2328b1ad0519
STATUS:CONFIRMED
LAST-MODIFIED:20250112T205838Z
DESCRIPTION:Regionsoberliga männliche Jugend E Nord\nBegegnungs-Nr: 37\nHeim: JSG Fredenbeck/Stade gem.\nGast: SG Luhdorf/Scharmbeck\nHalle: Stade\, SH Berufsschule (neu) (608134)\nAdresse: Glückstädter Straße 17\, 21682 Stade\n
LOCATION:Stade\, SH Berufsschule (neu) (608134): Glückstädter Straße 17\, 21682 Stade
CATEGORIES:Saison 2024/25
END:VEVENT
BEGIN:VEVENT
DTSTAMP:20260423T134750Z
DTSTART;TZID=Europe/Berlin:20250209T150000
DTEND;TZID=Europe/Berlin:20250209T160000
SUMMARY:Regionsoberliga ME Nord JSG Fredenbeck/Stade gem. vs VfL Horneburg (54)
UID:233ef025-f3ae-4086-b523-c6b1e3ac1cd5
STATUS:CONFIRMED
LAST-MODIFIED:20250211T151801Z
DESCRIPTION:Regionsoberliga männliche Jugend E Nord\nBegegnungs-Nr: 54\nHeim: JSG Fredenbeck/Stade gem.\nGast: VfL Horneburg\nHalle: Sportcampus Stade (BCR) (608178)\nAdresse: Harsefelder Landstr. 200\, 21684 Stade\n
LOCATION:Sportcampus Stade (BCR) (608178): Harsefelder Landstr. 200\, 21684 Stade
CATEGORIES:Saison 2024/25
END:VEVENT
BEGIN:VEVENT
DTSTAMP:20260423T134750Z
DTSTART;TZID=Europe/Berlin:20250223T100000
DTEND;TZID=Europe/Berlin:20250223T110000
SUMMARY:Regionsoberliga ME Nord JSG Fredenbeck/Stade gem. vs mJSG Buxtehude/ Beckdorf (65)
UID:765c8826-a288-42a7-ac0c-1e3adc2db214
STATUS:CONFIRMED
LAST-MODIFIED:20250225T094820Z
DESCRIPTION:Regionsoberliga männliche Jugend E Nord\nBegegnungs-Nr: 65\nHeim: JSG Fredenbeck/Stade gem.\nGast: mJSG Buxtehude/ Beckdorf\nHalle: Stade\, SH Berufsschule (neu) (608134)\nAdresse: Glückstädter Straße 17\, 21682 Stade\n
LOCATION:Stade\, SH Berufsschule (neu) (608134): Glückstädter Straße 17\, 21682 Stade
CATEGORIES:Saison 2024/25
END:VEVENT
BEGIN:VEVENT
DTSTAMP:20260423T134750Z
DTSTART;TZID=Europe/Berlin:20250330T113000
DTEND;TZID=Europe/Berlin:20250330T123000
SUMMARY:Regionsoberliga ME Nord JSG Fredenbeck/Stade gem. vs TVV Neu-Wulmstorf (88)
UID:254c1a41-e9d9-4b67-9130-5729c2d2831e
STATUS:CONFIRMED
LAST-MODIFIED:20250331T140506Z
DESCRIPTION:Regionsoberliga männliche Jugend E Nord\nBegegnungs-Nr: 88\nHeim: JSG Fredenbeck/Stade gem.\nGast: TVV Neu-Wulmstorf\nHalle: Sportcampus Stade (BCR) (608178)\nAdresse: Harsefelder Landstr. 200\, 21684 Stade\n
LOCATION:Sportcampus Stade (BCR) (608178): Harsefelder Landstr. 200\, 21684 Stade
CATEGORIES:Saison 2024/25
END:VEVENT
BEGIN:VEVENT
DTSTAMP:20260423T134750Z
DTSTART;TZID=Europe/Berlin:20250122T173000
DTEND;TZID=Europe/Berlin:20250122T183000
SUMMARY:Regionsoberliga ME Nord TVV Neu-Wulmstorf vs JSG Fredenbeck/Stade gem. (43)
UID:6420bd4c-6aaf-4500-834c-2bd967aa25e0
STATUS:CONFIRMED
LAST-MODIFIED:20250122T213902Z
DESCRIPTION:Regionsoberliga männliche Jugend E Nord\nBegegnungs-Nr: 43\nHeim: TVV Neu-Wulmstorf\nGast: JSG Fredenbeck/Stade gem.\nHalle: Neu Wulmstorf\, SH Gymnasium (603116)\nAdresse: Ernst-Moritz-Arndt-Straße 18 (Oberschule) \, 21629 Neu-Wulmstorf\n
LOCATION:Neu Wulmstorf\, SH Gymnasium (603116): Ernst-Moritz-Arndt-Straße 18 (Oberschule) \, 21629 Neu-Wulmstorf
CATEGORIES:Saison 2024/25
END:VEVENT
BEGIN:VEVENT
DTSTAMP:20260423T134750Z
DTSTART;TZID=Europe/Berlin:20250307T173000
DTEND;TZID=Europe/Berlin:20250307T183000
SUMMARY:Regionsoberliga ME Nord JSG Fredenbeck/Stade II vs JSG Fredenbeck/Stade gem. (59)
UID:38b63f87-1a5c-4c60-8dc4-a2e092c8a182
STATUS:CONFIRMED
LAST-MODIFIED:20250312T133059Z
DESCRIPTION:Regionsoberliga männliche Jugend E Nord\nBegegnungs-Nr: 59\nHeim: JSG Fredenbeck/Stade II\nGast: JSG Fredenbeck/Stade gem.\nHalle: Fredenbeck\, Geestland-Halle (608108)\nAdresse: Am Mühlenbeck 2\, 21717 Fredenbeck\n
LOCATION:Fredenbeck\, Geestland-Halle (608108): Am Mühlenbeck 2\, 21717 Fredenbeck
CATEGORIES:Saison 2024/25
END:VEVENT
BEGIN:VEVENT
DTSTAMP:20260423T134750Z
DTSTART;TZID=Europe/Berlin:20241124T100000
DTEND;TZID=Europe/Berlin:20241124T110000
SUMMARY:Regionsoberliga ME Nord TuS Jahn Hollenstedt vs JSG Fredenbeck/Stade gem. (25)
UID:054e7170-2bba-42e7-b8f5-35bc84c4473f
STATUS:CONFIRMED
LAST-MODIFIED:20241127T134121Z
DESCRIPTION:Regionsoberliga männliche Jugend E Nord\nBegegnungs-Nr: 25\nHeim: TuS Jahn Hollenstedt\nGast: JSG Fredenbeck/Stade gem.\nHalle: Hollenstedt\, Max-Schmeling-Hallen (Halle 1) (603110)\nAdresse: Jahnstraße\, 21279 Hollenstedt\n
LOCATION:Hollenstedt\, Max-Schmeling-Hallen (Halle 1) (603110): Jahnstraße\, 21279 Hollenstedt
CATEGORIES:Saison 2024/25
END:VEVENT
BEGIN:VEVENT
DTSTAMP:20260423T134750Z
DTSTART;TZID=Europe/Berlin:20240908T100000
DTEND;TZID=Europe/Berlin:20240908T110000
SUMMARY:Vorrunde ME Staffel 8 TuS Harsefeld II vs JSG Fredenbeck/Stade gem. (1)
UID:803d3c01-d474-481c-8ff0-9347b5c13b56
STATUS:CONFIRMED
LAST-MODIFIED:20240911T202359Z
DESCRIPTION:Vorrunde männliche Jugend E Staffel 8\nBegegnungs-Nr: 1\nHeim: TuS Harsefeld II\nGast: JSG Fredenbeck/Stade gem.\nHalle: Drochtersen\,SH (608107)\nAdresse: Am Sportplatz 19\, 21706 Drochtersen\n
LOCATION:Drochtersen\,SH (608107): Am Sportplatz 19\, 21706 Drochtersen
CATEGORIES:Saison 2024/25
END:VEVENT
BEGIN:VEVENT
DTSTAMP:20260423T134750Z
DTSTART;TZID=Europe/Berlin:20240908T112500
DTEND;TZID=Europe/Berlin:20240908T122500
SUMMARY:Vorrunde ME Staffel 8 HSG Bützfleth/Drochtersen vs JSG Fredenbeck/Stade gem. (3)
UID:32da9b99-277b-4332-a40e-604f7af37cef
STATUS:CONFIRMED
LAST-MODIFIED:20240911T202618Z
DESCRIPTION:Vorrunde männliche Jugend E Staffel 8\nBegegnungs-Nr: 3\nHeim: HSG Bützfleth/Drochtersen\nGast: JSG Fredenbeck/Stade gem.\nHalle: Drochtersen\,SH (608107)\nAdresse: Am Sportplatz 19\, 21706 Drochtersen\n
LOCATION:Drochtersen\,SH (608107): Am Sportplatz 19\, 21706 Drochtersen
CATEGORIES:Saison 2024/25
END:VEVENT
BEGIN:VEVENT
DTSTAMP:20260423T134750Z
DTSTART;TZID=Europe/Berlin:20241116T131500
DTEND;TZID=Europe/Berlin:20241116T141500
SUMMARY:Regionsoberliga ME Nord mJSG Buxtehude/ Beckdorf vs JSG Fredenbeck/Stade gem. (20)
UID:145f42fc-bbf1-4d8a-b0c4-bbac69ec49b0
STATUS:CONFIRMED
LAST-MODIFIED:20241119T105439Z
DESCRIPTION:Regionsoberliga männliche Jugend E Nord\nBegegnungs-Nr: 20\nHeim: mJSG Buxtehude/ Beckdorf\nGast: JSG Fredenbeck/Stade gem.\nHalle: Buxtehude\, Halle Nord (608163)\nAdresse: Hansestraße 15\, 21614 Buxtehude\n
LOCATION:Buxtehude\, Halle Nord (608163): Hansestraße 15\, 21614 Buxtehude
CATEGORIES:Saison 2024/25
END:VEVENT
BEGIN:VEVENT
DTSTAMP:20260423T134750Z
DTSTART;TZID=Europe/Berlin:20250126T130000
DTEND;TZID=Europe/Berlin:20250126T140000
SUMMARY:Regionsoberliga ME Nord TSV Bremervörde vs JSG Fredenbeck/Stade gem. (48)
UID:9919eceb-896a-44e3-879c-000e29b02b6b
STATUS:CONFIRMED
LAST-MODIFIED:20250130T161955Z
DESCRIPTION:Regionsoberliga männliche Jugend E Nord\nBegegnungs-Nr: 48\nHeim: TSV Bremervörde\nGast: JSG Fredenbeck/Stade gem.\nHalle: Bremervörde\, SH Realschule (608156)\nAdresse: Gnarrenburger Str. 32\, 27432 Bremervörde\n
LOCATION:Bremervörde\, SH Realschule (608156): Gnarrenburger Str. 32\, 27432 Bremervörde
CATEGORIES:Saison 2024/25
END:VEVENT
BEGIN:VEVENT
DTSTAMP:20260423T134750Z
DTSTART;TZID=Europe/Berlin:20250309T103000
DTEND;TZID=Europe/Berlin:20250309T113000
SUMMARY:Regionsoberliga ME Nord HSG Bützfleth/Drochtersen vs JSG Fredenbeck/Stade gem. (75)
UID:906a0009-5efe-49dc-8abe-157eab4234f9
STATUS:CONFIRMED
LAST-MODIFIED:20250312T133228Z
DESCRIPTION:Regionsoberliga männliche Jugend E Nord\nBegegnungs-Nr: 75\nHeim: HSG Bützfleth/Drochtersen\nGast: JSG Fredenbeck/Stade gem.\nHalle: Bützfleth (608104)\nAdresse: Am Schwimmbad 1\, 21683 Stade OT Bützfleth\n
LOCATION:Bützfleth (608104): Am Schwimmbad 1\, 21683 Stade OT Bützfleth
CATEGORIES:Saison 2024/25
END:VEVENT
BEGIN:VEVENT
DTSTAMP:20260423T134750Z
DTSTART;TZID=Europe/Berlin:20241215T100000
DTEND;TZID=Europe/Berlin:20241215T110000
SUMMARY:Regionsoberliga ME Nord VfL Horneburg vs JSG Fredenbeck/Stade gem. (9)
UID:e921f017-55a3-475e-b5cf-14d3f1fecbdb
STATUS:CONFIRMED
LAST-MODIFIED:20241215T202535Z
DESCRIPTION:Regionsoberliga männliche Jugend E Nord\nBegegnungs-Nr: 9\nHeim: VfL Horneburg\nGast: JSG Fredenbeck/Stade gem.\nHalle: Horneburg\, SH 1 (608115)\nAdresse: Hermannstraße 27 (Zufahrt wegen Bauarbeiten nur über Stader Straße und Lerchenweg möglich)\, 21640 Horneburg\n
LOCATION:Horneburg\, SH 1 (608115): Hermannstraße 27 (Zufahrt wegen Bauarbeiten nur über Stader Straße und Lerchenweg möglich)\, 21640 Horneburg
CATEGORIES:Saison 2024/25
END:VEVENT
BEGIN:VEVENT
DTSTAMP:20260423T134750Z
DTSTART;TZID=Europe/Berlin:20250323T133000
DTEND;TZID=Europe/Berlin:20250323T143000
SUMMARY:Regionsoberliga ME Nord SG Luhdorf/Scharmbeck vs JSG Fredenbeck/Stade gem. (82)
UID:84a3595c-47d3-439e-aee7-3125f72dd181
STATUS:CONFIRMED
LAST-MODIFIED:20250325T085425Z
DESCRIPTION:Regionsoberliga männliche Jugend E Nord\nBegegnungs-Nr: 82\nHeim: SG Luhdorf/Scharmbeck\nGast: JSG Fredenbeck/Stade gem.\nHalle: Winsen-Luhdorf\, Peter-Wind-Halle (603112)\nAdresse: Höllenberg\, 21423 Winsen/Luhe (OT Luhdorf)\n
LOCATION:Winsen-Luhdorf\, Peter-Wind-Halle (603112): Höllenberg\, 21423 Winsen/Luhe (OT Luhdorf)
CATEGORIES:Saison 2024/25
END:VEVENT
END:VCALENDAR
