BEGIN:VCALENDAR
PRODID:-//nuDatenautomaten//framework iCal4j //DE
VERSION:2.0
CALSCALE:GREGORIAN
BEGIN:VTIMEZONE
TZID:Europe/Berlin
LAST-MODIFIED:20260306T231828Z
TZURL:https://www.tzurl.org/zoneinfo/Europe/Berlin
X-LIC-LOCATION:Europe/Berlin
X-PROLEPTIC-TZNAME:LMT
BEGIN:STANDARD
TZNAME:CET
TZOFFSETFROM:+005328
TZOFFSETTO:+0100
DTSTART:18930401T000000
END:STANDARD
BEGIN:DAYLIGHT
TZNAME:CEST
TZOFFSETFROM:+0100
TZOFFSETTO:+0200
DTSTART:19160430T230000
RDATE:19400401T020000
RDATE:19430329T020000
RDATE:19460414T020000
RDATE:19470406T030000
RDATE:19480418T020000
RDATE:19490410T020000
RDATE:19800406T020000
END:DAYLIGHT
BEGIN:STANDARD
TZNAME:CET
TZOFFSETFROM:+0200
TZOFFSETTO:+0100
DTSTART:19161001T010000
RDATE:19421102T030000
RDATE:19431004T030000
RDATE:19441002T030000
RDATE:19451118T030000
RDATE:19461007T030000
END:STANDARD
BEGIN:DAYLIGHT
TZNAME:CEST
TZOFFSETFROM:+0100
TZOFFSETTO:+0200
DTSTART:19170416T020000
RRULE:FREQ=YEARLY;UNTIL=19180415T010000Z;BYMONTH=4;BYDAY=3MO
END:DAYLIGHT
BEGIN:STANDARD
TZNAME:CET
TZOFFSETFROM:+0200
TZOFFSETTO:+0100
DTSTART:19170917T030000
RRULE:FREQ=YEARLY;UNTIL=19180916T010000Z;BYMONTH=9;BYDAY=3MO
END:STANDARD
BEGIN:DAYLIGHT
TZNAME:CEST
TZOFFSETFROM:+0100
TZOFFSETTO:+0200
DTSTART:19440403T020000
RRULE:FREQ=YEARLY;UNTIL=19450402T010000Z;BYMONTH=4;BYDAY=1MO
END:DAYLIGHT
BEGIN:DAYLIGHT
TZNAME:CEMT
TZOFFSETFROM:+0200
TZOFFSETTO:+0300
DTSTART:19450524T020000
RDATE:19470511T030000
END:DAYLIGHT
BEGIN:DAYLIGHT
TZNAME:CEST
TZOFFSETFROM:+0300
TZOFFSETTO:+0200
DTSTART:19450924T030000
RDATE:19470629T030000
END:DAYLIGHT
BEGIN:STANDARD
TZNAME:CET
TZOFFSETFROM:+0100
TZOFFSETTO:+0100
DTSTART:19460101T000000
RDATE:19800101T000000
END:STANDARD
BEGIN:STANDARD
TZNAME:CET
TZOFFSETFROM:+0200
TZOFFSETTO:+0100
DTSTART:19471005T030000
RRULE:FREQ=YEARLY;UNTIL=19491002T010000Z;BYMONTH=10;BYDAY=1SU
END:STANDARD
BEGIN:STANDARD
TZNAME:CET
TZOFFSETFROM:+0200
TZOFFSETTO:+0100
DTSTART:19800928T030000
RRULE:FREQ=YEARLY;UNTIL=19950924T010000Z;BYMONTH=9;BYDAY=-1SU
END:STANDARD
BEGIN:DAYLIGHT
TZNAME:CEST
TZOFFSETFROM:+0100
TZOFFSETTO:+0200
DTSTART:19810329T020000
RRULE:FREQ=YEARLY;BYMONTH=3;BYDAY=-1SU
END:DAYLIGHT
BEGIN:STANDARD
TZNAME:CET
TZOFFSETFROM:+0200
TZOFFSETTO:+0100
DTSTART:19961027T030000
RRULE:FREQ=YEARLY;BYMONTH=10;BYDAY=-1SU
END:STANDARD
END:VTIMEZONE
BEGIN:VEVENT
DTSTAMP:20260420T032520Z
DTSTART;TZID=Europe/Berlin:20250118T140000
DTEND;TZID=Europe/Berlin:20250118T153000
SUMMARY:Oberliga MJA Süd JSG Söhre-Himmelsthür vs SG Börde Handball (50)
UID:ea80b11a-bedb-45bd-9e97-97b855f54fb3
STATUS:CONFIRMED
LAST-MODIFIED:20250119T141717Z
DESCRIPTION:Oberliga männliche Jugend A Staffel Süd\nBegegnungs-Nr: 50\nHeim: JSG Söhre-Himmelsthür\nGast: SG Börde Handball\nHalle: Hildesheim\, SH Gymnasium (405107)\nAdresse: Jahnstraße\, 31137 Hildesheim (OT Himmelsthür)\n
LOCATION:Hildesheim\, SH Gymnasium (405107): Jahnstraße\, 31137 Hildesheim (OT Himmelsthür)
CATEGORIES:Saison 2024/25
END:VEVENT
BEGIN:VEVENT
DTSTAMP:20260420T032520Z
DTSTART;TZID=Europe/Berlin:20250223T140000
DTEND;TZID=Europe/Berlin:20250223T153000
SUMMARY:Oberliga MJA Süd JSG Söhre-Himmelsthür vs JSG Münden/Volkmarsh. (18)
UID:815d7149-4c52-44f8-8a18-212ad709766c
STATUS:CONFIRMED
LAST-MODIFIED:20250223T174950Z
DESCRIPTION:Oberliga männliche Jugend A Staffel Süd\nBegegnungs-Nr: 18\nHeim: JSG Söhre-Himmelsthür\nGast: JSG Münden/Volkmarsh.\nHalle: Hildesheim\, SH Gymnasium (405107)\nAdresse: Jahnstraße\, 31137 Hildesheim (OT Himmelsthür)\n
LOCATION:Hildesheim\, SH Gymnasium (405107): Jahnstraße\, 31137 Hildesheim (OT Himmelsthür)
CATEGORIES:Saison 2024/25
END:VEVENT
BEGIN:VEVENT
DTSTAMP:20260420T032520Z
DTSTART;TZID=Europe/Berlin:20240915T140000
DTEND;TZID=Europe/Berlin:20240915T153000
SUMMARY:Oberliga MJA Süd JSG Söhre-Himmelsthür vs HSG Deister Süntel (3)
UID:602097cf-5f28-4aea-acba-2345bb93f012
STATUS:CONFIRMED
LAST-MODIFIED:20240915T143524Z
DESCRIPTION:Oberliga männliche Jugend A Staffel Süd\nBegegnungs-Nr: 3\nHeim: JSG Söhre-Himmelsthür\nGast: HSG Deister Süntel\nHalle: Hildesheim\, SH Gymnasium (405107)\nAdresse: Jahnstraße\, 31137 Hildesheim (OT Himmelsthür)\n
LOCATION:Hildesheim\, SH Gymnasium (405107): Jahnstraße\, 31137 Hildesheim (OT Himmelsthür)
CATEGORIES:Saison 2024/25
END:VEVENT
BEGIN:VEVENT
DTSTAMP:20260420T032520Z
DTSTART;TZID=Europe/Berlin:20241201T130000
DTEND;TZID=Europe/Berlin:20241201T143000
SUMMARY:Oberliga MJA Süd JSG Söhre-Himmelsthür vs MTV Geismar (21)
UID:7ffbead6-94f6-4f5d-a399-2f9377154d63
STATUS:CONFIRMED
LAST-MODIFIED:20241201T143316Z
DESCRIPTION:Oberliga männliche Jugend A Staffel Süd\nBegegnungs-Nr: 21\nHeim: JSG Söhre-Himmelsthür\nGast: MTV Geismar\nHalle: Hildesheim\, SH Gymnasium (405107)\nAdresse: Jahnstraße\, 31137 Hildesheim (OT Himmelsthür)\n
LOCATION:Hildesheim\, SH Gymnasium (405107): Jahnstraße\, 31137 Hildesheim (OT Himmelsthür)
CATEGORIES:Saison 2024/25
END:VEVENT
BEGIN:VEVENT
DTSTAMP:20260420T032520Z
DTSTART;TZID=Europe/Berlin:20240929T144500
DTEND;TZID=Europe/Berlin:20240929T161500
SUMMARY:Oberliga MJA Süd JSG Söhre-Himmelsthür vs Tuspo Weende (13)
UID:76cf3064-8a37-4d72-aa1a-ac51af4799a7
STATUS:CONFIRMED
LAST-MODIFIED:20241010T070650Z
DESCRIPTION:Oberliga männliche Jugend A Staffel Süd\nBegegnungs-Nr: 13\nHeim: JSG Söhre-Himmelsthür\nGast: Tuspo Weende\nHalle: Hildesheim\, SH Gymnasium (405107)\nAdresse: Jahnstraße\, 31137 Hildesheim (OT Himmelsthür)\n
LOCATION:Hildesheim\, SH Gymnasium (405107): Jahnstraße\, 31137 Hildesheim (OT Himmelsthür)
CATEGORIES:Saison 2024/25
END:VEVENT
BEGIN:VEVENT
DTSTAMP:20260420T032520Z
DTSTART;TZID=Europe/Berlin:20250315T190000
DTEND;TZID=Europe/Berlin:20250315T203000
SUMMARY:Oberliga MJA Süd JSG Söhre-Himmelsthür vs MTV Vorsfelde (79)
UID:2de1fad5-8858-4818-bdbc-ac17438ec273
STATUS:CONFIRMED
LAST-MODIFIED:20250316T091139Z
DESCRIPTION:Oberliga männliche Jugend A Staffel Süd\nBegegnungs-Nr: 79\nHeim: JSG Söhre-Himmelsthür\nGast: MTV Vorsfelde\nHalle: Hildesheim\, SH Gymnasium (405107)\nAdresse: Jahnstraße\, 31137 Hildesheim (OT Himmelsthür)\n
LOCATION:Hildesheim\, SH Gymnasium (405107): Jahnstraße\, 31137 Hildesheim (OT Himmelsthür)
CATEGORIES:Saison 2024/25
END:VEVENT
BEGIN:VEVENT
DTSTAMP:20260420T032520Z
DTSTART;TZID=Europe/Berlin:20250330T170000
DTEND;TZID=Europe/Berlin:20250330T183000
SUMMARY:Oberliga MJA Süd JSG Söhre-Himmelsthür vs HSV Warberg/Lelm (89)
UID:cf9d38c1-b7fe-4c87-b0b7-d31e1acf1f88
STATUS:CONFIRMED
LAST-MODIFIED:20250331T180054Z
DESCRIPTION:Oberliga männliche Jugend A Staffel Süd\nBegegnungs-Nr: 89\nHeim: JSG Söhre-Himmelsthür\nGast: HSV Warberg/Lelm\nHalle: Hildesheim\, SH Gymnasium (405107)\nAdresse: Jahnstraße\, 31137 Hildesheim (OT Himmelsthür)\n
LOCATION:Hildesheim\, SH Gymnasium (405107): Jahnstraße\, 31137 Hildesheim (OT Himmelsthür)
CATEGORIES:Saison 2024/25
END:VEVENT
BEGIN:VEVENT
DTSTAMP:20260420T032520Z
DTSTART;TZID=Europe/Berlin:20241124T153000
DTEND;TZID=Europe/Berlin:20241124T170000
SUMMARY:Oberliga MJA Süd JSG Söhre-Himmelsthür vs HSG Schaumburg-Nord (36)
UID:8f5c260d-b041-4381-a89f-954543816247
STATUS:CONFIRMED
LAST-MODIFIED:20241124T190700Z
DESCRIPTION:Oberliga männliche Jugend A Staffel Süd\nBegegnungs-Nr: 36\nHeim: JSG Söhre-Himmelsthür\nGast: HSG Schaumburg-Nord\nHalle: Hildesheim\, SH Gymnasium (405107)\nAdresse: Jahnstraße\, 31137 Hildesheim (OT Himmelsthür)\n
LOCATION:Hildesheim\, SH Gymnasium (405107): Jahnstraße\, 31137 Hildesheim (OT Himmelsthür)
CATEGORIES:Saison 2024/25
END:VEVENT
BEGIN:VEVENT
DTSTAMP:20260420T032520Z
DTSTART;TZID=Europe/Berlin:20241117T163000
DTEND;TZID=Europe/Berlin:20241117T180000
SUMMARY:Oberliga MJA Süd JSG Söhre-Himmelsthür vs TuS Vinnhorst (32)
UID:7db48280-2edc-4105-b7ca-90aaa7346784
STATUS:CONFIRMED
LAST-MODIFIED:20241117T191346Z
DESCRIPTION:Oberliga männliche Jugend A Staffel Süd\nBegegnungs-Nr: 32\nHeim: JSG Söhre-Himmelsthür\nGast: TuS Vinnhorst\nHalle: Hildesheim\, SH Gymnasium (405107)\nAdresse: Jahnstraße\, 31137 Hildesheim (OT Himmelsthür)\n
LOCATION:Hildesheim\, SH Gymnasium (405107): Jahnstraße\, 31137 Hildesheim (OT Himmelsthür)
CATEGORIES:Saison 2024/25
END:VEVENT
BEGIN:VEVENT
DTSTAMP:20260420T032520Z
DTSTART;TZID=Europe/Berlin:20241214T160000
DTEND;TZID=Europe/Berlin:20241214T173000
SUMMARY:Oberliga MJA Süd HSG Deister Süntel vs JSG Söhre-Himmelsthür (43)
UID:203bff95-0d6e-402b-a346-b318059b7fa2
STATUS:CONFIRMED
LAST-MODIFIED:20241214T203133Z
DESCRIPTION:Oberliga männliche Jugend A Staffel Süd\nBegegnungs-Nr: 43\nHeim: HSG Deister Süntel\nGast: JSG Söhre-Himmelsthür\nHalle: Springe\, SZ Süd I (403387)\nAdresse: Harmsmühlenstraße\, 31832 Springe\n
LOCATION:Springe\, SZ Süd I (403387): Harmsmühlenstraße\, 31832 Springe
CATEGORIES:Saison 2024/25
END:VEVENT
BEGIN:VEVENT
DTSTAMP:20260420T032520Z
DTSTART;TZID=Europe/Berlin:20250216T170000
DTEND;TZID=Europe/Berlin:20250216T183000
SUMMARY:Oberliga MJA Süd MTV Geismar vs JSG Söhre-Himmelsthür (68)
UID:49cecf16-0209-42bf-8396-85eca0b19cde
STATUS:CONFIRMED
LAST-MODIFIED:20250216T201429Z
DESCRIPTION:Oberliga männliche Jugend A Staffel Süd\nBegegnungs-Nr: 68\nHeim: MTV Geismar\nGast: JSG Söhre-Himmelsthür\nHalle: Geismar\, SH II (203103)\nAdresse: Schulweg\, 37083 Göttingen (OT Geismar)\n
LOCATION:Geismar\, SH II (203103): Schulweg\, 37083 Göttingen (OT Geismar)
CATEGORIES:Saison 2024/25
END:VEVENT
BEGIN:VEVENT
DTSTAMP:20260420T032520Z
DTSTART;TZID=Europe/Berlin:20240921T151500
DTEND;TZID=Europe/Berlin:20240921T164500
SUMMARY:Oberliga MJA Süd SG Börde Handball vs JSG Söhre-Himmelsthür (7)
UID:acec609f-77e1-4cb8-9cd1-b2d0199dff9e
STATUS:CONFIRMED
LAST-MODIFIED:20240922T092239Z
DESCRIPTION:Oberliga männliche Jugend A Staffel Süd\nBegegnungs-Nr: 7\nHeim: SG Börde Handball\nGast: JSG Söhre-Himmelsthür\nHalle: Schellerten\, SH (405109)\nAdresse: Holztrift\, 31174  Schellerten\n
LOCATION:Schellerten\, SH (405109): Holztrift\, 31174  Schellerten
CATEGORIES:Saison 2024/25
END:VEVENT
BEGIN:VEVENT
DTSTAMP:20260420T032520Z
DTSTART;TZID=Europe/Berlin:20250309T140000
DTEND;TZID=Europe/Berlin:20250309T153000
SUMMARY:Oberliga MJA Süd TuS Vinnhorst vs JSG Söhre-Himmelsthür (76)
UID:9c2d0c71-9647-4eeb-9948-49eb600bfd8a
STATUS:CONFIRMED
LAST-MODIFIED:20250309T143840Z
DESCRIPTION:Oberliga männliche Jugend A Staffel Süd\nBegegnungs-Nr: 76\nHeim: TuS Vinnhorst\nGast: JSG Söhre-Himmelsthür\nHalle: Hannover\, Sportzentrum TuS Vinnhorst (403171)\nAdresse: Grashöfe 27\, 30419 Hannover\n
LOCATION:Hannover\, Sportzentrum TuS Vinnhorst (403171): Grashöfe 27\, 30419 Hannover
CATEGORIES:Saison 2024/25
END:VEVENT
BEGIN:VEVENT
DTSTAMP:20260420T032520Z
DTSTART;TZID=Europe/Berlin:20250323T170000
DTEND;TZID=Europe/Berlin:20250323T183000
SUMMARY:Oberliga MJA Süd HSG Schaumburg-Nord vs JSG Söhre-Himmelsthür (85)
UID:9969ab2a-1d1f-4331-bbdd-9be5acbba123
STATUS:CONFIRMED
LAST-MODIFIED:20250323T212745Z
DESCRIPTION:Oberliga männliche Jugend A Staffel Süd\nBegegnungs-Nr: 85\nHeim: HSG Schaumburg-Nord\nGast: JSG Söhre-Himmelsthür\nHalle: Bad Nenndorf\, SH Waltringhausen  (406131)\nAdresse: Sportplatzweg\, 31542 Bad Nenndorf\n
LOCATION:Bad Nenndorf\, SH Waltringhausen  (406131): Sportplatzweg\, 31542 Bad Nenndorf
CATEGORIES:Saison 2024/25
END:VEVENT
BEGIN:VEVENT
DTSTAMP:20260420T032520Z
DTSTART;TZID=Europe/Berlin:20250209T160000
DTEND;TZID=Europe/Berlin:20250209T173000
SUMMARY:Oberliga MJA Süd JSG Münden/Volkmarsh. vs JSG Söhre-Himmelsthür (63)
UID:45c34203-e224-45be-992c-ab083ec430eb
STATUS:CONFIRMED
LAST-MODIFIED:20250214T175104Z
DESCRIPTION:Oberliga männliche Jugend A Staffel Süd\nBegegnungs-Nr: 63\nHeim: JSG Münden/Volkmarsh.\nGast: JSG Söhre-Himmelsthür\nHalle: Hann.-Münden\, SH Gymnasium (203140)\nAdresse: Mitscherlichstraße 1\, 34346 Hann-Münden\n
LOCATION:Hann.-Münden\, SH Gymnasium (203140): Mitscherlichstraße 1\, 34346 Hann-Münden
CATEGORIES:Saison 2024/25
END:VEVENT
BEGIN:VEVENT
DTSTAMP:20260420T032520Z
DTSTART;TZID=Europe/Berlin:20250126T143000
DTEND;TZID=Europe/Berlin:20250126T160000
SUMMARY:Oberliga MJA Süd Tuspo Weende vs JSG Söhre-Himmelsthür (58)
UID:73dc820a-37b2-4448-a1a0-64514bf80475
STATUS:CONFIRMED
LAST-MODIFIED:20250126T153543Z
DESCRIPTION:Oberliga männliche Jugend A Staffel Süd\nBegegnungs-Nr: 58\nHeim: Tuspo Weende\nGast: JSG Söhre-Himmelsthür\nHalle: Göttingen-Weende\, SH (203112)\nAdresse: James Franck Ring\, 37077 Göttingen\n
LOCATION:Göttingen-Weende\, SH (203112): James Franck Ring\, 37077 Göttingen
CATEGORIES:Saison 2024/25
END:VEVENT
BEGIN:VEVENT
DTSTAMP:20260420T032520Z
DTSTART;TZID=Europe/Berlin:20241208T160000
DTEND;TZID=Europe/Berlin:20241208T173000
SUMMARY:Oberliga MJA Süd HSV Warberg/Lelm vs JSG Söhre-Himmelsthür (41)
UID:e3d60137-8535-4f87-8da5-0858ddbf7b51
STATUS:CONFIRMED
LAST-MODIFIED:20241209T065453Z
DESCRIPTION:Oberliga männliche Jugend A Staffel Süd\nBegegnungs-Nr: 41\nHeim: HSV Warberg/Lelm\nGast: JSG Söhre-Himmelsthür\nHalle: Süpplingen\, Nord-Elm-Sporthalle (205105)\nAdresse: Süpplingenburger Straße\, 38373 Süpplingen\n
LOCATION:Süpplingen\, Nord-Elm-Sporthalle (205105): Süpplingenburger Straße\, 38373 Süpplingen
CATEGORIES:Saison 2024/25
END:VEVENT
BEGIN:VEVENT
DTSTAMP:20260420T032520Z
DTSTART;TZID=Europe/Berlin:20250210T200000
DTEND;TZID=Europe/Berlin:20250210T213000
SUMMARY:Oberliga MJA Süd MTV Vorsfelde vs JSG Söhre-Himmelsthür (26)
UID:31d452fc-932b-4846-988d-9b97315f8e47
STATUS:CONFIRMED
LAST-MODIFIED:20250214T174909Z
DESCRIPTION:Oberliga männliche Jugend A Staffel Süd\nBegegnungs-Nr: 26\nHeim: MTV Vorsfelde\nGast: JSG Söhre-Himmelsthür\nHalle: Wolfsburg\, Carl-Hahn-Schule (202101)\nAdresse: Tischlerstraße\, 38440 Wolfsburg\n
LOCATION:Wolfsburg\, Carl-Hahn-Schule (202101): Tischlerstraße\, 38440 Wolfsburg
CATEGORIES:Saison 2024/25
END:VEVENT
END:VCALENDAR
