BEGIN:VCALENDAR
PRODID:-//nuDatenautomaten//framework iCal4j //DE
VERSION:2.0
CALSCALE:GREGORIAN
BEGIN:VTIMEZONE
TZID:Europe/Berlin
LAST-MODIFIED:20260306T231828Z
TZURL:https://www.tzurl.org/zoneinfo/Europe/Berlin
X-LIC-LOCATION:Europe/Berlin
X-PROLEPTIC-TZNAME:LMT
BEGIN:STANDARD
TZNAME:CET
TZOFFSETFROM:+005328
TZOFFSETTO:+0100
DTSTART:18930401T000000
END:STANDARD
BEGIN:DAYLIGHT
TZNAME:CEST
TZOFFSETFROM:+0100
TZOFFSETTO:+0200
DTSTART:19160430T230000
RDATE:19400401T020000
RDATE:19430329T020000
RDATE:19460414T020000
RDATE:19470406T030000
RDATE:19480418T020000
RDATE:19490410T020000
RDATE:19800406T020000
END:DAYLIGHT
BEGIN:STANDARD
TZNAME:CET
TZOFFSETFROM:+0200
TZOFFSETTO:+0100
DTSTART:19161001T010000
RDATE:19421102T030000
RDATE:19431004T030000
RDATE:19441002T030000
RDATE:19451118T030000
RDATE:19461007T030000
END:STANDARD
BEGIN:DAYLIGHT
TZNAME:CEST
TZOFFSETFROM:+0100
TZOFFSETTO:+0200
DTSTART:19170416T020000
RRULE:FREQ=YEARLY;UNTIL=19180415T010000Z;BYMONTH=4;BYDAY=3MO
END:DAYLIGHT
BEGIN:STANDARD
TZNAME:CET
TZOFFSETFROM:+0200
TZOFFSETTO:+0100
DTSTART:19170917T030000
RRULE:FREQ=YEARLY;UNTIL=19180916T010000Z;BYMONTH=9;BYDAY=3MO
END:STANDARD
BEGIN:DAYLIGHT
TZNAME:CEST
TZOFFSETFROM:+0100
TZOFFSETTO:+0200
DTSTART:19440403T020000
RRULE:FREQ=YEARLY;UNTIL=19450402T010000Z;BYMONTH=4;BYDAY=1MO
END:DAYLIGHT
BEGIN:DAYLIGHT
TZNAME:CEMT
TZOFFSETFROM:+0200
TZOFFSETTO:+0300
DTSTART:19450524T020000
RDATE:19470511T030000
END:DAYLIGHT
BEGIN:DAYLIGHT
TZNAME:CEST
TZOFFSETFROM:+0300
TZOFFSETTO:+0200
DTSTART:19450924T030000
RDATE:19470629T030000
END:DAYLIGHT
BEGIN:STANDARD
TZNAME:CET
TZOFFSETFROM:+0100
TZOFFSETTO:+0100
DTSTART:19460101T000000
RDATE:19800101T000000
END:STANDARD
BEGIN:STANDARD
TZNAME:CET
TZOFFSETFROM:+0200
TZOFFSETTO:+0100
DTSTART:19471005T030000
RRULE:FREQ=YEARLY;UNTIL=19491002T010000Z;BYMONTH=10;BYDAY=1SU
END:STANDARD
BEGIN:STANDARD
TZNAME:CET
TZOFFSETFROM:+0200
TZOFFSETTO:+0100
DTSTART:19800928T030000
RRULE:FREQ=YEARLY;UNTIL=19950924T010000Z;BYMONTH=9;BYDAY=-1SU
END:STANDARD
BEGIN:DAYLIGHT
TZNAME:CEST
TZOFFSETFROM:+0100
TZOFFSETTO:+0200
DTSTART:19810329T020000
RRULE:FREQ=YEARLY;BYMONTH=3;BYDAY=-1SU
END:DAYLIGHT
BEGIN:STANDARD
TZNAME:CET
TZOFFSETFROM:+0200
TZOFFSETTO:+0100
DTSTART:19961027T030000
RRULE:FREQ=YEARLY;BYMONTH=10;BYDAY=-1SU
END:STANDARD
END:VTIMEZONE
BEGIN:VEVENT
DTSTAMP:20260419T204652Z
DTSTART;TZID=Europe/Berlin:20250302T130000
DTEND;TZID=Europe/Berlin:20250302T140000
SUMMARY:Regionsliga WD Mitte HSG Sottrum/ Ottersberg vs TV Jahn Schneverdingen (42)
UID:eceb6e6b-5934-4814-8158-ae15f8fd7d0f
STATUS:CONFIRMED
LAST-MODIFIED:20250302T212018Z
DESCRIPTION:Regionsliga WD Mitte\nBegegnungs-Nr: 42\nHeim: HSG Sottrum/ Ottersberg\nGast: TV Jahn Schneverdingen\nHalle: Sottrum\, Wilhelm-Schröder-SZ  (609150)\nAdresse: Am Bullenworth\, 27367 Sottrum\n
LOCATION:Sottrum\, Wilhelm-Schröder-SZ  (609150): Am Bullenworth\, 27367 Sottrum
CATEGORIES:Saison 2024/25
END:VEVENT
BEGIN:VEVENT
DTSTAMP:20260419T204652Z
DTSTART;TZID=Europe/Berlin:20240908T122500
DTEND;TZID=Europe/Berlin:20240908T132500
SUMMARY:Vorrunde WD Staffel 7 HSG Sottrum/ Ottersberg vs HSG Heidmark (3)
UID:b638cc6d-a3df-485d-a14c-b2578c02f092
STATUS:CONFIRMED
LAST-MODIFIED:20240918T114215Z
DESCRIPTION:Vorrunde weibliche Jugend D Staffel 7\nBegegnungs-Nr: 3\nHeim: HSG Sottrum/ Ottersberg\nGast: HSG Heidmark\nHalle: Schneverdingen\, SH SZ (607109)\nAdresse: Am Timmerahde 32\, 29640 Schneverdingen\n
LOCATION:Schneverdingen\, SH SZ (607109): Am Timmerahde 32\, 29640 Schneverdingen
CATEGORIES:Saison 2024/25
END:VEVENT
BEGIN:VEVENT
DTSTAMP:20260419T204652Z
DTSTART;TZID=Europe/Berlin:20240922T165000
DTEND;TZID=Europe/Berlin:20240922T175000
SUMMARY:Vorrunde WD Staffel 7 HSG Sottrum/ Ottersberg vs TuS Oldau Ovelgönne II (10)
UID:e94de839-d5b0-45f7-b975-a43066da8241
STATUS:CONFIRMED
LAST-MODIFIED:20240924T134759Z
DESCRIPTION:Vorrunde weibliche Jugend D Staffel 7\nBegegnungs-Nr: 10\nHeim: HSG Sottrum/ Ottersberg\nGast: TuS Oldau Ovelgönne II\nHalle: Fallingbostel\, Sportzentrum (607103)\nAdresse: Idinger Heide\, 29683 Fallingbostel\n
LOCATION:Fallingbostel\, Sportzentrum (607103): Idinger Heide\, 29683 Fallingbostel
CATEGORIES:Saison 2024/25
END:VEVENT
BEGIN:VEVENT
DTSTAMP:20260419T204652Z
DTSTART;TZID=Europe/Berlin:20241109T133000
DTEND;TZID=Europe/Berlin:20241109T143000
SUMMARY:Regionsliga WD Mitte HSG Sottrum/ Ottersberg vs Buxtehuder SV II (10)
UID:469886f3-694b-4be3-a35e-d3f09b2a038e
STATUS:CONFIRMED
LAST-MODIFIED:20241111T124815Z
DESCRIPTION:Regionsliga WD Mitte\nBegegnungs-Nr: 10\nHeim: HSG Sottrum/ Ottersberg\nGast: Buxtehuder SV II\nHalle: Sottrum\, Wilhelm-Schröder-SZ  (609150)\nAdresse: Am Bullenworth\, 27367 Sottrum\n
LOCATION:Sottrum\, Wilhelm-Schröder-SZ  (609150): Am Bullenworth\, 27367 Sottrum
CATEGORIES:Saison 2024/25
END:VEVENT
BEGIN:VEVENT
DTSTAMP:20260419T204652Z
DTSTART;TZID=Europe/Berlin:20241201T130000
DTEND;TZID=Europe/Berlin:20241201T140000
SUMMARY:Regionsliga WD Mitte HSG Sottrum/ Ottersberg vs HSG Heidmark II (18)
UID:51c20c52-b002-4c03-8de4-96364c9385dd
STATUS:CONFIRMED
LAST-MODIFIED:20241203T132625Z
DESCRIPTION:Regionsliga WD Mitte\nBegegnungs-Nr: 18\nHeim: HSG Sottrum/ Ottersberg\nGast: HSG Heidmark II\nHalle: Sottrum\, Wilhelm-Schröder-SZ  (609150)\nAdresse: Am Bullenworth\, 27367 Sottrum\n
LOCATION:Sottrum\, Wilhelm-Schröder-SZ  (609150): Am Bullenworth\, 27367 Sottrum
CATEGORIES:Saison 2024/25
END:VEVENT
BEGIN:VEVENT
DTSTAMP:20260419T204652Z
DTSTART;TZID=Europe/Berlin:20250119T113000
DTEND;TZID=Europe/Berlin:20250119T123000
SUMMARY:Regionsliga WD Mitte HSG Sottrum/ Ottersberg vs TVV Neu-Wulmstorf (26)
UID:815f9331-5efd-4c89-8923-9179d08d1b90
STATUS:CONFIRMED
LAST-MODIFIED:20250122T201420Z
DESCRIPTION:Regionsliga WD Mitte\nBegegnungs-Nr: 26\nHeim: HSG Sottrum/ Ottersberg\nGast: TVV Neu-Wulmstorf\nHalle: Sottrum\, Wilhelm-Schröder-SZ  (609150)\nAdresse: Am Bullenworth\, 27367 Sottrum\n
LOCATION:Sottrum\, Wilhelm-Schröder-SZ  (609150): Am Bullenworth\, 27367 Sottrum
CATEGORIES:Saison 2024/25
END:VEVENT
BEGIN:VEVENT
DTSTAMP:20260419T204652Z
DTSTART;TZID=Europe/Berlin:20250320T180000
DTEND;TZID=Europe/Berlin:20250320T190000
SUMMARY:Regionsliga WD Mitte HSG Sottrum/ Ottersberg vs MTV Eyendorf II (29)
UID:a63418fb-1b4a-4e50-88a7-3a633d06e125
STATUS:CONFIRMED
LAST-MODIFIED:20250321T193920Z
DESCRIPTION:Regionsliga WD Mitte\nBegegnungs-Nr: 29\nHeim: HSG Sottrum/ Ottersberg\nGast: MTV Eyendorf II\nHalle: Sottrum\, Wilhelm-Schröder-SZ  (609150)\nAdresse: Am Bullenworth\, 27367 Sottrum\n
LOCATION:Sottrum\, Wilhelm-Schröder-SZ  (609150): Am Bullenworth\, 27367 Sottrum
CATEGORIES:Saison 2024/25
END:VEVENT
BEGIN:VEVENT
DTSTAMP:20260419T204652Z
DTSTART;TZID=Europe/Berlin:20250316T130000
DTEND;TZID=Europe/Berlin:20250316T140000
SUMMARY:Regionsliga WD Mitte HSG Sottrum/ Ottersberg vs MTV Tostedt (50)
UID:e97f45ad-700f-4c57-8345-7563687dab23
STATUS:CONFIRMED
LAST-MODIFIED:20250316T185459Z
DESCRIPTION:Regionsliga WD Mitte\nBegegnungs-Nr: 50\nHeim: HSG Sottrum/ Ottersberg\nGast: MTV Tostedt\nHalle: Sottrum\, Wilhelm-Schröder-SZ  (609150)\nAdresse: Am Bullenworth\, 27367 Sottrum\n
LOCATION:Sottrum\, Wilhelm-Schröder-SZ  (609150): Am Bullenworth\, 27367 Sottrum
CATEGORIES:Saison 2024/25
END:VEVENT
BEGIN:VEVENT
DTSTAMP:20260419T204652Z
DTSTART;TZID=Europe/Berlin:20241123T183000
DTEND;TZID=Europe/Berlin:20241123T193000
SUMMARY:Regionsliga WD Mitte TV Jahn Schneverdingen vs HSG Sottrum/ Ottersberg (14)
UID:a43855f6-1591-481a-9c62-6a1addd6df19
STATUS:CONFIRMED
LAST-MODIFIED:20241127T141417Z
DESCRIPTION:Regionsliga WD Mitte\nBegegnungs-Nr: 14\nHeim: TV Jahn Schneverdingen\nGast: HSG Sottrum/ Ottersberg\nHalle: Schneverdingen\, SH SZ (607109)\nAdresse: Am Timmerahde 32\, 29640 Schneverdingen\n
LOCATION:Schneverdingen\, SH SZ (607109): Am Timmerahde 32\, 29640 Schneverdingen
CATEGORIES:Saison 2024/25
END:VEVENT
BEGIN:VEVENT
DTSTAMP:20260419T204652Z
DTSTART;TZID=Europe/Berlin:20241027T130000
DTEND;TZID=Europe/Berlin:20241027T140000
SUMMARY:Regionsliga WD Mitte MTV Eyendorf II vs HSG Sottrum/ Ottersberg (1)
UID:30a86956-a38a-4e7e-a23b-363ec420262b
STATUS:CONFIRMED
LAST-MODIFIED:20241028T171036Z
DESCRIPTION:Regionsliga WD Mitte\nBegegnungs-Nr: 1\nHeim: MTV Eyendorf II\nGast: HSG Sottrum/ Ottersberg\nHalle: Salzhausen\, HRS (603127)\nAdresse: Kreuzweg\, 21376 Salzhausen\n
LOCATION:Salzhausen\, HRS (603127): Kreuzweg\, 21376 Salzhausen
CATEGORIES:Saison 2024/25
END:VEVENT
BEGIN:VEVENT
DTSTAMP:20260419T204652Z
DTSTART;TZID=Europe/Berlin:20250327T163000
DTEND;TZID=Europe/Berlin:20250327T173000
SUMMARY:Regionsliga WD Mitte HSG Heidmark II vs HSG Sottrum/ Ottersberg (46)
UID:1dd8f067-933c-4621-ae9a-84945884feba
STATUS:CONFIRMED
LAST-MODIFIED:20250328T212340Z
DESCRIPTION:Regionsliga WD Mitte\nBegegnungs-Nr: 46\nHeim: HSG Heidmark II\nGast: HSG Sottrum/ Ottersberg\nHalle: Dorfmark\, Thormarcon-Arena (607124)\nAdresse: Justus von Liebig Str.\, 29683 Dorfmark\n
LOCATION:Dorfmark\, Thormarcon-Arena (607124): Justus von Liebig Str.\, 29683 Dorfmark
CATEGORIES:Saison 2024/25
END:VEVENT
BEGIN:VEVENT
DTSTAMP:20260419T204652Z
DTSTART;TZID=Europe/Berlin:20240908T113500
DTEND;TZID=Europe/Berlin:20240908T123500
SUMMARY:Vorrunde WD Staffel 7 TV Jahn Schneverdingen vs HSG Sottrum/ Ottersberg (2)
UID:70daeac6-9cf5-48a8-8458-d7fd75a06642
STATUS:CONFIRMED
LAST-MODIFIED:20240918T114055Z
DESCRIPTION:Vorrunde weibliche Jugend D Staffel 7\nBegegnungs-Nr: 2\nHeim: TV Jahn Schneverdingen\nGast: HSG Sottrum/ Ottersberg\nHalle: Schneverdingen\, SH SZ (607109)\nAdresse: Am Timmerahde 32\, 29640 Schneverdingen\n
LOCATION:Schneverdingen\, SH SZ (607109): Am Timmerahde 32\, 29640 Schneverdingen
CATEGORIES:Saison 2024/25
END:VEVENT
BEGIN:VEVENT
DTSTAMP:20260419T204652Z
DTSTART;TZID=Europe/Berlin:20240908T135000
DTEND;TZID=Europe/Berlin:20240908T145000
SUMMARY:Vorrunde WD Staffel 7 HSG Lohheide vs HSG Sottrum/ Ottersberg (5)
UID:6f9e1a0f-3303-4574-87af-fc0447cabec0
STATUS:CONFIRMED
LAST-MODIFIED:20240918T114430Z
DESCRIPTION:Vorrunde weibliche Jugend D Staffel 7\nBegegnungs-Nr: 5\nHeim: HSG Lohheide\nGast: HSG Sottrum/ Ottersberg\nHalle: Schneverdingen\, SH SZ (607109)\nAdresse: Am Timmerahde 32\, 29640 Schneverdingen\n
LOCATION:Schneverdingen\, SH SZ (607109): Am Timmerahde 32\, 29640 Schneverdingen
CATEGORIES:Saison 2024/25
END:VEVENT
BEGIN:VEVENT
DTSTAMP:20260419T204652Z
DTSTART;TZID=Europe/Berlin:20240922T140000
DTEND;TZID=Europe/Berlin:20240922T150000
SUMMARY:Vorrunde WD Staffel 7 Jugendhandball Wümme vs HSG Sottrum/ Ottersberg (6)
UID:132cda6c-decd-492b-859d-9c5ead390584
STATUS:CONFIRMED
LAST-MODIFIED:20240924T134452Z
DESCRIPTION:Vorrunde weibliche Jugend D Staffel 7\nBegegnungs-Nr: 6\nHeim: Jugendhandball Wümme\nGast: HSG Sottrum/ Ottersberg\nHalle: Fallingbostel\, Sportzentrum (607103)\nAdresse: Idinger Heide\, 29683 Fallingbostel\n
LOCATION:Fallingbostel\, Sportzentrum (607103): Idinger Heide\, 29683 Fallingbostel
CATEGORIES:Saison 2024/25
END:VEVENT
BEGIN:VEVENT
DTSTAMP:20260419T204652Z
DTSTART;TZID=Europe/Berlin:20241208T100000
DTEND;TZID=Europe/Berlin:20241208T110000
SUMMARY:Regionsliga WD Mitte MTV Tostedt vs HSG Sottrum/ Ottersberg (22)
UID:f5c068ab-cdc8-4156-b583-a3a3856618bb
STATUS:CONFIRMED
LAST-MODIFIED:20241209T211337Z
DESCRIPTION:Regionsliga WD Mitte\nBegegnungs-Nr: 22\nHeim: MTV Tostedt\nGast: HSG Sottrum/ Ottersberg\nHalle: Wistedt\, SH (603132)\nAdresse: Flaßworth 5\, 21255 Wistedt\n
LOCATION:Wistedt\, SH (603132): Flaßworth 5\, 21255 Wistedt
CATEGORIES:Saison 2024/25
END:VEVENT
BEGIN:VEVENT
DTSTAMP:20260419T204652Z
DTSTART;TZID=Europe/Berlin:20250216T153000
DTEND;TZID=Europe/Berlin:20250216T163000
SUMMARY:Regionsliga WD Mitte Buxtehuder SV II vs HSG Sottrum/ Ottersberg (38)
UID:30046b13-e8b3-4338-8536-9e23a93583ed
STATUS:CONFIRMED
LAST-MODIFIED:20250217T094605Z
DESCRIPTION:Regionsliga WD Mitte\nBegegnungs-Nr: 38\nHeim: Buxtehuder SV II\nGast: HSG Sottrum/ Ottersberg\nHalle: Buxtehude\, Halle Nord (608163)\nAdresse: Hansestraße 15\, 21614 Buxtehude\n
LOCATION:Buxtehude\, Halle Nord (608163): Hansestraße 15\, 21614 Buxtehude
CATEGORIES:Saison 2024/25
END:VEVENT
BEGIN:VEVENT
DTSTAMP:20260419T204652Z
DTSTART;TZID=Europe/Berlin:20250329T155000
DTEND;TZID=Europe/Berlin:20250329T165000
SUMMARY:Regionsliga WD Mitte TVV Neu-Wulmstorf vs HSG Sottrum/ Ottersberg (54)
UID:0db2d5ee-4b8a-4dff-bd70-2793c95b22c9
STATUS:CONFIRMED
LAST-MODIFIED:20250331T141852Z
DESCRIPTION:Regionsliga WD Mitte\nBegegnungs-Nr: 54\nHeim: TVV Neu-Wulmstorf\nGast: HSG Sottrum/ Ottersberg\nHalle: Neu Wulmstorf\, SH Gymnasium (603116)\nAdresse: Ernst-Moritz-Arndt-Straße 18 (Oberschule) \, 21629 Neu-Wulmstorf\n
LOCATION:Neu Wulmstorf\, SH Gymnasium (603116): Ernst-Moritz-Arndt-Straße 18 (Oberschule) \, 21629 Neu-Wulmstorf
CATEGORIES:Saison 2024/25
END:VEVENT
END:VCALENDAR
