BEGIN:VCALENDAR
PRODID:-//nuDatenautomaten//framework iCal4j //DE
VERSION:2.0
CALSCALE:GREGORIAN
BEGIN:VTIMEZONE
TZID:Europe/Berlin
LAST-MODIFIED:20260306T231828Z
TZURL:https://www.tzurl.org/zoneinfo/Europe/Berlin
X-LIC-LOCATION:Europe/Berlin
X-PROLEPTIC-TZNAME:LMT
BEGIN:STANDARD
TZNAME:CET
TZOFFSETFROM:+005328
TZOFFSETTO:+0100
DTSTART:18930401T000000
END:STANDARD
BEGIN:DAYLIGHT
TZNAME:CEST
TZOFFSETFROM:+0100
TZOFFSETTO:+0200
DTSTART:19160430T230000
RDATE:19400401T020000
RDATE:19430329T020000
RDATE:19460414T020000
RDATE:19470406T030000
RDATE:19480418T020000
RDATE:19490410T020000
RDATE:19800406T020000
END:DAYLIGHT
BEGIN:STANDARD
TZNAME:CET
TZOFFSETFROM:+0200
TZOFFSETTO:+0100
DTSTART:19161001T010000
RDATE:19421102T030000
RDATE:19431004T030000
RDATE:19441002T030000
RDATE:19451118T030000
RDATE:19461007T030000
END:STANDARD
BEGIN:DAYLIGHT
TZNAME:CEST
TZOFFSETFROM:+0100
TZOFFSETTO:+0200
DTSTART:19170416T020000
RRULE:FREQ=YEARLY;UNTIL=19180415T010000Z;BYMONTH=4;BYDAY=3MO
END:DAYLIGHT
BEGIN:STANDARD
TZNAME:CET
TZOFFSETFROM:+0200
TZOFFSETTO:+0100
DTSTART:19170917T030000
RRULE:FREQ=YEARLY;UNTIL=19180916T010000Z;BYMONTH=9;BYDAY=3MO
END:STANDARD
BEGIN:DAYLIGHT
TZNAME:CEST
TZOFFSETFROM:+0100
TZOFFSETTO:+0200
DTSTART:19440403T020000
RRULE:FREQ=YEARLY;UNTIL=19450402T010000Z;BYMONTH=4;BYDAY=1MO
END:DAYLIGHT
BEGIN:DAYLIGHT
TZNAME:CEMT
TZOFFSETFROM:+0200
TZOFFSETTO:+0300
DTSTART:19450524T020000
RDATE:19470511T030000
END:DAYLIGHT
BEGIN:DAYLIGHT
TZNAME:CEST
TZOFFSETFROM:+0300
TZOFFSETTO:+0200
DTSTART:19450924T030000
RDATE:19470629T030000
END:DAYLIGHT
BEGIN:STANDARD
TZNAME:CET
TZOFFSETFROM:+0100
TZOFFSETTO:+0100
DTSTART:19460101T000000
RDATE:19800101T000000
END:STANDARD
BEGIN:STANDARD
TZNAME:CET
TZOFFSETFROM:+0200
TZOFFSETTO:+0100
DTSTART:19471005T030000
RRULE:FREQ=YEARLY;UNTIL=19491002T010000Z;BYMONTH=10;BYDAY=1SU
END:STANDARD
BEGIN:STANDARD
TZNAME:CET
TZOFFSETFROM:+0200
TZOFFSETTO:+0100
DTSTART:19800928T030000
RRULE:FREQ=YEARLY;UNTIL=19950924T010000Z;BYMONTH=9;BYDAY=-1SU
END:STANDARD
BEGIN:DAYLIGHT
TZNAME:CEST
TZOFFSETFROM:+0100
TZOFFSETTO:+0200
DTSTART:19810329T020000
RRULE:FREQ=YEARLY;BYMONTH=3;BYDAY=-1SU
END:DAYLIGHT
BEGIN:STANDARD
TZNAME:CET
TZOFFSETFROM:+0200
TZOFFSETTO:+0100
DTSTART:19961027T030000
RRULE:FREQ=YEARLY;BYMONTH=10;BYDAY=-1SU
END:STANDARD
END:VTIMEZONE
BEGIN:VEVENT
DTSTAMP:20260419T154331Z
DTSTART;TZID=Europe/Berlin:20250315T133000
DTEND;TZID=Europe/Berlin:20250315T143000
SUMMARY:Regionsoberliga MJE Ost 1 BV Garrel vs TV Cloppenburg (943638)
UID:0e334c7e-45b2-4229-ab9e-5c8385d4a638
STATUS:CONFIRMED
LAST-MODIFIED:20250317T112225Z
DESCRIPTION:Regionsoberliga männl. Jugend E Ost 1\nBegegnungs-Nr: 943638\nHeim: BV Garrel\nGast: TV Cloppenburg\nHalle: Garrel\, SZ  (809115)\nAdresse: St.-Johannes-Straße\, 49681 Garrel\n
LOCATION:Garrel\, SZ  (809115): St.-Johannes-Straße\, 49681 Garrel
CATEGORIES:Saison 2024/25
END:VEVENT
BEGIN:VEVENT
DTSTAMP:20260419T154331Z
DTSTART;TZID=Europe/Berlin:20241027T133000
DTEND;TZID=Europe/Berlin:20241027T143000
SUMMARY:Regionsoberliga MJE Ost 1 BV Garrel vs TV Dinklage (943602)
UID:e9dadd9e-0eae-4427-863b-13240a5977f1
STATUS:CONFIRMED
LAST-MODIFIED:20241101T085808Z
DESCRIPTION:Regionsoberliga männl. Jugend E Ost 1\nBegegnungs-Nr: 943602\nHeim: BV Garrel\nGast: TV Dinklage\nHalle: Garrel\, SZ  (809115)\nAdresse: St.-Johannes-Straße\, 49681 Garrel\n
LOCATION:Garrel\, SZ  (809115): St.-Johannes-Straße\, 49681 Garrel
CATEGORIES:Saison 2024/25
END:VEVENT
BEGIN:VEVENT
DTSTAMP:20260419T154331Z
DTSTART;TZID=Europe/Berlin:20241109T170000
DTEND;TZID=Europe/Berlin:20241109T180000
SUMMARY:Regionsoberliga MJE Ost 1 BV Garrel vs TV Cloppenburg (943608)
UID:185a5e05-f590-4cc0-bfc3-9697ff5787e2
STATUS:CONFIRMED
LAST-MODIFIED:20241112T211350Z
DESCRIPTION:Regionsoberliga männl. Jugend E Ost 1\nBegegnungs-Nr: 943608\nHeim: BV Garrel\nGast: TV Cloppenburg\nHalle: Garrel\, SZ  (809115)\nAdresse: St.-Johannes-Straße\, 49681 Garrel\n
LOCATION:Garrel\, SZ  (809115): St.-Johannes-Straße\, 49681 Garrel
CATEGORIES:Saison 2024/25
END:VEVENT
BEGIN:VEVENT
DTSTAMP:20260419T154331Z
DTSTART;TZID=Europe/Berlin:20250209T093000
DTEND;TZID=Europe/Berlin:20250209T103000
SUMMARY:Regionsoberliga MJE Ost 1 BV Garrel vs SV Quitt Ankum (943627)
UID:f8e29e4c-daca-4a78-8c18-8a2f8babc24e
STATUS:CONFIRMED
LAST-MODIFIED:20250209T105739Z
DESCRIPTION:Regionsoberliga männl. Jugend E Ost 1\nBegegnungs-Nr: 943627\nHeim: BV Garrel\nGast: SV Quitt Ankum\nHalle: Garrel\, SZ  (809115)\nAdresse: St.-Johannes-Straße\, 49681 Garrel\n
LOCATION:Garrel\, SZ  (809115): St.-Johannes-Straße\, 49681 Garrel
CATEGORIES:Saison 2024/25
END:VEVENT
BEGIN:VEVENT
DTSTAMP:20260419T154331Z
DTSTART;TZID=Europe/Berlin:20250112T100000
DTEND;TZID=Europe/Berlin:20250112T110000
SUMMARY:Regionsoberliga MJE Ost 1 BV Garrel vs TuS Lemförde (943619)
UID:858bb861-b8b0-4dcd-9bb4-20ad70f36e8f
STATUS:CONFIRMED
LAST-MODIFIED:20250112T164016Z
DESCRIPTION:Regionsoberliga männl. Jugend E Ost 1\nBegegnungs-Nr: 943619\nHeim: BV Garrel\nGast: TuS Lemförde\nHalle: Garrel\, SZ  (809115)\nAdresse: St.-Johannes-Straße\, 49681 Garrel\n
LOCATION:Garrel\, SZ  (809115): St.-Johannes-Straße\, 49681 Garrel
CATEGORIES:Saison 2024/25
END:VEVENT
BEGIN:VEVENT
DTSTAMP:20260419T154331Z
DTSTART;TZID=Europe/Berlin:20250215T144500
DTEND;TZID=Europe/Berlin:20250215T154500
SUMMARY:Regionsoberliga MJE Ost 1 BV Garrel vs TV Dinklage (943630)
UID:83f4f3d6-c1d3-415c-956f-e36488ab5065
STATUS:CONFIRMED
LAST-MODIFIED:20250216T105341Z
DESCRIPTION:Regionsoberliga männl. Jugend E Ost 1\nBegegnungs-Nr: 943630\nHeim: BV Garrel\nGast: TV Dinklage\nHalle: Garrel\, SZ  (809115)\nAdresse: St.-Johannes-Straße\, 49681 Garrel\n
LOCATION:Garrel\, SZ  (809115): St.-Johannes-Straße\, 49681 Garrel
CATEGORIES:Saison 2024/25
END:VEVENT
BEGIN:VEVENT
DTSTAMP:20260419T154331Z
DTSTART;TZID=Europe/Berlin:20240901T120000
DTEND;TZID=Europe/Berlin:20240901T130000
SUMMARY:Vorrunde MJE 7 BV Garrel vs TSV Ostrhauderfehn e.V. (945609)
UID:fc23bb1f-c16d-4a50-89da-334951f9690d
STATUS:CONFIRMED
LAST-MODIFIED:20240904T115843Z
DESCRIPTION:Vorrunde MJE 7\nBegegnungs-Nr: 945609\nHeim: BV Garrel\nGast: TSV Ostrhauderfehn e.V.\nHalle: Garrel\, SZ  (809115)\nAdresse: St.-Johannes-Straße\, 49681 Garrel\n
LOCATION:Garrel\, SZ  (809115): St.-Johannes-Straße\, 49681 Garrel
CATEGORIES:Saison 2024/25
END:VEVENT
BEGIN:VEVENT
DTSTAMP:20260419T154331Z
DTSTART;TZID=Europe/Berlin:20240901T100000
DTEND;TZID=Europe/Berlin:20240901T110000
SUMMARY:Vorrunde MJE 7 BV Garrel vs TV Cloppenburg (945607)
UID:26ba00e8-631e-4ae2-88d4-ede77825b336
STATUS:CONFIRMED
LAST-MODIFIED:20240904T115657Z
DESCRIPTION:Vorrunde MJE 7\nBegegnungs-Nr: 945607\nHeim: BV Garrel\nGast: TV Cloppenburg\nHalle: Garrel\, SZ  (809115)\nAdresse: St.-Johannes-Straße\, 49681 Garrel\n
LOCATION:Garrel\, SZ  (809115): St.-Johannes-Straße\, 49681 Garrel
CATEGORIES:Saison 2024/25
END:VEVENT
BEGIN:VEVENT
DTSTAMP:20260419T154331Z
DTSTART;TZID=Europe/Berlin:20250322T100000
DTEND;TZID=Europe/Berlin:20250322T110000
SUMMARY:Regionsoberliga MJE Ost 1 BV Garrel vs SFN Vechta (943640)
UID:37d19ec8-36c0-477f-a8a2-3b29ae0bdcad
STATUS:CONFIRMED
LAST-MODIFIED:20250326T081810Z
DESCRIPTION:Regionsoberliga männl. Jugend E Ost 1\nBegegnungs-Nr: 943640\nHeim: BV Garrel\nGast: SFN Vechta\nHalle: Garrel\, SZ  (809115)\nAdresse: St.-Johannes-Straße\, 49681 Garrel\n
LOCATION:Garrel\, SZ  (809115): St.-Johannes-Straße\, 49681 Garrel
CATEGORIES:Saison 2024/25
END:VEVENT
BEGIN:VEVENT
DTSTAMP:20260419T154331Z
DTSTART;TZID=Europe/Berlin:20240901T150000
DTEND;TZID=Europe/Berlin:20240901T160000
SUMMARY:Vorrunde MJE 7 BV Garrel vs SV Warsingsfehn (945612)
UID:fe36ac3b-7dd5-4303-8f18-44b5f6f1f9cc
STATUS:CONFIRMED
LAST-MODIFIED:20240904T120101Z
DESCRIPTION:Vorrunde MJE 7\nBegegnungs-Nr: 945612\nHeim: BV Garrel\nGast: SV Warsingsfehn\nHalle: Garrel\, SZ  (809115)\nAdresse: St.-Johannes-Straße\, 49681 Garrel\n
LOCATION:Garrel\, SZ  (809115): St.-Johannes-Straße\, 49681 Garrel
CATEGORIES:Saison 2024/25
END:VEVENT
BEGIN:VEVENT
DTSTAMP:20260419T154331Z
DTSTART;TZID=Europe/Berlin:20241116T100000
DTEND;TZID=Europe/Berlin:20241116T110000
SUMMARY:Regionsoberliga MJE Ost 1 BV Garrel vs SFN Vechta (943609)
UID:56a38807-62ef-431a-b5a9-b2f5e09900cc
STATUS:CONFIRMED
LAST-MODIFIED:20241119T150905Z
DESCRIPTION:Regionsoberliga männl. Jugend E Ost 1\nBegegnungs-Nr: 943609\nHeim: BV Garrel\nGast: SFN Vechta\nHalle: Garrel\, SZ  (809115)\nAdresse: St.-Johannes-Straße\, 49681 Garrel\n
LOCATION:Garrel\, SZ  (809115): St.-Johannes-Straße\, 49681 Garrel
CATEGORIES:Saison 2024/25
END:VEVENT
BEGIN:VEVENT
DTSTAMP:20260419T154331Z
DTSTART;TZID=Europe/Berlin:20250126T090000
DTEND;TZID=Europe/Berlin:20250126T100000
SUMMARY:Regionsoberliga MJE Ost 1 SFN Vechta vs BV Garrel (943625)
UID:b05f249d-eae9-4263-98fd-648abbd40ec6
STATUS:CONFIRMED
LAST-MODIFIED:20250127T132553Z
DESCRIPTION:Regionsoberliga männl. Jugend E Ost 1\nBegegnungs-Nr: 943625\nHeim: SFN Vechta\nGast: BV Garrel\nHalle: Vechta-West\, SH  (809140)\nAdresse: Brüsseler Str. 37\, 49377 Vechta\n
LOCATION:Vechta-West\, SH  (809140): Brüsseler Str. 37\, 49377 Vechta
CATEGORIES:Saison 2024/25
END:VEVENT
BEGIN:VEVENT
DTSTAMP:20260419T154331Z
DTSTART;TZID=Europe/Berlin:20250301T124500
DTEND;TZID=Europe/Berlin:20250301T134500
SUMMARY:Regionsoberliga MJE Ost 1 TuS Lemförde vs BV Garrel (943634)
UID:1e17014d-2105-4ca5-b670-7b04d213ab30
STATUS:CONFIRMED
LAST-MODIFIED:20250301T230011Z
DESCRIPTION:Regionsoberliga männl. Jugend E Ost 1\nBegegnungs-Nr: 943634\nHeim: TuS Lemförde\nGast: BV Garrel\nHalle:  Lemförde\, SZ (809143)\nAdresse: Stettiner Str. 35\, 49448 Lemförde\n
LOCATION: Lemförde\, SZ (809143): Stettiner Str. 35\, 49448 Lemförde
CATEGORIES:Saison 2024/25
END:VEVENT
BEGIN:VEVENT
DTSTAMP:20260419T154331Z
DTSTART;TZID=Europe/Berlin:20250118T131500
DTEND;TZID=Europe/Berlin:20250118T141500
SUMMARY:Regionsoberliga MJE Ost 1 TV Cloppenburg vs BV Garrel (943621)
UID:87c3ee37-d414-4ecf-a855-95a7ad9eab13
STATUS:CONFIRMED
LAST-MODIFIED:20250119T201459Z
DESCRIPTION:Regionsoberliga männl. Jugend E Ost 1\nBegegnungs-Nr: 943621\nHeim: TV Cloppenburg\nGast: BV Garrel\nHalle: Cloppenburg\, TVC-SH  (809102)\nAdresse: Schulstraße\, 49661 Cloppenburg\n
LOCATION:Cloppenburg\, TVC-SH  (809102): Schulstraße\, 49661 Cloppenburg
CATEGORIES:Saison 2024/25
END:VEVENT
BEGIN:VEVENT
DTSTAMP:20260419T154331Z
DTSTART;TZID=Europe/Berlin:20250329T140000
DTEND;TZID=Europe/Berlin:20250329T150000
SUMMARY:Regionsoberliga MJE Ost 1 SV Quitt Ankum vs BV Garrel (943643)
UID:731c3961-5a95-4bc7-ac4a-75a4df937e19
STATUS:CONFIRMED
LAST-MODIFIED:20250401T142920Z
DESCRIPTION:Regionsoberliga männl. Jugend E Ost 1\nBegegnungs-Nr: 943643\nHeim: SV Quitt Ankum\nGast: BV Garrel\nHalle: Ankum\, Ballsporthalle  (808154)\nAdresse: Am Kattenboll\, 49577 Ankum\n
LOCATION:Ankum\, Ballsporthalle  (808154): Am Kattenboll\, 49577 Ankum
CATEGORIES:Saison 2024/25
END:VEVENT
BEGIN:VEVENT
DTSTAMP:20260419T154331Z
DTSTART;TZID=Europe/Berlin:20241208T120000
DTEND;TZID=Europe/Berlin:20241208T130000
SUMMARY:Regionsoberliga MJE Ost 1 TV Dinklage vs BV Garrel (943617)
UID:e7a244e6-6338-43aa-8e6c-2759540ffbc2
STATUS:CONFIRMED
LAST-MODIFIED:20241208T125725Z
DESCRIPTION:Regionsoberliga männl. Jugend E Ost 1\nBegegnungs-Nr: 943617\nHeim: TV Dinklage\nGast: BV Garrel\nHalle: Dinklage\, SH 1 SZ  (809107)\nAdresse: Schulstraße\, 49413 Dinklage\n
LOCATION:Dinklage\, SH 1 SZ  (809107): Schulstraße\, 49413 Dinklage
CATEGORIES:Saison 2024/25
END:VEVENT
BEGIN:VEVENT
DTSTAMP:20260419T154331Z
DTSTART;TZID=Europe/Berlin:20241130T134500
DTEND;TZID=Europe/Berlin:20241130T144500
SUMMARY:Regionsoberliga MJE Ost 1 SV Quitt Ankum vs BV Garrel (943613)
UID:17af1581-8e44-49dd-a6b6-dd071aa7cf3b
STATUS:CONFIRMED
LAST-MODIFIED:20241205T161843Z
DESCRIPTION:Regionsoberliga männl. Jugend E Ost 1\nBegegnungs-Nr: 943613\nHeim: SV Quitt Ankum\nGast: BV Garrel\nHalle: Ankum\, Ballsporthalle  (808154)\nAdresse: Am Kattenboll\, 49577 Ankum\n
LOCATION:Ankum\, Ballsporthalle  (808154): Am Kattenboll\, 49577 Ankum
CATEGORIES:Saison 2024/25
END:VEVENT
BEGIN:VEVENT
DTSTAMP:20260419T154331Z
DTSTART;TZID=Europe/Berlin:20240907T163000
DTEND;TZID=Europe/Berlin:20240907T173000
SUMMARY:Vorrunde MJE 7 JMSG Aurich vs BV Garrel (945620)
UID:8ce9e4d6-371c-49a6-9227-5be8973a0a2b
STATUS:CONFIRMED
LAST-MODIFIED:20240906T161410Z
DESCRIPTION:Vorrunde MJE 7\nBegegnungs-Nr: 945620\nHeim: JMSG Aurich\nGast: BV Garrel\nHalle: Cloppenburg\, TVC-SH  (809102)\nAdresse: Schulstraße\, 49661 Cloppenburg\n
LOCATION:Cloppenburg\, TVC-SH  (809102): Schulstraße\, 49661 Cloppenburg
CATEGORIES:Saison 2024/25
END:VEVENT
BEGIN:VEVENT
DTSTAMP:20260419T154331Z
DTSTART;TZID=Europe/Berlin:20240907T133000
DTEND;TZID=Europe/Berlin:20240907T143000
SUMMARY:Vorrunde MJE 7 JSG Larrelt/ Pewsum/ Groß Midlum vs BV Garrel (945617)
UID:7ae5f99d-cd76-4841-bd24-6a0a41a174c5
STATUS:CONFIRMED
LAST-MODIFIED:20240906T161822Z
DESCRIPTION:Vorrunde MJE 7\nBegegnungs-Nr: 945617\nHeim: JSG Larrelt/ Pewsum/ Groß Midlum\nGast: BV Garrel\nHalle: Cloppenburg\, TVC-SH  (809102)\nAdresse: Schulstraße\, 49661 Cloppenburg\n
LOCATION:Cloppenburg\, TVC-SH  (809102): Schulstraße\, 49661 Cloppenburg
CATEGORIES:Saison 2024/25
END:VEVENT
BEGIN:VEVENT
DTSTAMP:20260419T154331Z
DTSTART;TZID=Europe/Berlin:20240921T100000
DTEND;TZID=Europe/Berlin:20240921T110000
SUMMARY:Vorrunde MJE 7 TuRa Marienhafe vs BV Garrel (945621)
UID:6d7080d7-d56f-4f40-92dd-297148dda2aa
STATUS:CONFIRMED
LAST-MODIFIED:20240925T111815Z
DESCRIPTION:Vorrunde MJE 7\nBegegnungs-Nr: 945621\nHeim: TuRa Marienhafe\nGast: BV Garrel\nHalle: Sögel\, Großraum-SH  (803153)\nAdresse: Schlaunallee 14\, 49751 Sögel\n
LOCATION:Sögel\, Großraum-SH  (803153): Schlaunallee 14\, 49751 Sögel
CATEGORIES:Saison 2024/25
END:VEVENT
BEGIN:VEVENT
DTSTAMP:20260419T154331Z
DTSTART;TZID=Europe/Berlin:20240921T130000
DTEND;TZID=Europe/Berlin:20240921T140000
SUMMARY:Vorrunde MJE 7 SV Sigiltra Sögel vs BV Garrel (945624)
UID:421dad5b-6fd0-4142-a05b-e6e62669b8f4
STATUS:CONFIRMED
LAST-MODIFIED:20240925T111945Z
DESCRIPTION:Vorrunde MJE 7\nBegegnungs-Nr: 945624\nHeim: SV Sigiltra Sögel\nGast: BV Garrel\nHalle: Sögel\, Großraum-SH  (803153)\nAdresse: Schlaunallee 14\, 49751 Sögel\n
LOCATION:Sögel\, Großraum-SH  (803153): Schlaunallee 14\, 49751 Sögel
CATEGORIES:Saison 2024/25
END:VEVENT
BEGIN:VEVENT
DTSTAMP:20260419T154331Z
DTSTART;TZID=Europe/Berlin:20241102T124500
DTEND;TZID=Europe/Berlin:20241102T134500
SUMMARY:Regionsoberliga MJE Ost 1 TuS Lemförde vs BV Garrel (943603)
UID:8162e6c3-ed07-4582-b595-5a8d6e3acb58
STATUS:CONFIRMED
LAST-MODIFIED:20241104T081637Z
DESCRIPTION:Regionsoberliga männl. Jugend E Ost 1\nBegegnungs-Nr: 943603\nHeim: TuS Lemförde\nGast: BV Garrel\nHalle:  Lemförde\, SZ (809143)\nAdresse: Stettiner Str. 35\, 49448 Lemförde\n
LOCATION: Lemförde\, SZ (809143): Stettiner Str. 35\, 49448 Lemförde
CATEGORIES:Saison 2024/25
END:VEVENT
END:VCALENDAR
