BEGIN:VCALENDAR
PRODID:-//nuDatenautomaten//framework iCal4j //DE
VERSION:2.0
CALSCALE:GREGORIAN
BEGIN:VTIMEZONE
TZID:Europe/Berlin
LAST-MODIFIED:20260306T231828Z
TZURL:https://www.tzurl.org/zoneinfo/Europe/Berlin
X-LIC-LOCATION:Europe/Berlin
X-PROLEPTIC-TZNAME:LMT
BEGIN:STANDARD
TZNAME:CET
TZOFFSETFROM:+005328
TZOFFSETTO:+0100
DTSTART:18930401T000000
END:STANDARD
BEGIN:DAYLIGHT
TZNAME:CEST
TZOFFSETFROM:+0100
TZOFFSETTO:+0200
DTSTART:19160430T230000
RDATE:19400401T020000
RDATE:19430329T020000
RDATE:19460414T020000
RDATE:19470406T030000
RDATE:19480418T020000
RDATE:19490410T020000
RDATE:19800406T020000
END:DAYLIGHT
BEGIN:STANDARD
TZNAME:CET
TZOFFSETFROM:+0200
TZOFFSETTO:+0100
DTSTART:19161001T010000
RDATE:19421102T030000
RDATE:19431004T030000
RDATE:19441002T030000
RDATE:19451118T030000
RDATE:19461007T030000
END:STANDARD
BEGIN:DAYLIGHT
TZNAME:CEST
TZOFFSETFROM:+0100
TZOFFSETTO:+0200
DTSTART:19170416T020000
RRULE:FREQ=YEARLY;UNTIL=19180415T010000Z;BYMONTH=4;BYDAY=3MO
END:DAYLIGHT
BEGIN:STANDARD
TZNAME:CET
TZOFFSETFROM:+0200
TZOFFSETTO:+0100
DTSTART:19170917T030000
RRULE:FREQ=YEARLY;UNTIL=19180916T010000Z;BYMONTH=9;BYDAY=3MO
END:STANDARD
BEGIN:DAYLIGHT
TZNAME:CEST
TZOFFSETFROM:+0100
TZOFFSETTO:+0200
DTSTART:19440403T020000
RRULE:FREQ=YEARLY;UNTIL=19450402T010000Z;BYMONTH=4;BYDAY=1MO
END:DAYLIGHT
BEGIN:DAYLIGHT
TZNAME:CEMT
TZOFFSETFROM:+0200
TZOFFSETTO:+0300
DTSTART:19450524T020000
RDATE:19470511T030000
END:DAYLIGHT
BEGIN:DAYLIGHT
TZNAME:CEST
TZOFFSETFROM:+0300
TZOFFSETTO:+0200
DTSTART:19450924T030000
RDATE:19470629T030000
END:DAYLIGHT
BEGIN:STANDARD
TZNAME:CET
TZOFFSETFROM:+0100
TZOFFSETTO:+0100
DTSTART:19460101T000000
RDATE:19800101T000000
END:STANDARD
BEGIN:STANDARD
TZNAME:CET
TZOFFSETFROM:+0200
TZOFFSETTO:+0100
DTSTART:19471005T030000
RRULE:FREQ=YEARLY;UNTIL=19491002T010000Z;BYMONTH=10;BYDAY=1SU
END:STANDARD
BEGIN:STANDARD
TZNAME:CET
TZOFFSETFROM:+0200
TZOFFSETTO:+0100
DTSTART:19800928T030000
RRULE:FREQ=YEARLY;UNTIL=19950924T010000Z;BYMONTH=9;BYDAY=-1SU
END:STANDARD
BEGIN:DAYLIGHT
TZNAME:CEST
TZOFFSETFROM:+0100
TZOFFSETTO:+0200
DTSTART:19810329T020000
RRULE:FREQ=YEARLY;BYMONTH=3;BYDAY=-1SU
END:DAYLIGHT
BEGIN:STANDARD
TZNAME:CET
TZOFFSETFROM:+0200
TZOFFSETTO:+0100
DTSTART:19961027T030000
RRULE:FREQ=YEARLY;BYMONTH=10;BYDAY=-1SU
END:STANDARD
END:VTIMEZONE
BEGIN:VEVENT
DTSTAMP:20260419T134051Z
DTSTART;TZID=Europe/Berlin:20250308T170000
DTEND;TZID=Europe/Berlin:20250308T180000
SUMMARY:Oberliga WJC West BV Garrel vs TV Meppen (32)
UID:7cdd9fb6-7a00-4066-8ff0-b412c611ded2
STATUS:CONFIRMED
LAST-MODIFIED:20250308T203009Z
DESCRIPTION:Oberliga weibliche Jugend C West\nBegegnungs-Nr: 32\nHeim: BV Garrel\nGast: TV Meppen\nHalle: Garrel\, SZ  (809115)\nAdresse: St.-Johannes-Straße\, 49681 Garrel\n
LOCATION:Garrel\, SZ  (809115): St.-Johannes-Straße\, 49681 Garrel
CATEGORIES:Saison 2024/25
END:VEVENT
BEGIN:VEVENT
DTSTAMP:20260419T134051Z
DTSTART;TZID=Europe/Berlin:20250215T191500
DTEND;TZID=Europe/Berlin:20250215T201500
SUMMARY:Oberliga WJC West BV Garrel vs SFN Vechta (22)
UID:f474c121-e80f-4925-9198-fe9bd362daad
STATUS:CONFIRMED
LAST-MODIFIED:20250215T221242Z
DESCRIPTION:Oberliga weibliche Jugend C West\nBegegnungs-Nr: 22\nHeim: BV Garrel\nGast: SFN Vechta\nHalle: Garrel\, SZ  (809115)\nAdresse: St.-Johannes-Straße\, 49681 Garrel\n
LOCATION:Garrel\, SZ  (809115): St.-Johannes-Straße\, 49681 Garrel
CATEGORIES:Saison 2024/25
END:VEVENT
BEGIN:VEVENT
DTSTAMP:20260419T134051Z
DTSTART;TZID=Europe/Berlin:20250222T150000
DTEND;TZID=Europe/Berlin:20250222T160000
SUMMARY:Oberliga WJC West BV Garrel vs HSG Varel (42)
UID:e05b1d3a-297c-43b1-95fb-d929640c0e0c
STATUS:CONFIRMED
LAST-MODIFIED:20250226T100221Z
DESCRIPTION:Oberliga weibliche Jugend C West\nBegegnungs-Nr: 42\nHeim: BV Garrel\nGast: HSG Varel\nHalle: Garrel\, SZ  (809115)\nAdresse: St.-Johannes-Straße\, 49681 Garrel\n
LOCATION:Garrel\, SZ  (809115): St.-Johannes-Straße\, 49681 Garrel
CATEGORIES:Saison 2024/25
END:VEVENT
BEGIN:VEVENT
DTSTAMP:20260419T134051Z
DTSTART;TZID=Europe/Berlin:20250126T184500
DTEND;TZID=Europe/Berlin:20250126T194500
SUMMARY:Oberliga WJC West BV Garrel vs SV Cappeln (12)
UID:6a4c1e3d-869e-47a5-b51f-bfda40095e74
STATUS:CONFIRMED
LAST-MODIFIED:20250127T141431Z
DESCRIPTION:Oberliga weibliche Jugend C West\nBegegnungs-Nr: 12\nHeim: BV Garrel\nGast: SV Cappeln\nHalle: Garrel\, SZ  (809115)\nAdresse: St.-Johannes-Straße\, 49681 Garrel\n
LOCATION:Garrel\, SZ  (809115): St.-Johannes-Straße\, 49681 Garrel
CATEGORIES:Saison 2024/25
END:VEVENT
BEGIN:VEVENT
DTSTAMP:20260419T134051Z
DTSTART;TZID=Europe/Berlin:20240901T163000
DTEND;TZID=Europe/Berlin:20240901T173000
SUMMARY:Regionalliga WJC Vorr. West BV Garrel vs MTV Aurich (13)
UID:30756f4e-7654-4b98-9c6b-5e7c2517de4e
STATUS:CONFIRMED
LAST-MODIFIED:20240906T105255Z
DESCRIPTION:Regionalliga weibliche Jugend C Vorrunde West\nBegegnungs-Nr: 13\nHeim: BV Garrel\nGast: MTV Aurich\nHalle: Garrel\, SZ  (809115)\nAdresse: St.-Johannes-Straße\, 49681 Garrel\n
LOCATION:Garrel\, SZ  (809115): St.-Johannes-Straße\, 49681 Garrel
CATEGORIES:Saison 2024/25
END:VEVENT
BEGIN:VEVENT
DTSTAMP:20260419T134051Z
DTSTART;TZID=Europe/Berlin:20241124T143000
DTEND;TZID=Europe/Berlin:20241124T153000
SUMMARY:Regionalliga WJC Vorr. West BV Garrel vs SV Vorwärts Nordhorn (24)
UID:9093d7d1-98d7-4cd7-a508-f1d1cb7d990c
STATUS:CONFIRMED
LAST-MODIFIED:20241125T111644Z
DESCRIPTION:Regionalliga weibliche Jugend C Vorrunde West\nBegegnungs-Nr: 24\nHeim: BV Garrel\nGast: SV Vorwärts Nordhorn\nHalle: Garrel\, SZ  (809115)\nAdresse: St.-Johannes-Straße\, 49681 Garrel\n
LOCATION:Garrel\, SZ  (809115): St.-Johannes-Straße\, 49681 Garrel
CATEGORIES:Saison 2024/25
END:VEVENT
BEGIN:VEVENT
DTSTAMP:20260419T134051Z
DTSTART;TZID=Europe/Berlin:20241123T150000
DTEND;TZID=Europe/Berlin:20241123T160000
SUMMARY:Regionalliga WJC Vorr. West BV Garrel vs SV Cappeln (36)
UID:daa5f5c8-a245-4a6e-86d1-b47836da30cd
STATUS:CONFIRMED
LAST-MODIFIED:20241123T203935Z
DESCRIPTION:Regionalliga weibliche Jugend C Vorrunde West\nBegegnungs-Nr: 36\nHeim: BV Garrel\nGast: SV Cappeln\nHalle: Garrel\, SZ  (809115)\nAdresse: St.-Johannes-Straße\, 49681 Garrel\n
LOCATION:Garrel\, SZ  (809115): St.-Johannes-Straße\, 49681 Garrel
CATEGORIES:Saison 2024/25
END:VEVENT
BEGIN:VEVENT
DTSTAMP:20260419T134051Z
DTSTART;TZID=Europe/Berlin:20240908T170000
DTEND;TZID=Europe/Berlin:20240908T180000
SUMMARY:Regionalliga WJC Vorr. West BV Garrel vs SG Neuenhaus/Uelsen (2)
UID:cfd0bb57-0280-45ce-b532-dbd53abfa3b3
STATUS:CONFIRMED
LAST-MODIFIED:20240909T154110Z
DESCRIPTION:Regionalliga weibliche Jugend C Vorrunde West\nBegegnungs-Nr: 2\nHeim: BV Garrel\nGast: SG Neuenhaus/Uelsen\nHalle: Garrel\, SZ  (809115)\nAdresse: St.-Johannes-Straße\, 49681 Garrel\n
LOCATION:Garrel\, SZ  (809115): St.-Johannes-Straße\, 49681 Garrel
CATEGORIES:Saison 2024/25
END:VEVENT
BEGIN:VEVENT
DTSTAMP:20260419T134051Z
DTSTART;TZID=Europe/Berlin:20250316T163000
DTEND;TZID=Europe/Berlin:20250316T173000
SUMMARY:Oberliga WJC West HSG Stuhr vs BV Garrel (27)
UID:7ce558db-f690-4a36-8083-a3583ed170ca
STATUS:CONFIRMED
LAST-MODIFIED:20250317T093043Z
DESCRIPTION:Oberliga weibliche Jugend C West\nBegegnungs-Nr: 27\nHeim: HSG Stuhr\nGast: BV Garrel\nHalle: Stuhr-Brinkum\, SH FTSV Jahn Brinkum (401160)\nAdresse: Birkenstr. 60\, 28816 Stuhr (OT Brinkum)\n
LOCATION:Stuhr-Brinkum\, SH FTSV Jahn Brinkum (401160): Birkenstr. 60\, 28816 Stuhr (OT Brinkum)
CATEGORIES:Saison 2024/25
END:VEVENT
BEGIN:VEVENT
DTSTAMP:20260419T134051Z
DTSTART;TZID=Europe/Berlin:20250112T103000
DTEND;TZID=Europe/Berlin:20250112T113000
SUMMARY:Oberliga WJC West TSV Altenwalde vs BV Garrel (1)
UID:07e4da87-398d-48f0-9c4c-dd99ee895755
STATUS:CONFIRMED
LAST-MODIFIED:20250116T211046Z
DESCRIPTION:Oberliga weibliche Jugend C West\nBegegnungs-Nr: 1\nHeim: TSV Altenwalde\nGast: BV Garrel\nHalle: Cuxhaven\, SH Franzenburg (602139)\nAdresse: Wohlsenstraße 41\, 27478 Cuxhaven (OT Altenwalde)\n
LOCATION:Cuxhaven\, SH Franzenburg (602139): Wohlsenstraße 41\, 27478 Cuxhaven (OT Altenwalde)
CATEGORIES:Saison 2024/25
END:VEVENT
BEGIN:VEVENT
DTSTAMP:20260419T134051Z
DTSTART;TZID=Europe/Berlin:20250209T120000
DTEND;TZID=Europe/Berlin:20250209T130000
SUMMARY:Oberliga WJC West SV Vorwärts Nordhorn vs BV Garrel (17)
UID:da247196-55c8-44cb-9a68-4d135828a026
STATUS:CONFIRMED
LAST-MODIFIED:20250212T124301Z
DESCRIPTION:Oberliga weibliche Jugend C West\nBegegnungs-Nr: 17\nHeim: SV Vorwärts Nordhorn\nGast: BV Garrel\nHalle: Nordhorn\, SZ Nordhorn-Deegfeld (803140)\nAdresse: Deegfelder Weg\, 48531 Nordhorn (OT Deegfeld)\n
LOCATION:Nordhorn\, SZ Nordhorn-Deegfeld (803140): Deegfelder Weg\, 48531 Nordhorn (OT Deegfeld)
CATEGORIES:Saison 2024/25
END:VEVENT
BEGIN:VEVENT
DTSTAMP:20260419T134051Z
DTSTART;TZID=Europe/Berlin:20250118T150000
DTEND;TZID=Europe/Berlin:20250118T160000
SUMMARY:Oberliga WJC West TV Neerstedt vs BV Garrel (37)
UID:83a6cf1c-49b9-473a-8afe-91bfc5d60f46
STATUS:CONFIRMED
LAST-MODIFIED:20250118T175218Z
DESCRIPTION:Oberliga weibliche Jugend C West\nBegegnungs-Nr: 37\nHeim: TV Neerstedt\nGast: BV Garrel\nHalle:  Neerstedt\, SZ (813037)\nAdresse: Am Sportplatz 7\, 27801 Neerstedt\n
LOCATION: Neerstedt\, SZ (813037): Am Sportplatz 7\, 27801 Neerstedt
CATEGORIES:Saison 2024/25
END:VEVENT
BEGIN:VEVENT
DTSTAMP:20260419T134051Z
DTSTART;TZID=Europe/Berlin:20241130T153000
DTEND;TZID=Europe/Berlin:20241130T163000
SUMMARY:Regionalliga WJC Vorr. West VfL Oldenburg vs BV Garrel (42)
UID:5823a8cc-a028-4b80-a477-da425e6e482d
STATUS:CONFIRMED
LAST-MODIFIED:20241130T203819Z
DESCRIPTION:Regionalliga weibliche Jugend C Vorrunde West\nBegegnungs-Nr: 42\nHeim: VfL Oldenburg\nGast: BV Garrel\nHalle: Oldenburg-Wechloy\, BBS  (813100)\nAdresse: Am Heidbrock 10\, 26129 Oldenburg (OT Wechloy)\n
LOCATION:Oldenburg-Wechloy\, BBS  (813100): Am Heidbrock 10\, 26129 Oldenburg (OT Wechloy)
CATEGORIES:Saison 2024/25
END:VEVENT
BEGIN:VEVENT
DTSTAMP:20260419T134051Z
DTSTART;TZID=Europe/Berlin:20241030T184500
DTEND;TZID=Europe/Berlin:20241030T194500
SUMMARY:Regionalliga WJC Vorr. West TV Meppen vs BV Garrel (19)
UID:3b58351e-d736-4574-ba40-9bd957c919b3
STATUS:CONFIRMED
LAST-MODIFIED:20241030T213211Z
DESCRIPTION:Regionalliga weibliche Jugend C Vorrunde West\nBegegnungs-Nr: 19\nHeim: TV Meppen\nGast: BV Garrel\nHalle:  Meppen\, Kardinal-von-Galen-Halle (803135)\nAdresse: Dammstr.\, 49716 Meppen\n
LOCATION: Meppen\, Kardinal-von-Galen-Halle (803135): Dammstr.\, 49716 Meppen
CATEGORIES:Saison 2024/25
END:VEVENT
BEGIN:VEVENT
DTSTAMP:20260419T134051Z
DTSTART;TZID=Europe/Berlin:20240914T111500
DTEND;TZID=Europe/Berlin:20240914T121500
SUMMARY:Regionalliga WJC Vorr. West HSG Varel vs BV Garrel (8)
UID:c79b5c74-6f4a-4d46-af55-3fa0d59d6758
STATUS:CONFIRMED
LAST-MODIFIED:20240917T120428Z
DESCRIPTION:Regionalliga weibliche Jugend C Vorrunde West\nBegegnungs-Nr: 8\nHeim: HSG Varel\nGast: BV Garrel\nHalle: Varel\, SH Manfred-Schmidt  (805120)\nAdresse: Altjührdener Straße 34\, 26316 Varel (OT Altjührden)\n
LOCATION:Varel\, SH Manfred-Schmidt  (805120): Altjührdener Straße 34\, 26316 Varel (OT Altjührden)
CATEGORIES:Saison 2024/25
END:VEVENT
BEGIN:VEVENT
DTSTAMP:20260419T134051Z
DTSTART;TZID=Europe/Berlin:20241027T130000
DTEND;TZID=Europe/Berlin:20241027T140000
SUMMARY:Regionalliga WJC Vorr. West SFN Vechta vs BV Garrel (30)
UID:e0909407-5681-44fd-b6be-9ea44e738983
STATUS:CONFIRMED
LAST-MODIFIED:20241028T074624Z
DESCRIPTION:Regionalliga weibliche Jugend C Vorrunde West\nBegegnungs-Nr: 30\nHeim: SFN Vechta\nGast: BV Garrel\nHalle: Vechta-West\, SH  (809140)\nAdresse: Brüsseler Str. 37\, 49377 Vechta\n
LOCATION:Vechta-West\, SH  (809140): Brüsseler Str. 37\, 49377 Vechta
CATEGORIES:Saison 2024/25
END:VEVENT
END:VCALENDAR
