BEGIN:VCALENDAR
PRODID:-//nuDatenautomaten//framework iCal4j //DE
VERSION:2.0
CALSCALE:GREGORIAN
BEGIN:VTIMEZONE
TZID:Europe/Berlin
LAST-MODIFIED:20260306T231828Z
TZURL:https://www.tzurl.org/zoneinfo/Europe/Berlin
X-LIC-LOCATION:Europe/Berlin
X-PROLEPTIC-TZNAME:LMT
BEGIN:STANDARD
TZNAME:CET
TZOFFSETFROM:+005328
TZOFFSETTO:+0100
DTSTART:18930401T000000
END:STANDARD
BEGIN:DAYLIGHT
TZNAME:CEST
TZOFFSETFROM:+0100
TZOFFSETTO:+0200
DTSTART:19160430T230000
RDATE:19400401T020000
RDATE:19430329T020000
RDATE:19460414T020000
RDATE:19470406T030000
RDATE:19480418T020000
RDATE:19490410T020000
RDATE:19800406T020000
END:DAYLIGHT
BEGIN:STANDARD
TZNAME:CET
TZOFFSETFROM:+0200
TZOFFSETTO:+0100
DTSTART:19161001T010000
RDATE:19421102T030000
RDATE:19431004T030000
RDATE:19441002T030000
RDATE:19451118T030000
RDATE:19461007T030000
END:STANDARD
BEGIN:DAYLIGHT
TZNAME:CEST
TZOFFSETFROM:+0100
TZOFFSETTO:+0200
DTSTART:19170416T020000
RRULE:FREQ=YEARLY;UNTIL=19180415T010000Z;BYMONTH=4;BYDAY=3MO
END:DAYLIGHT
BEGIN:STANDARD
TZNAME:CET
TZOFFSETFROM:+0200
TZOFFSETTO:+0100
DTSTART:19170917T030000
RRULE:FREQ=YEARLY;UNTIL=19180916T010000Z;BYMONTH=9;BYDAY=3MO
END:STANDARD
BEGIN:DAYLIGHT
TZNAME:CEST
TZOFFSETFROM:+0100
TZOFFSETTO:+0200
DTSTART:19440403T020000
RRULE:FREQ=YEARLY;UNTIL=19450402T010000Z;BYMONTH=4;BYDAY=1MO
END:DAYLIGHT
BEGIN:DAYLIGHT
TZNAME:CEMT
TZOFFSETFROM:+0200
TZOFFSETTO:+0300
DTSTART:19450524T020000
RDATE:19470511T030000
END:DAYLIGHT
BEGIN:DAYLIGHT
TZNAME:CEST
TZOFFSETFROM:+0300
TZOFFSETTO:+0200
DTSTART:19450924T030000
RDATE:19470629T030000
END:DAYLIGHT
BEGIN:STANDARD
TZNAME:CET
TZOFFSETFROM:+0100
TZOFFSETTO:+0100
DTSTART:19460101T000000
RDATE:19800101T000000
END:STANDARD
BEGIN:STANDARD
TZNAME:CET
TZOFFSETFROM:+0200
TZOFFSETTO:+0100
DTSTART:19471005T030000
RRULE:FREQ=YEARLY;UNTIL=19491002T010000Z;BYMONTH=10;BYDAY=1SU
END:STANDARD
BEGIN:STANDARD
TZNAME:CET
TZOFFSETFROM:+0200
TZOFFSETTO:+0100
DTSTART:19800928T030000
RRULE:FREQ=YEARLY;UNTIL=19950924T010000Z;BYMONTH=9;BYDAY=-1SU
END:STANDARD
BEGIN:DAYLIGHT
TZNAME:CEST
TZOFFSETFROM:+0100
TZOFFSETTO:+0200
DTSTART:19810329T020000
RRULE:FREQ=YEARLY;BYMONTH=3;BYDAY=-1SU
END:DAYLIGHT
BEGIN:STANDARD
TZNAME:CET
TZOFFSETFROM:+0200
TZOFFSETTO:+0100
DTSTART:19961027T030000
RRULE:FREQ=YEARLY;BYMONTH=10;BYDAY=-1SU
END:STANDARD
END:VTIMEZONE
BEGIN:VEVENT
DTSTAMP:20260421T093419Z
DTSTART;TZID=Europe/Berlin:20250216T143000
DTEND;TZID=Europe/Berlin:20250216T153000
SUMMARY:Regionalliga WJC SG Neuenhaus/Uelsen vs TV Hannover-Badenstedt (22)
UID:10dc4dfa-78b8-4bdd-9892-0f77283920f1
STATUS:CONFIRMED
LAST-MODIFIED:20250216T211211Z
DESCRIPTION:Regionalliga weibliche Jugend C\nBegegnungs-Nr: 22\nHeim: SG Neuenhaus/Uelsen\nGast: TV Hannover-Badenstedt\nHalle: Sportzentrum DinkelDuo Neuenhaus (803178)\nAdresse: Schulstraße 6\, 49828 Neuenhaus\n
LOCATION:Sportzentrum DinkelDuo Neuenhaus (803178): Schulstraße 6\, 49828 Neuenhaus
CATEGORIES:Saison 2024/25
END:VEVENT
BEGIN:VEVENT
DTSTAMP:20260421T093419Z
DTSTART;TZID=Europe/Berlin:20250126T130000
DTEND;TZID=Europe/Berlin:20250126T140000
SUMMARY:Regionalliga WJC SG Neuenhaus/Uelsen vs MTV Aurich (12)
UID:ec441437-2421-4682-ac31-8df7a71ad1b4
STATUS:CONFIRMED
LAST-MODIFIED:20250127T133634Z
DESCRIPTION:Regionalliga weibliche Jugend C\nBegegnungs-Nr: 12\nHeim: SG Neuenhaus/Uelsen\nGast: MTV Aurich\nHalle: Sportzentrum DinkelDuo Neuenhaus (803178)\nAdresse: Schulstraße 6\, 49828 Neuenhaus\n
LOCATION:Sportzentrum DinkelDuo Neuenhaus (803178): Schulstraße 6\, 49828 Neuenhaus
CATEGORIES:Saison 2024/25
END:VEVENT
BEGIN:VEVENT
DTSTAMP:20260421T093419Z
DTSTART;TZID=Europe/Berlin:20250118T143000
DTEND;TZID=Europe/Berlin:20250118T153000
SUMMARY:Regionalliga WJC SG Neuenhaus/Uelsen vs VfL Oldenburg (7)
UID:e843707f-0664-4baf-b5a6-e2180dfb9e1b
STATUS:CONFIRMED
LAST-MODIFIED:20250118T172014Z
DESCRIPTION:Regionalliga weibliche Jugend C\nBegegnungs-Nr: 7\nHeim: SG Neuenhaus/Uelsen\nGast: VfL Oldenburg\nHalle: Sportzentrum DinkelDuo Neuenhaus (803178)\nAdresse: Schulstraße 6\, 49828 Neuenhaus\n
LOCATION:Sportzentrum DinkelDuo Neuenhaus (803178): Schulstraße 6\, 49828 Neuenhaus
CATEGORIES:Saison 2024/25
END:VEVENT
BEGIN:VEVENT
DTSTAMP:20260421T093419Z
DTSTART;TZID=Europe/Berlin:20240914T154500
DTEND;TZID=Europe/Berlin:20240914T164500
SUMMARY:Regionalliga WJC Vorr. West SG Neuenhaus/Uelsen vs SV Cappeln (6)
UID:ac6e2a09-1675-4de8-a1c2-d022b97dcb41
STATUS:CONFIRMED
LAST-MODIFIED:20240917T121531Z
DESCRIPTION:Regionalliga weibliche Jugend C Vorrunde West\nBegegnungs-Nr: 6\nHeim: SG Neuenhaus/Uelsen\nGast: SV Cappeln\nHalle: Sportzentrum DinkelDuo Neuenhaus (803178)\nAdresse: Schulstraße 6\, 49828 Neuenhaus\n
LOCATION:Sportzentrum DinkelDuo Neuenhaus (803178): Schulstraße 6\, 49828 Neuenhaus
CATEGORIES:Saison 2024/25
END:VEVENT
BEGIN:VEVENT
DTSTAMP:20260421T093419Z
DTSTART;TZID=Europe/Berlin:20250309T153000
DTEND;TZID=Europe/Berlin:20250309T163000
SUMMARY:Regionalliga WJC SG Neuenhaus/Uelsen vs MTV Vorsfelde (32)
UID:7cfebd55-8842-46c4-b710-b7c5b1c88a34
STATUS:CONFIRMED
LAST-MODIFIED:20250309T204357Z
DESCRIPTION:Regionalliga weibliche Jugend C\nBegegnungs-Nr: 32\nHeim: SG Neuenhaus/Uelsen\nGast: MTV Vorsfelde\nHalle: Sportzentrum DinkelDuo Neuenhaus (803178)\nAdresse: Schulstraße 6\, 49828 Neuenhaus\n
LOCATION:Sportzentrum DinkelDuo Neuenhaus (803178): Schulstraße 6\, 49828 Neuenhaus
CATEGORIES:Saison 2024/25
END:VEVENT
BEGIN:VEVENT
DTSTAMP:20260421T093419Z
DTSTART;TZID=Europe/Berlin:20241020T160000
DTEND;TZID=Europe/Berlin:20241020T170000
SUMMARY:Regionalliga WJC Vorr. West SG Neuenhaus/Uelsen vs HSG Varel (23)
UID:dc48b4ff-51b6-4319-9a46-1aaef465c6e9
STATUS:CONFIRMED
LAST-MODIFIED:20241022T094914Z
DESCRIPTION:Regionalliga weibliche Jugend C Vorrunde West\nBegegnungs-Nr: 23\nHeim: SG Neuenhaus/Uelsen\nGast: HSG Varel\nHalle: Sportzentrum DinkelDuo Neuenhaus (803178)\nAdresse: Schulstraße 6\, 49828 Neuenhaus\n
LOCATION:Sportzentrum DinkelDuo Neuenhaus (803178): Schulstraße 6\, 49828 Neuenhaus
CATEGORIES:Saison 2024/25
END:VEVENT
BEGIN:VEVENT
DTSTAMP:20260421T093419Z
DTSTART;TZID=Europe/Berlin:20241130T160000
DTEND;TZID=Europe/Berlin:20241130T170000
SUMMARY:Regionalliga WJC Vorr. West SG Neuenhaus/Uelsen vs SFN Vechta (43)
UID:a91b928f-0be6-4cee-92b3-4f3a46c2f96a
STATUS:CONFIRMED
LAST-MODIFIED:20241130T204903Z
DESCRIPTION:Regionalliga weibliche Jugend C Vorrunde West\nBegegnungs-Nr: 43\nHeim: SG Neuenhaus/Uelsen\nGast: SFN Vechta\nHalle: Sportzentrum DinkelDuo Neuenhaus (803178)\nAdresse: Schulstraße 6\, 49828 Neuenhaus\n
LOCATION:Sportzentrum DinkelDuo Neuenhaus (803178): Schulstraße 6\, 49828 Neuenhaus
CATEGORIES:Saison 2024/25
END:VEVENT
BEGIN:VEVENT
DTSTAMP:20260421T093419Z
DTSTART;TZID=Europe/Berlin:20241109T140000
DTEND;TZID=Europe/Berlin:20241109T150000
SUMMARY:Regionalliga WJC Vorr. West SG Neuenhaus/Uelsen vs TV Meppen (33)
UID:6715981f-1ebf-4c8a-b4a3-eb838a0582ed
STATUS:CONFIRMED
LAST-MODIFIED:20241109T201853Z
DESCRIPTION:Regionalliga weibliche Jugend C Vorrunde West\nBegegnungs-Nr: 33\nHeim: SG Neuenhaus/Uelsen\nGast: TV Meppen\nHalle: Sportzentrum DinkelDuo Neuenhaus (803178)\nAdresse: Schulstraße 6\, 49828 Neuenhaus\n
LOCATION:Sportzentrum DinkelDuo Neuenhaus (803178): Schulstraße 6\, 49828 Neuenhaus
CATEGORIES:Saison 2024/25
END:VEVENT
BEGIN:VEVENT
DTSTAMP:20260421T093419Z
DTSTART;TZID=Europe/Berlin:20250329T150000
DTEND;TZID=Europe/Berlin:20250329T160000
SUMMARY:Regionalliga WJC SG Neuenhaus/Uelsen vs Buxtehuder SV (42)
UID:32f635ac-7a65-4188-ae28-e3599addb4a3
STATUS:CONFIRMED
LAST-MODIFIED:20250330T160411Z
DESCRIPTION:Regionalliga weibliche Jugend C\nBegegnungs-Nr: 42\nHeim: SG Neuenhaus/Uelsen\nGast: Buxtehuder SV\nHalle: Sportzentrum DinkelDuo Neuenhaus (803178)\nAdresse: Schulstraße 6\, 49828 Neuenhaus\n
LOCATION:Sportzentrum DinkelDuo Neuenhaus (803178): Schulstraße 6\, 49828 Neuenhaus
CATEGORIES:Saison 2024/25
END:VEVENT
BEGIN:VEVENT
DTSTAMP:20260421T093419Z
DTSTART;TZID=Europe/Berlin:20250323T131500
DTEND;TZID=Europe/Berlin:20250323T141500
SUMMARY:Regionalliga WJC JSG Fredenbeck/Stade vs SG Neuenhaus/Uelsen (37)
UID:49c52112-ac78-410e-a75f-7415a627c07e
STATUS:CONFIRMED
LAST-MODIFIED:20250323T175422Z
DESCRIPTION:Regionalliga weibliche Jugend C\nBegegnungs-Nr: 37\nHeim: JSG Fredenbeck/Stade\nGast: SG Neuenhaus/Uelsen\nHalle: Sportcampus Stade (BCR) (608178)\nAdresse: Harsefelder Landstr. 200\, 21684 Stade\n
LOCATION:Sportcampus Stade (BCR) (608178): Harsefelder Landstr. 200\, 21684 Stade
CATEGORIES:Saison 2024/25
END:VEVENT
BEGIN:VEVENT
DTSTAMP:20260421T093419Z
DTSTART;TZID=Europe/Berlin:20250302T170000
DTEND;TZID=Europe/Berlin:20250302T180000
SUMMARY:Regionalliga WJC Peiner SG 04 vs SG Neuenhaus/Uelsen (27)
UID:556690fd-4397-44d4-999f-f7aaaa4efab1
STATUS:CONFIRMED
LAST-MODIFIED:20250303T144059Z
DESCRIPTION:Regionalliga weibliche Jugend C\nBegegnungs-Nr: 27\nHeim: Peiner SG 04\nGast: SG Neuenhaus/Uelsen\nHalle: Vöhrum\, BBS I (208106)\nAdresse: Pelikanstraße 12\, 31228 Peine (OT Vöhrum)\n
LOCATION:Vöhrum\, BBS I (208106): Pelikanstraße 12\, 31228 Peine (OT Vöhrum)
CATEGORIES:Saison 2024/25
END:VEVENT
BEGIN:VEVENT
DTSTAMP:20260421T093419Z
DTSTART;TZID=Europe/Berlin:20250111T133000
DTEND;TZID=Europe/Berlin:20250111T143000
SUMMARY:Regionalliga WJC MTV Rosdorf vs SG Neuenhaus/Uelsen (1)
UID:0845f99e-e90d-4063-acdb-5871fc7ecc08
STATUS:CONFIRMED
LAST-MODIFIED:20250112T212716Z
DESCRIPTION:Regionalliga weibliche Jugend C\nBegegnungs-Nr: 1\nHeim: MTV Rosdorf\nGast: SG Neuenhaus/Uelsen\nHalle: Rosdorf\, SH (203121)\nAdresse: Siedlungsweg 21\, 37124 Rosdorf\n
LOCATION:Rosdorf\, SH (203121): Siedlungsweg 21\, 37124 Rosdorf
CATEGORIES:Saison 2024/25
END:VEVENT
BEGIN:VEVENT
DTSTAMP:20260421T093419Z
DTSTART;TZID=Europe/Berlin:20250208T111500
DTEND;TZID=Europe/Berlin:20250208T121500
SUMMARY:Regionalliga WJC SV Werder Bremen vs SG Neuenhaus/Uelsen (17)
UID:e6821269-e037-4530-956e-3340fb727314
STATUS:CONFIRMED
LAST-MODIFIED:20250211T210257Z
DESCRIPTION:Regionalliga weibliche Jugend C\nBegegnungs-Nr: 17\nHeim: SV Werder Bremen\nGast: SG Neuenhaus/Uelsen\nHalle: Bremen-Hulsberg\, Klaus-Dieter-Fischer-Halle\, VH SV Werder I  (101133)\nAdresse: Hermine-Berthold-Str. 19/20\, 28205 Bremen\n
LOCATION:Bremen-Hulsberg\, Klaus-Dieter-Fischer-Halle\, VH SV Werder I  (101133): Hermine-Berthold-Str. 19/20\, 28205 Bremen
CATEGORIES:Saison 2024/25
END:VEVENT
BEGIN:VEVENT
DTSTAMP:20260421T093419Z
DTSTART;TZID=Europe/Berlin:20241027T140000
DTEND;TZID=Europe/Berlin:20241027T150000
SUMMARY:Regionalliga WJC Vorr. West MTV Aurich vs SG Neuenhaus/Uelsen (28)
UID:2ae52070-3b6b-4e12-9b48-ef2dce4ff71e
STATUS:CONFIRMED
LAST-MODIFIED:20241028T171956Z
DESCRIPTION:Regionalliga weibliche Jugend C Vorrunde West\nBegegnungs-Nr: 28\nHeim: MTV Aurich\nGast: SG Neuenhaus/Uelsen\nHalle: Aurich-Haxtum\, BBS SZ West (802103)\nAdresse: Am Schulzentrum\, 26605 Aurich (OT Haxtum)\n
LOCATION:Aurich-Haxtum\, BBS SZ West (802103): Am Schulzentrum\, 26605 Aurich (OT Haxtum)
CATEGORIES:Saison 2024/25
END:VEVENT
BEGIN:VEVENT
DTSTAMP:20260421T093419Z
DTSTART;TZID=Europe/Berlin:20240922T140000
DTEND;TZID=Europe/Berlin:20240922T150000
SUMMARY:Regionalliga WJC Vorr. West VfL Oldenburg vs SG Neuenhaus/Uelsen (12)
UID:655fa79e-b90b-4182-aef3-2a9eb14bccdc
STATUS:CONFIRMED
LAST-MODIFIED:20240923T131030Z
DESCRIPTION:Regionalliga weibliche Jugend C Vorrunde West\nBegegnungs-Nr: 12\nHeim: VfL Oldenburg\nGast: SG Neuenhaus/Uelsen\nHalle: Oldenburg-Wechloy\, BBS  (813100)\nAdresse: Am Heidbrock 10\, 26129 Oldenburg (OT Wechloy)\n
LOCATION:Oldenburg-Wechloy\, BBS  (813100): Am Heidbrock 10\, 26129 Oldenburg (OT Wechloy)
CATEGORIES:Saison 2024/25
END:VEVENT
BEGIN:VEVENT
DTSTAMP:20260421T093419Z
DTSTART;TZID=Europe/Berlin:20241116T171500
DTEND;TZID=Europe/Berlin:20241116T181500
SUMMARY:Regionalliga WJC Vorr. West SV Vorwärts Nordhorn vs SG Neuenhaus/Uelsen (38)
UID:d8fc45ec-2314-49dc-8edd-8e00d0077871
STATUS:CONFIRMED
LAST-MODIFIED:20241116T222423Z
DESCRIPTION:Regionalliga weibliche Jugend C Vorrunde West\nBegegnungs-Nr: 38\nHeim: SV Vorwärts Nordhorn\nGast: SG Neuenhaus/Uelsen\nHalle: Nordhorn\, SZ Nordhorn-Deegfeld (803140)\nAdresse: Deegfelder Weg\, 48531 Nordhorn (OT Deegfeld)\n
LOCATION:Nordhorn\, SZ Nordhorn-Deegfeld (803140): Deegfelder Weg\, 48531 Nordhorn (OT Deegfeld)
CATEGORIES:Saison 2024/25
END:VEVENT
BEGIN:VEVENT
DTSTAMP:20260421T093419Z
DTSTART;TZID=Europe/Berlin:20240908T170000
DTEND;TZID=Europe/Berlin:20240908T180000
SUMMARY:Regionalliga WJC Vorr. West BV Garrel vs SG Neuenhaus/Uelsen (2)
UID:cfd0bb57-0280-45ce-b532-dbd53abfa3b3
STATUS:CONFIRMED
LAST-MODIFIED:20240909T154110Z
DESCRIPTION:Regionalliga weibliche Jugend C Vorrunde West\nBegegnungs-Nr: 2\nHeim: BV Garrel\nGast: SG Neuenhaus/Uelsen\nHalle: Garrel\, SZ  (809115)\nAdresse: St.-Johannes-Straße\, 49681 Garrel\n
LOCATION:Garrel\, SZ  (809115): St.-Johannes-Straße\, 49681 Garrel
CATEGORIES:Saison 2024/25
END:VEVENT
END:VCALENDAR
