BEGIN:VCALENDAR
PRODID:-//nuDatenautomaten//framework iCal4j //DE
VERSION:2.0
CALSCALE:GREGORIAN
BEGIN:VTIMEZONE
TZID:Europe/Berlin
LAST-MODIFIED:20260306T231828Z
TZURL:https://www.tzurl.org/zoneinfo/Europe/Berlin
X-LIC-LOCATION:Europe/Berlin
X-PROLEPTIC-TZNAME:LMT
BEGIN:STANDARD
TZNAME:CET
TZOFFSETFROM:+005328
TZOFFSETTO:+0100
DTSTART:18930401T000000
END:STANDARD
BEGIN:DAYLIGHT
TZNAME:CEST
TZOFFSETFROM:+0100
TZOFFSETTO:+0200
DTSTART:19160430T230000
RDATE:19400401T020000
RDATE:19430329T020000
RDATE:19460414T020000
RDATE:19470406T030000
RDATE:19480418T020000
RDATE:19490410T020000
RDATE:19800406T020000
END:DAYLIGHT
BEGIN:STANDARD
TZNAME:CET
TZOFFSETFROM:+0200
TZOFFSETTO:+0100
DTSTART:19161001T010000
RDATE:19421102T030000
RDATE:19431004T030000
RDATE:19441002T030000
RDATE:19451118T030000
RDATE:19461007T030000
END:STANDARD
BEGIN:DAYLIGHT
TZNAME:CEST
TZOFFSETFROM:+0100
TZOFFSETTO:+0200
DTSTART:19170416T020000
RRULE:FREQ=YEARLY;UNTIL=19180415T010000Z;BYMONTH=4;BYDAY=3MO
END:DAYLIGHT
BEGIN:STANDARD
TZNAME:CET
TZOFFSETFROM:+0200
TZOFFSETTO:+0100
DTSTART:19170917T030000
RRULE:FREQ=YEARLY;UNTIL=19180916T010000Z;BYMONTH=9;BYDAY=3MO
END:STANDARD
BEGIN:DAYLIGHT
TZNAME:CEST
TZOFFSETFROM:+0100
TZOFFSETTO:+0200
DTSTART:19440403T020000
RRULE:FREQ=YEARLY;UNTIL=19450402T010000Z;BYMONTH=4;BYDAY=1MO
END:DAYLIGHT
BEGIN:DAYLIGHT
TZNAME:CEMT
TZOFFSETFROM:+0200
TZOFFSETTO:+0300
DTSTART:19450524T020000
RDATE:19470511T030000
END:DAYLIGHT
BEGIN:DAYLIGHT
TZNAME:CEST
TZOFFSETFROM:+0300
TZOFFSETTO:+0200
DTSTART:19450924T030000
RDATE:19470629T030000
END:DAYLIGHT
BEGIN:STANDARD
TZNAME:CET
TZOFFSETFROM:+0100
TZOFFSETTO:+0100
DTSTART:19460101T000000
RDATE:19800101T000000
END:STANDARD
BEGIN:STANDARD
TZNAME:CET
TZOFFSETFROM:+0200
TZOFFSETTO:+0100
DTSTART:19471005T030000
RRULE:FREQ=YEARLY;UNTIL=19491002T010000Z;BYMONTH=10;BYDAY=1SU
END:STANDARD
BEGIN:STANDARD
TZNAME:CET
TZOFFSETFROM:+0200
TZOFFSETTO:+0100
DTSTART:19800928T030000
RRULE:FREQ=YEARLY;UNTIL=19950924T010000Z;BYMONTH=9;BYDAY=-1SU
END:STANDARD
BEGIN:DAYLIGHT
TZNAME:CEST
TZOFFSETFROM:+0100
TZOFFSETTO:+0200
DTSTART:19810329T020000
RRULE:FREQ=YEARLY;BYMONTH=3;BYDAY=-1SU
END:DAYLIGHT
BEGIN:STANDARD
TZNAME:CET
TZOFFSETFROM:+0200
TZOFFSETTO:+0100
DTSTART:19961027T030000
RRULE:FREQ=YEARLY;BYMONTH=10;BYDAY=-1SU
END:STANDARD
END:VTIMEZONE
BEGIN:VEVENT
DTSTAMP:20260419T142918Z
DTSTART;TZID=Europe/Berlin:20250216T150000
DTEND;TZID=Europe/Berlin:20250216T160000
SUMMARY:Oberliga MJB West JSG Wilhelmshaven vs TuS Haren (65)
UID:009e0b15-bf3a-4827-a9b8-551fe05d533d
STATUS:CONFIRMED
LAST-MODIFIED:20250216T201642Z
DESCRIPTION:Oberliga männliche Jugend B Staffel West\nBegegnungs-Nr: 65\nHeim: JSG Wilhelmshaven\nGast: TuS Haren\nHalle: Wilhelmshaven Sporthalle Nogatstraße (OT Fedderwardergroden) (811104)\nAdresse: Hauptschule Nogatstraße\, 26388 Wilhelmshaven (OT Fedderwardengroden)\n
LOCATION:Wilhelmshaven Sporthalle Nogatstraße (OT Fedderwardergroden) (811104): Hauptschule Nogatstraße\, 26388 Wilhelmshaven (OT Fedderwardengroden)
CATEGORIES:Saison 2024/25
END:VEVENT
BEGIN:VEVENT
DTSTAMP:20260419T142918Z
DTSTART;TZID=Europe/Berlin:20250307T190000
DTEND;TZID=Europe/Berlin:20250307T200000
SUMMARY:Oberliga MJB West JSG Wilhelmshaven vs TSV Ganderkesee (45)
UID:72ab68c1-d1d9-4c8d-a040-d9c34f100b7b
STATUS:CONFIRMED
LAST-MODIFIED:20250308T110831Z
DESCRIPTION:Oberliga männliche Jugend B Staffel West\nBegegnungs-Nr: 45\nHeim: JSG Wilhelmshaven\nGast: TSV Ganderkesee\nHalle: Wilhelmshaven Sporthalle Nogatstraße (OT Fedderwardergroden) (811104)\nAdresse: Hauptschule Nogatstraße\, 26388 Wilhelmshaven (OT Fedderwardengroden)\n
LOCATION:Wilhelmshaven Sporthalle Nogatstraße (OT Fedderwardergroden) (811104): Hauptschule Nogatstraße\, 26388 Wilhelmshaven (OT Fedderwardengroden)
CATEGORIES:Saison 2024/25
END:VEVENT
BEGIN:VEVENT
DTSTAMP:20260419T142918Z
DTSTART;TZID=Europe/Berlin:20241130T140000
DTEND;TZID=Europe/Berlin:20241130T150000
SUMMARY:Oberliga MJB West JSG Wilhelmshaven vs TS Hoykenkamp (40)
UID:7eec5bd9-dd22-4b44-bcc5-21fc451cfb3c
STATUS:CONFIRMED
LAST-MODIFIED:20241130T150956Z
DESCRIPTION:Oberliga männliche Jugend B Staffel West\nBegegnungs-Nr: 40\nHeim: JSG Wilhelmshaven\nGast: TS Hoykenkamp\nHalle: Wilhelmshaven Sporthalle Nogatstraße (OT Fedderwardergroden) (811104)\nAdresse: Hauptschule Nogatstraße\, 26388 Wilhelmshaven (OT Fedderwardengroden)\n
LOCATION:Wilhelmshaven Sporthalle Nogatstraße (OT Fedderwardergroden) (811104): Hauptschule Nogatstraße\, 26388 Wilhelmshaven (OT Fedderwardengroden)
CATEGORIES:Saison 2024/25
END:VEVENT
BEGIN:VEVENT
DTSTAMP:20260419T142918Z
DTSTART;TZID=Europe/Berlin:20241019T160000
DTEND;TZID=Europe/Berlin:20241019T170000
SUMMARY:Oberliga MJB West JSG Wilhelmshaven vs OHV Aurich (19)
UID:a823058a-a963-4d89-a9ed-e8add9d3955c
STATUS:CONFIRMED
LAST-MODIFIED:20241021T165021Z
DESCRIPTION:Oberliga männliche Jugend B Staffel West\nBegegnungs-Nr: 19\nHeim: JSG Wilhelmshaven\nGast: OHV Aurich\nHalle: Wilhelmshaven Sporthalle Nogatstraße (OT Fedderwardergroden) (811104)\nAdresse: Hauptschule Nogatstraße\, 26388 Wilhelmshaven (OT Fedderwardengroden)\n
LOCATION:Wilhelmshaven Sporthalle Nogatstraße (OT Fedderwardergroden) (811104): Hauptschule Nogatstraße\, 26388 Wilhelmshaven (OT Fedderwardengroden)
CATEGORIES:Saison 2024/25
END:VEVENT
BEGIN:VEVENT
DTSTAMP:20260419T142918Z
DTSTART;TZID=Europe/Berlin:20240913T183000
DTEND;TZID=Europe/Berlin:20240913T193000
SUMMARY:Oberliga MJB West JSG Wilhelmshaven vs HSG Varel (6)
UID:cb0d1ac8-48f9-4da2-8ea9-62a188e56305
STATUS:CONFIRMED
LAST-MODIFIED:20240914T092234Z
DESCRIPTION:Oberliga männliche Jugend B Staffel West\nBegegnungs-Nr: 6\nHeim: JSG Wilhelmshaven\nGast: HSG Varel\nHalle: Wilhelmshaven Sporthalle Nogatstraße (OT Fedderwardergroden) (811104)\nAdresse: Hauptschule Nogatstraße\, 26388 Wilhelmshaven (OT Fedderwardengroden)\n
LOCATION:Wilhelmshaven Sporthalle Nogatstraße (OT Fedderwardergroden) (811104): Hauptschule Nogatstraße\, 26388 Wilhelmshaven (OT Fedderwardengroden)
CATEGORIES:Saison 2024/25
END:VEVENT
BEGIN:VEVENT
DTSTAMP:20260419T142918Z
DTSTART;TZID=Europe/Berlin:20241109T140000
DTEND;TZID=Europe/Berlin:20241109T150000
SUMMARY:Oberliga MJB West JSG Wilhelmshaven vs TSG Hatten-Sandkrug (28)
UID:eb9a5285-0f51-4218-a3c7-0a8a75e10b54
STATUS:CONFIRMED
LAST-MODIFIED:20241117T103857Z
DESCRIPTION:Oberliga männliche Jugend B Staffel West\nBegegnungs-Nr: 28\nHeim: JSG Wilhelmshaven\nGast: TSG Hatten-Sandkrug\nHalle: Wilhelmshaven Sporthalle Nogatstraße (OT Fedderwardergroden) (811104)\nAdresse: Hauptschule Nogatstraße\, 26388 Wilhelmshaven (OT Fedderwardengroden)\n
LOCATION:Wilhelmshaven Sporthalle Nogatstraße (OT Fedderwardergroden) (811104): Hauptschule Nogatstraße\, 26388 Wilhelmshaven (OT Fedderwardengroden)
CATEGORIES:Saison 2024/25
END:VEVENT
BEGIN:VEVENT
DTSTAMP:20260419T142918Z
DTSTART;TZID=Europe/Berlin:20250323T150000
DTEND;TZID=Europe/Berlin:20250323T160000
SUMMARY:Oberliga MJB West JSG Wilhelmshaven vs TV Dinklage (86)
UID:5e095785-86d7-48b7-bded-da01fbc0bb4a
STATUS:CONFIRMED
LAST-MODIFIED:20250323T213806Z
DESCRIPTION:Oberliga männliche Jugend B Staffel West\nBegegnungs-Nr: 86\nHeim: JSG Wilhelmshaven\nGast: TV Dinklage\nHalle: Wilhelmshaven Sporthalle Nogatstraße (OT Fedderwardergroden) (811104)\nAdresse: Hauptschule Nogatstraße\, 26388 Wilhelmshaven (OT Fedderwardengroden)\n
LOCATION:Wilhelmshaven Sporthalle Nogatstraße (OT Fedderwardergroden) (811104): Hauptschule Nogatstraße\, 26388 Wilhelmshaven (OT Fedderwardengroden)
CATEGORIES:Saison 2024/25
END:VEVENT
BEGIN:VEVENT
DTSTAMP:20260419T142918Z
DTSTART;TZID=Europe/Berlin:20240921T140000
DTEND;TZID=Europe/Berlin:20240921T150000
SUMMARY:Oberliga MJB West JSG Wilhelmshaven vs Elsflether TB (11)
UID:aa23fcf9-fbc2-48ca-bc6d-7ff6be5c7279
STATUS:CONFIRMED
LAST-MODIFIED:20240922T092450Z
DESCRIPTION:Oberliga männliche Jugend B Staffel West\nBegegnungs-Nr: 11\nHeim: JSG Wilhelmshaven\nGast: Elsflether TB\nHalle: Wilhelmshaven Sporthalle Nogatstraße (OT Fedderwardergroden) (811104)\nAdresse: Hauptschule Nogatstraße\, 26388 Wilhelmshaven (OT Fedderwardengroden)\n
LOCATION:Wilhelmshaven Sporthalle Nogatstraße (OT Fedderwardergroden) (811104): Hauptschule Nogatstraße\, 26388 Wilhelmshaven (OT Fedderwardengroden)
CATEGORIES:Saison 2024/25
END:VEVENT
BEGIN:VEVENT
DTSTAMP:20260419T142918Z
DTSTART;TZID=Europe/Berlin:20250126T140000
DTEND;TZID=Europe/Berlin:20250126T150000
SUMMARY:Oberliga MJB West Elsflether TB vs JSG Wilhelmshaven (58)
UID:0f686f89-2d58-4eff-acec-1a765ebe7791
STATUS:CONFIRMED
LAST-MODIFIED:20250126T144753Z
DESCRIPTION:Oberliga männliche Jugend B Staffel West\nBegegnungs-Nr: 58\nHeim: Elsflether TB\nGast: JSG Wilhelmshaven\nHalle:  Elsfleth\, Stadthalle (813047)\nAdresse: An der Stadthalle\, 26931 Elsfleth\n
LOCATION: Elsfleth\, Stadthalle (813047): An der Stadthalle\, 26931 Elsfleth
CATEGORIES:Saison 2024/25
END:VEVENT
BEGIN:VEVENT
DTSTAMP:20260419T142918Z
DTSTART;TZID=Europe/Berlin:20250312T203000
DTEND;TZID=Europe/Berlin:20250312T213000
SUMMARY:Oberliga MJB West HSG Varel vs JSG Wilhelmshaven (60)
UID:37c76b39-b161-4e82-b772-632c0b3adc66
STATUS:CONFIRMED
LAST-MODIFIED:20250312T220032Z
DESCRIPTION:Oberliga männliche Jugend B Staffel West\nBegegnungs-Nr: 60\nHeim: HSG Varel\nGast: JSG Wilhelmshaven\nHalle: Varel\, SH Manfred-Schmidt  (805120)\nAdresse: Altjührdener Straße 34\, 26316 Varel (OT Altjührden)\n
LOCATION:Varel\, SH Manfred-Schmidt  (805120): Altjührdener Straße 34\, 26316 Varel (OT Altjührden)
CATEGORIES:Saison 2024/25
END:VEVENT
BEGIN:VEVENT
DTSTAMP:20260419T142918Z
DTSTART;TZID=Europe/Berlin:20241116T163000
DTEND;TZID=Europe/Berlin:20241116T173000
SUMMARY:Oberliga MJB West TV Dinklage vs JSG Wilhelmshaven (34)
UID:cc690a35-f233-4fed-9951-a0c5ad8b9918
STATUS:CONFIRMED
LAST-MODIFIED:20241117T103940Z
DESCRIPTION:Oberliga männliche Jugend B Staffel West\nBegegnungs-Nr: 34\nHeim: TV Dinklage\nGast: JSG Wilhelmshaven\nHalle: Dinklage\, SH 1 SZ  (809107)\nAdresse: Schulstraße\, 49413 Dinklage\n
LOCATION:Dinklage\, SH 1 SZ  (809107): Schulstraße\, 49413 Dinklage
CATEGORIES:Saison 2024/25
END:VEVENT
BEGIN:VEVENT
DTSTAMP:20260419T142918Z
DTSTART;TZID=Europe/Berlin:20250222T153000
DTEND;TZID=Europe/Berlin:20250222T163000
SUMMARY:Oberliga MJB West OHV Aurich vs JSG Wilhelmshaven (66)
UID:66a15439-18f5-4d01-88a5-ad17c044b4b1
STATUS:CONFIRMED
LAST-MODIFIED:20250223T102326Z
DESCRIPTION:Oberliga männliche Jugend B Staffel West\nBegegnungs-Nr: 66\nHeim: OHV Aurich\nGast: JSG Wilhelmshaven\nHalle: Marienhafe\, Kurt - Knippelmeyer-SH (802128)\nAdresse: Speckweg\, 26529 Marienhafe\n
LOCATION:Marienhafe\, Kurt - Knippelmeyer-SH (802128): Speckweg\, 26529 Marienhafe
CATEGORIES:Saison 2024/25
END:VEVENT
BEGIN:VEVENT
DTSTAMP:20260419T142918Z
DTSTART;TZID=Europe/Berlin:20241103T150000
DTEND;TZID=Europe/Berlin:20241103T160000
SUMMARY:Oberliga MJB West TuS Haren vs JSG Wilhelmshaven (16)
UID:4ff31d34-0951-4b60-88cb-25947a51e5c2
STATUS:CONFIRMED
LAST-MODIFIED:20241103T220954Z
DESCRIPTION:Oberliga männliche Jugend B Staffel West\nBegegnungs-Nr: 16\nHeim: TuS Haren\nGast: JSG Wilhelmshaven\nHalle: Haren\, SZ Jahnstraße  (803117)\nAdresse: Jahnstraße 1\, 49733 Haren\n
LOCATION:Haren\, SZ Jahnstraße  (803117): Jahnstraße 1\, 49733 Haren
CATEGORIES:Saison 2024/25
END:VEVENT
BEGIN:VEVENT
DTSTAMP:20260419T142918Z
DTSTART;TZID=Europe/Berlin:20250328T190000
DTEND;TZID=Europe/Berlin:20250328T200000
SUMMARY:Oberliga MJB West TS Hoykenkamp vs JSG Wilhelmshaven (87)
UID:496eae11-46ea-41b5-b38a-6057abb22158
STATUS:CONFIRMED
LAST-MODIFIED:20250328T213250Z
DESCRIPTION:Oberliga männliche Jugend B Staffel West\nBegegnungs-Nr: 87\nHeim: TS Hoykenkamp\nGast: JSG Wilhelmshaven\nHalle: Hoykenkamp\, Sportzentrum (813140)\nAdresse: Am Sportplatz 9\, 27777 Hoykenkamp\n
LOCATION:Hoykenkamp\, Sportzentrum (813140): Am Sportplatz 9\, 27777 Hoykenkamp
CATEGORIES:Saison 2024/25
END:VEVENT
BEGIN:VEVENT
DTSTAMP:20260419T142918Z
DTSTART;TZID=Europe/Berlin:20250316T130000
DTEND;TZID=Europe/Berlin:20250316T140000
SUMMARY:Oberliga MJB West TSG Hatten-Sandkrug vs JSG Wilhelmshaven (79)
UID:0e2d1608-16dc-4a08-806a-2b5a9abb942a
STATUS:CONFIRMED
LAST-MODIFIED:20250316T172700Z
DESCRIPTION:Oberliga männliche Jugend B Staffel West\nBegegnungs-Nr: 79\nHeim: TSG Hatten-Sandkrug\nGast: JSG Wilhelmshaven\nHalle: Sandkrug\, SZ  (813038)\nAdresse: Schultredde 17\, 26209 Sandkrug\n
LOCATION:Sandkrug\, SZ  (813038): Schultredde 17\, 26209 Sandkrug
CATEGORIES:Saison 2024/25
END:VEVENT
BEGIN:VEVENT
DTSTAMP:20260419T142918Z
DTSTART;TZID=Europe/Berlin:20240908T120000
DTEND;TZID=Europe/Berlin:20240908T130000
SUMMARY:Oberliga MJB West TSV Ganderkesee vs JSG Wilhelmshaven (5)
UID:f7a340db-19d9-42c1-a045-ac715e28eb0e
STATUS:CONFIRMED
LAST-MODIFIED:20240914T092205Z
DESCRIPTION:Oberliga männliche Jugend B Staffel West\nBegegnungs-Nr: 5\nHeim: TSV Ganderkesee\nGast: JSG Wilhelmshaven\nHalle: Ganderkesee\, SH (neu)  (813032)\nAdresse: Am Steinacker\, 27777 Ganderkesee\n
LOCATION:Ganderkesee\, SH (neu)  (813032): Am Steinacker\, 27777 Ganderkesee
CATEGORIES:Saison 2024/25
END:VEVENT
END:VCALENDAR
