BEGIN:VCALENDAR
PRODID:-//nuDatenautomaten//framework iCal4j //DE
VERSION:2.0
CALSCALE:GREGORIAN
BEGIN:VTIMEZONE
TZID:Europe/Berlin
LAST-MODIFIED:20260306T231828Z
TZURL:https://www.tzurl.org/zoneinfo/Europe/Berlin
X-LIC-LOCATION:Europe/Berlin
X-PROLEPTIC-TZNAME:LMT
BEGIN:STANDARD
TZNAME:CET
TZOFFSETFROM:+005328
TZOFFSETTO:+0100
DTSTART:18930401T000000
END:STANDARD
BEGIN:DAYLIGHT
TZNAME:CEST
TZOFFSETFROM:+0100
TZOFFSETTO:+0200
DTSTART:19160430T230000
RDATE:19400401T020000
RDATE:19430329T020000
RDATE:19460414T020000
RDATE:19470406T030000
RDATE:19480418T020000
RDATE:19490410T020000
RDATE:19800406T020000
END:DAYLIGHT
BEGIN:STANDARD
TZNAME:CET
TZOFFSETFROM:+0200
TZOFFSETTO:+0100
DTSTART:19161001T010000
RDATE:19421102T030000
RDATE:19431004T030000
RDATE:19441002T030000
RDATE:19451118T030000
RDATE:19461007T030000
END:STANDARD
BEGIN:DAYLIGHT
TZNAME:CEST
TZOFFSETFROM:+0100
TZOFFSETTO:+0200
DTSTART:19170416T020000
RRULE:FREQ=YEARLY;UNTIL=19180415T010000Z;BYMONTH=4;BYDAY=3MO
END:DAYLIGHT
BEGIN:STANDARD
TZNAME:CET
TZOFFSETFROM:+0200
TZOFFSETTO:+0100
DTSTART:19170917T030000
RRULE:FREQ=YEARLY;UNTIL=19180916T010000Z;BYMONTH=9;BYDAY=3MO
END:STANDARD
BEGIN:DAYLIGHT
TZNAME:CEST
TZOFFSETFROM:+0100
TZOFFSETTO:+0200
DTSTART:19440403T020000
RRULE:FREQ=YEARLY;UNTIL=19450402T010000Z;BYMONTH=4;BYDAY=1MO
END:DAYLIGHT
BEGIN:DAYLIGHT
TZNAME:CEMT
TZOFFSETFROM:+0200
TZOFFSETTO:+0300
DTSTART:19450524T020000
RDATE:19470511T030000
END:DAYLIGHT
BEGIN:DAYLIGHT
TZNAME:CEST
TZOFFSETFROM:+0300
TZOFFSETTO:+0200
DTSTART:19450924T030000
RDATE:19470629T030000
END:DAYLIGHT
BEGIN:STANDARD
TZNAME:CET
TZOFFSETFROM:+0100
TZOFFSETTO:+0100
DTSTART:19460101T000000
RDATE:19800101T000000
END:STANDARD
BEGIN:STANDARD
TZNAME:CET
TZOFFSETFROM:+0200
TZOFFSETTO:+0100
DTSTART:19471005T030000
RRULE:FREQ=YEARLY;UNTIL=19491002T010000Z;BYMONTH=10;BYDAY=1SU
END:STANDARD
BEGIN:STANDARD
TZNAME:CET
TZOFFSETFROM:+0200
TZOFFSETTO:+0100
DTSTART:19800928T030000
RRULE:FREQ=YEARLY;UNTIL=19950924T010000Z;BYMONTH=9;BYDAY=-1SU
END:STANDARD
BEGIN:DAYLIGHT
TZNAME:CEST
TZOFFSETFROM:+0100
TZOFFSETTO:+0200
DTSTART:19810329T020000
RRULE:FREQ=YEARLY;BYMONTH=3;BYDAY=-1SU
END:DAYLIGHT
BEGIN:STANDARD
TZNAME:CET
TZOFFSETFROM:+0200
TZOFFSETTO:+0100
DTSTART:19961027T030000
RRULE:FREQ=YEARLY;BYMONTH=10;BYDAY=-1SU
END:STANDARD
END:VTIMEZONE
BEGIN:VEVENT
DTSTAMP:20260419T120825Z
DTSTART;TZID=Europe/Berlin:20250126T113000
DTEND;TZID=Europe/Berlin:20250126T123000
SUMMARY:Regionsliga ME Mitte Eintracht Munster 2020 e.V. gem. vs TV Jahn Schneverdingen gem. (32)
UID:ea5f128a-ee70-4206-8aa7-fdfddb4e29f7
STATUS:CONFIRMED
LAST-MODIFIED:20250130T163801Z
DESCRIPTION:Regionsliga männliche Jugend E Mitte\nBegegnungs-Nr: 32\nHeim: Eintracht Munster 2020 e.V. gem.\nGast: TV Jahn Schneverdingen gem.\nHalle: Munster\, SH Hindenburgallee (607106)\nAdresse: Hindenburgallee\, 29633 Munster\n
LOCATION:Munster\, SH Hindenburgallee (607106): Hindenburgallee\, 29633 Munster
CATEGORIES:Saison 2024/25
END:VEVENT
BEGIN:VEVENT
DTSTAMP:20260419T120825Z
DTSTART;TZID=Europe/Berlin:20250330T100000
DTEND;TZID=Europe/Berlin:20250330T110000
SUMMARY:Regionsliga ME Mitte Eintracht Munster 2020 e.V. gem. vs MTV Soltau gem. (56)
UID:8dc6e534-a193-4502-91d8-ba7163555f7c
STATUS:CONFIRMED
LAST-MODIFIED:20250331T170720Z
DESCRIPTION:Regionsliga männliche Jugend E Mitte\nBegegnungs-Nr: 56\nHeim: Eintracht Munster 2020 e.V. gem.\nGast: MTV Soltau gem.\nHalle: Munster\, SH Hindenburgallee (607106)\nAdresse: Hindenburgallee\, 29633 Munster\n
LOCATION:Munster\, SH Hindenburgallee (607106): Hindenburgallee\, 29633 Munster
CATEGORIES:Saison 2024/25
END:VEVENT
BEGIN:VEVENT
DTSTAMP:20260419T120825Z
DTSTART;TZID=Europe/Berlin:20241208T100000
DTEND;TZID=Europe/Berlin:20241208T110000
SUMMARY:Regionsliga ME Mitte Eintracht Munster 2020 e.V. gem. vs TSV Wietze (23)
UID:7ec92e91-d063-457a-8638-b372d56a4f78
STATUS:CONFIRMED
LAST-MODIFIED:20241209T221851Z
DESCRIPTION:Regionsliga männliche Jugend E Mitte\nBegegnungs-Nr: 23\nHeim: Eintracht Munster 2020 e.V. gem.\nGast: TSV Wietze\nHalle: Munster\, SH Hindenburgallee (607106)\nAdresse: Hindenburgallee\, 29633 Munster\n
LOCATION:Munster\, SH Hindenburgallee (607106): Hindenburgallee\, 29633 Munster
CATEGORIES:Saison 2024/25
END:VEVENT
BEGIN:VEVENT
DTSTAMP:20260419T120825Z
DTSTART;TZID=Europe/Berlin:20241103T100000
DTEND;TZID=Europe/Berlin:20241103T110000
SUMMARY:Regionsliga ME Mitte Eintracht Munster 2020 e.V. gem. vs TSV Auetal gem. (8)
UID:44f545db-26f2-4abd-84c3-129bd2fc72ac
STATUS:CONFIRMED
LAST-MODIFIED:20241105T110626Z
DESCRIPTION:Regionsliga männliche Jugend E Mitte\nBegegnungs-Nr: 8\nHeim: Eintracht Munster 2020 e.V. gem.\nGast: TSV Auetal gem.\nHalle: Munster\, SH Hindenburgallee (607106)\nAdresse: Hindenburgallee\, 29633 Munster\n
LOCATION:Munster\, SH Hindenburgallee (607106): Hindenburgallee\, 29633 Munster
CATEGORIES:Saison 2024/25
END:VEVENT
BEGIN:VEVENT
DTSTAMP:20260419T120825Z
DTSTART;TZID=Europe/Berlin:20250403T163000
DTEND;TZID=Europe/Berlin:20250403T173000
SUMMARY:Regionsliga ME Mitte Eintracht Munster 2020 e.V. gem. vs TSV Wietzendorf gem. II (46)
UID:2a8b6ba3-1bf6-4942-93df-376b9eb8e7a6
STATUS:CONFIRMED
LAST-MODIFIED:20250407T103327Z
DESCRIPTION:Regionsliga männliche Jugend E Mitte\nBegegnungs-Nr: 46\nHeim: Eintracht Munster 2020 e.V. gem.\nGast: TSV Wietzendorf gem. II\nHalle: Munster\, SH Hindenburgallee (607106)\nAdresse: Hindenburgallee\, 29633 Munster\n
LOCATION:Munster\, SH Hindenburgallee (607106): Hindenburgallee\, 29633 Munster
CATEGORIES:Saison 2024/25
END:VEVENT
BEGIN:VEVENT
DTSTAMP:20260419T120825Z
DTSTART;TZID=Europe/Berlin:20241124T100000
DTEND;TZID=Europe/Berlin:20241124T110000
SUMMARY:Regionsliga ME Mitte Eintracht Munster 2020 e.V. gem. vs MTV Schwarmstedt gem. (13)
UID:3ee8274d-158d-43e8-aa78-bb118825e1e1
STATUS:CONFIRMED
LAST-MODIFIED:20241127T135103Z
DESCRIPTION:Regionsliga männliche Jugend E Mitte\nBegegnungs-Nr: 13\nHeim: Eintracht Munster 2020 e.V. gem.\nGast: MTV Schwarmstedt gem.\nHalle: Munster\, SH Hindenburgallee (607106)\nAdresse: Hindenburgallee\, 29633 Munster\n
LOCATION:Munster\, SH Hindenburgallee (607106): Hindenburgallee\, 29633 Munster
CATEGORIES:Saison 2024/25
END:VEVENT
BEGIN:VEVENT
DTSTAMP:20260419T120825Z
DTSTART;TZID=Europe/Berlin:20250216T100000
DTEND;TZID=Europe/Berlin:20250216T110000
SUMMARY:Regionsliga ME Mitte Eintracht Munster 2020 e.V. gem. vs MTV Eyendorf gem. II (39)
UID:1e79a1fc-8088-4c01-ac73-154fe5aee9e4
STATUS:CONFIRMED
LAST-MODIFIED:20250218T182741Z
DESCRIPTION:Regionsliga männliche Jugend E Mitte\nBegegnungs-Nr: 39\nHeim: Eintracht Munster 2020 e.V. gem.\nGast: MTV Eyendorf gem. II\nHalle: Munster\, SH Hindenburgallee (607106)\nAdresse: Hindenburgallee\, 29633 Munster\n
LOCATION:Munster\, SH Hindenburgallee (607106): Hindenburgallee\, 29633 Munster
CATEGORIES:Saison 2024/25
END:VEVENT
BEGIN:VEVENT
DTSTAMP:20260419T120825Z
DTSTART;TZID=Europe/Berlin:20240908T103500
DTEND;TZID=Europe/Berlin:20240908T113500
SUMMARY:Vorrunde ME Staffel 5 Eintracht Munster 2020 e.V. gem. vs TSV Wietzendorf gem. II (2)
UID:17de5a0c-1820-4c0c-9d0b-5b9d5e405076
STATUS:CONFIRMED
LAST-MODIFIED:20240911T200503Z
DESCRIPTION:Vorrunde männliche Jugend E Staffel 5\nBegegnungs-Nr: 2\nHeim: Eintracht Munster 2020 e.V. gem.\nGast: TSV Wietzendorf gem. II\nHalle: Bergen\, Am Heisterkamp (601106)\nAdresse: Karlsruher Str. 1\, 29303 Bergen\n
LOCATION:Bergen\, Am Heisterkamp (601106): Karlsruher Str. 1\, 29303 Bergen
CATEGORIES:Saison 2024/25
END:VEVENT
BEGIN:VEVENT
DTSTAMP:20260419T120825Z
DTSTART;TZID=Europe/Berlin:20240929T125000
DTEND;TZID=Europe/Berlin:20240929T135000
SUMMARY:Vorrunde ME Staffel 5 Eintracht Munster 2020 e.V. gem. vs MTV Fichte Winsen (15)
UID:6b3d9fcb-78a6-4454-9b85-300d48e64940
STATUS:CONFIRMED
LAST-MODIFIED:20241001T182541Z
DESCRIPTION:Vorrunde männliche Jugend E Staffel 5\nBegegnungs-Nr: 15\nHeim: Eintracht Munster 2020 e.V. gem.\nGast: MTV Fichte Winsen\nHalle: Munster\, SH Hindenburgallee (607106)\nAdresse: Hindenburgallee\, 29633 Munster\n
LOCATION:Munster\, SH Hindenburgallee (607106): Hindenburgallee\, 29633 Munster
CATEGORIES:Saison 2024/25
END:VEVENT
BEGIN:VEVENT
DTSTAMP:20260419T120825Z
DTSTART;TZID=Europe/Berlin:20250322T130000
DTEND;TZID=Europe/Berlin:20250322T140000
SUMMARY:Regionsliga ME Mitte TSV Wietze vs Eintracht Munster 2020 e.V. gem. (51)
UID:7108458a-c41b-454f-ac18-4c8c974c0dd9
STATUS:CONFIRMED
LAST-MODIFIED:20250321T085507Z
DESCRIPTION:Regionsliga männliche Jugend E Mitte\nBegegnungs-Nr: 51\nHeim: TSV Wietze\nGast: Eintracht Munster 2020 e.V. gem.\nHalle: Wietze\, SZ (601192)\nAdresse: Am Hallenbad\, 29323 Wietze\n
LOCATION:Wietze\, SZ (601192): Am Hallenbad\, 29323 Wietze
CATEGORIES:Saison 2024/25
END:VEVENT
BEGIN:VEVENT
DTSTAMP:20260419T120825Z
DTSTART;TZID=Europe/Berlin:20241026T154500
DTEND;TZID=Europe/Berlin:20241026T164500
SUMMARY:Regionsliga ME Mitte TV Jahn Schneverdingen gem. vs Eintracht Munster 2020 e.V. gem. (4)
UID:a89cd4f6-3ce0-4e68-ad3e-c26a4167a30c
STATUS:CONFIRMED
LAST-MODIFIED:20241029T190540Z
DESCRIPTION:Regionsliga männliche Jugend E Mitte\nBegegnungs-Nr: 4\nHeim: TV Jahn Schneverdingen gem.\nGast: Eintracht Munster 2020 e.V. gem.\nHalle: Schneverdingen\, SH SZ (607109)\nAdresse: Am Timmerahde 32\, 29640 Schneverdingen\n
LOCATION:Schneverdingen\, SH SZ (607109): Am Timmerahde 32\, 29640 Schneverdingen
CATEGORIES:Saison 2024/25
END:VEVENT
BEGIN:VEVENT
DTSTAMP:20260419T120825Z
DTSTART;TZID=Europe/Berlin:20241130T123000
DTEND;TZID=Europe/Berlin:20241130T133000
SUMMARY:Regionsliga ME Mitte TSV Wietzendorf gem. II vs Eintracht Munster 2020 e.V. gem. (18)
UID:6ca0b08d-930b-4d69-86a7-5055b15a3f42
STATUS:CONFIRMED
LAST-MODIFIED:20241204T103451Z
DESCRIPTION:Regionsliga männliche Jugend E Mitte\nBegegnungs-Nr: 18\nHeim: TSV Wietzendorf gem. II\nGast: Eintracht Munster 2020 e.V. gem.\nHalle: Wietzendorf\, SH (607116)\nAdresse: Kampstraße\, 29649 Wietzendorf\n
LOCATION:Wietzendorf\, SH (607116): Kampstraße\, 29649 Wietzendorf
CATEGORIES:Saison 2024/25
END:VEVENT
BEGIN:VEVENT
DTSTAMP:20260419T120825Z
DTSTART;TZID=Europe/Berlin:20240908T121500
DTEND;TZID=Europe/Berlin:20240908T131500
SUMMARY:Vorrunde ME Staffel 5 TuS Bergen vs Eintracht Munster 2020 e.V. gem. (4)
UID:c7798750-a0a9-475e-a1be-a42b75e70c3a
STATUS:CONFIRMED
LAST-MODIFIED:20240911T200649Z
DESCRIPTION:Vorrunde männliche Jugend E Staffel 5\nBegegnungs-Nr: 4\nHeim: TuS Bergen\nGast: Eintracht Munster 2020 e.V. gem.\nHalle: Bergen\, Am Heisterkamp (601106)\nAdresse: Karlsruher Str. 1\, 29303 Bergen\n
LOCATION:Bergen\, Am Heisterkamp (601106): Karlsruher Str. 1\, 29303 Bergen
CATEGORIES:Saison 2024/25
END:VEVENT
BEGIN:VEVENT
DTSTAMP:20260419T120825Z
DTSTART;TZID=Europe/Berlin:20240929T120000
DTEND;TZID=Europe/Berlin:20240929T130000
SUMMARY:Vorrunde ME Staffel 5 SV Altencelle vs Eintracht Munster 2020 e.V. gem. (14)
UID:53a84c58-8e9a-46eb-a855-9ebfb0494074
STATUS:CONFIRMED
LAST-MODIFIED:20241001T190116Z
DESCRIPTION:Vorrunde männliche Jugend E Staffel 5\nBegegnungs-Nr: 14\nHeim: SV Altencelle\nGast: Eintracht Munster 2020 e.V. gem.\nHalle: Munster\, SH Hindenburgallee (607106)\nAdresse: Hindenburgallee\, 29633 Munster\n
LOCATION:Munster\, SH Hindenburgallee (607106): Hindenburgallee\, 29633 Munster
CATEGORIES:Saison 2024/25
END:VEVENT
BEGIN:VEVENT
DTSTAMP:20260419T120825Z
DTSTART;TZID=Europe/Berlin:20241109T160000
DTEND;TZID=Europe/Berlin:20241109T170000
SUMMARY:Regionsliga ME Mitte MTV Eyendorf gem. II vs Eintracht Munster 2020 e.V. gem. (11)
UID:2618fe43-ab2f-491a-9920-661e8d14206b
STATUS:CONFIRMED
LAST-MODIFIED:20241111T112543Z
DESCRIPTION:Regionsliga männliche Jugend E Mitte\nBegegnungs-Nr: 11\nHeim: MTV Eyendorf gem. II\nGast: Eintracht Munster 2020 e.V. gem.\nHalle: Eyendorf\, Gerhard-Langer-SH (603106)\nAdresse: Zum Borgfeld\, 21376 Eyendorf\n
LOCATION:Eyendorf\, Gerhard-Langer-SH (603106): Zum Borgfeld\, 21376 Eyendorf
CATEGORIES:Saison 2024/25
END:VEVENT
BEGIN:VEVENT
DTSTAMP:20260419T120825Z
DTSTART;TZID=Europe/Berlin:20250119T100000
DTEND;TZID=Europe/Berlin:20250119T110000
SUMMARY:Regionsliga ME Mitte MTV Soltau gem. vs Eintracht Munster 2020 e.V. gem. (28)
UID:d53af3c7-d504-4ffd-8a8d-ef1cccb8c8f8
STATUS:CONFIRMED
LAST-MODIFIED:20250122T215108Z
DESCRIPTION:Regionsliga männliche Jugend E Mitte\nBegegnungs-Nr: 28\nHeim: MTV Soltau gem.\nGast: Eintracht Munster 2020 e.V. gem.\nHalle: Soltau\, SH RS (607113)\nAdresse: Stubbendorffweg 2\, 29614 Soltau\n
LOCATION:Soltau\, SH RS (607113): Stubbendorffweg 2\, 29614 Soltau
CATEGORIES:Saison 2024/25
END:VEVENT
BEGIN:VEVENT
DTSTAMP:20260419T120825Z
DTSTART;TZID=Europe/Berlin:20250302T111500
DTEND;TZID=Europe/Berlin:20250302T121500
SUMMARY:Regionsliga ME Mitte MTV Schwarmstedt gem. vs Eintracht Munster 2020 e.V. gem. (41)
UID:e1977402-aeba-4287-af87-a1038c7da913
STATUS:CONFIRMED
LAST-MODIFIED:20250303T115345Z
DESCRIPTION:Regionsliga männliche Jugend E Mitte\nBegegnungs-Nr: 41\nHeim: MTV Schwarmstedt gem.\nGast: Eintracht Munster 2020 e.V. gem.\nHalle: Schwarmstedt\, Wilhelm-Röpke-Schule (607111)\nAdresse: Am Schloonberg 9\, 29690 Schwarmstedt\n
LOCATION:Schwarmstedt\, Wilhelm-Röpke-Schule (607111): Am Schloonberg 9\, 29690 Schwarmstedt
CATEGORIES:Saison 2024/25
END:VEVENT
BEGIN:VEVENT
DTSTAMP:20260419T120825Z
DTSTART;TZID=Europe/Berlin:20240929T100000
DTEND;TZID=Europe/Berlin:20240929T110000
SUMMARY:Vorrunde ME Staffel 5 MTV Soltau gem. vs Eintracht Munster 2020 e.V. gem. (11)
UID:bee27cd0-e6ef-4f8e-86fe-1ebcee2ba338
STATUS:CONFIRMED
LAST-MODIFIED:20241001T190353Z
DESCRIPTION:Vorrunde männliche Jugend E Staffel 5\nBegegnungs-Nr: 11\nHeim: MTV Soltau gem.\nGast: Eintracht Munster 2020 e.V. gem.\nHalle: Munster\, SH Hindenburgallee (607106)\nAdresse: Hindenburgallee\, 29633 Munster\n
LOCATION:Munster\, SH Hindenburgallee (607106): Hindenburgallee\, 29633 Munster
CATEGORIES:Saison 2024/25
END:VEVENT
END:VCALENDAR
