BEGIN:VCALENDAR
PRODID:-//nuDatenautomaten//framework iCal4j //DE
VERSION:2.0
CALSCALE:GREGORIAN
BEGIN:VTIMEZONE
TZID:Europe/Berlin
LAST-MODIFIED:20260306T231828Z
TZURL:https://www.tzurl.org/zoneinfo/Europe/Berlin
X-LIC-LOCATION:Europe/Berlin
X-PROLEPTIC-TZNAME:LMT
BEGIN:STANDARD
TZNAME:CET
TZOFFSETFROM:+005328
TZOFFSETTO:+0100
DTSTART:18930401T000000
END:STANDARD
BEGIN:DAYLIGHT
TZNAME:CEST
TZOFFSETFROM:+0100
TZOFFSETTO:+0200
DTSTART:19160430T230000
RDATE:19400401T020000
RDATE:19430329T020000
RDATE:19460414T020000
RDATE:19470406T030000
RDATE:19480418T020000
RDATE:19490410T020000
RDATE:19800406T020000
END:DAYLIGHT
BEGIN:STANDARD
TZNAME:CET
TZOFFSETFROM:+0200
TZOFFSETTO:+0100
DTSTART:19161001T010000
RDATE:19421102T030000
RDATE:19431004T030000
RDATE:19441002T030000
RDATE:19451118T030000
RDATE:19461007T030000
END:STANDARD
BEGIN:DAYLIGHT
TZNAME:CEST
TZOFFSETFROM:+0100
TZOFFSETTO:+0200
DTSTART:19170416T020000
RRULE:FREQ=YEARLY;UNTIL=19180415T010000Z;BYMONTH=4;BYDAY=3MO
END:DAYLIGHT
BEGIN:STANDARD
TZNAME:CET
TZOFFSETFROM:+0200
TZOFFSETTO:+0100
DTSTART:19170917T030000
RRULE:FREQ=YEARLY;UNTIL=19180916T010000Z;BYMONTH=9;BYDAY=3MO
END:STANDARD
BEGIN:DAYLIGHT
TZNAME:CEST
TZOFFSETFROM:+0100
TZOFFSETTO:+0200
DTSTART:19440403T020000
RRULE:FREQ=YEARLY;UNTIL=19450402T010000Z;BYMONTH=4;BYDAY=1MO
END:DAYLIGHT
BEGIN:DAYLIGHT
TZNAME:CEMT
TZOFFSETFROM:+0200
TZOFFSETTO:+0300
DTSTART:19450524T020000
RDATE:19470511T030000
END:DAYLIGHT
BEGIN:DAYLIGHT
TZNAME:CEST
TZOFFSETFROM:+0300
TZOFFSETTO:+0200
DTSTART:19450924T030000
RDATE:19470629T030000
END:DAYLIGHT
BEGIN:STANDARD
TZNAME:CET
TZOFFSETFROM:+0100
TZOFFSETTO:+0100
DTSTART:19460101T000000
RDATE:19800101T000000
END:STANDARD
BEGIN:STANDARD
TZNAME:CET
TZOFFSETFROM:+0200
TZOFFSETTO:+0100
DTSTART:19471005T030000
RRULE:FREQ=YEARLY;UNTIL=19491002T010000Z;BYMONTH=10;BYDAY=1SU
END:STANDARD
BEGIN:STANDARD
TZNAME:CET
TZOFFSETFROM:+0200
TZOFFSETTO:+0100
DTSTART:19800928T030000
RRULE:FREQ=YEARLY;UNTIL=19950924T010000Z;BYMONTH=9;BYDAY=-1SU
END:STANDARD
BEGIN:DAYLIGHT
TZNAME:CEST
TZOFFSETFROM:+0100
TZOFFSETTO:+0200
DTSTART:19810329T020000
RRULE:FREQ=YEARLY;BYMONTH=3;BYDAY=-1SU
END:DAYLIGHT
BEGIN:STANDARD
TZNAME:CET
TZOFFSETFROM:+0200
TZOFFSETTO:+0100
DTSTART:19961027T030000
RRULE:FREQ=YEARLY;BYMONTH=10;BYDAY=-1SU
END:STANDARD
END:VTIMEZONE
BEGIN:VEVENT
DTSTAMP:20260421T090004Z
DTSTART;TZID=Europe/Berlin:20241207T181500
DTEND;TZID=Europe/Berlin:20241207T191500
SUMMARY:Regionalliga MJC TSV Anderten vs VfL Horneburg (39)
UID:851dfc4f-0a4b-41cf-a6e4-2e1a44209992
STATUS:CONFIRMED
LAST-MODIFIED:20241207T195304Z
DESCRIPTION:Regionalliga männliche Jugend C\nBegegnungs-Nr: 39\nHeim: TSV Anderten\nGast: VfL Horneburg\nHalle: Hannover\, SZ Anderten (403256)\nAdresse: Eisteichweg 6-8\, 30559 Hannover (OT Anderten)\n
LOCATION:Hannover\, SZ Anderten (403256): Eisteichweg 6-8\, 30559 Hannover (OT Anderten)
CATEGORIES:Saison 2024/25
END:VEVENT
BEGIN:VEVENT
DTSTAMP:20260421T090004Z
DTSTART;TZID=Europe/Berlin:20241215T131500
DTEND;TZID=Europe/Berlin:20241215T141500
SUMMARY:Regionalliga MJC TSV Anderten vs TvdH Oldenburg (44)
UID:647a5464-86d2-44ef-ba52-608dd053656e
STATUS:CONFIRMED
LAST-MODIFIED:20241216T134027Z
DESCRIPTION:Regionalliga männliche Jugend C\nBegegnungs-Nr: 44\nHeim: TSV Anderten\nGast: TvdH Oldenburg\nHalle: Hannover\, SZ Anderten (403256)\nAdresse: Eisteichweg 6-8\, 30559 Hannover (OT Anderten)\n
LOCATION:Hannover\, SZ Anderten (403256): Eisteichweg 6-8\, 30559 Hannover (OT Anderten)
CATEGORIES:Saison 2024/25
END:VEVENT
BEGIN:VEVENT
DTSTAMP:20260421T090004Z
DTSTART;TZID=Europe/Berlin:20241102T150000
DTEND;TZID=Europe/Berlin:20241102T160000
SUMMARY:Regionalliga MJC TSV Anderten vs TV Bissendorf-Holte (16)
UID:d4879b38-e5de-4a39-88d9-b0a6ce4bb513
STATUS:CONFIRMED
LAST-MODIFIED:20241102T204148Z
DESCRIPTION:Regionalliga männliche Jugend C\nBegegnungs-Nr: 16\nHeim: TSV Anderten\nGast: TV Bissendorf-Holte\nHalle: Hannover\, SZ Anderten (403256)\nAdresse: Eisteichweg 6-8\, 30559 Hannover (OT Anderten)\n
LOCATION:Hannover\, SZ Anderten (403256): Eisteichweg 6-8\, 30559 Hannover (OT Anderten)
CATEGORIES:Saison 2024/25
END:VEVENT
BEGIN:VEVENT
DTSTAMP:20260421T090004Z
DTSTART;TZID=Europe/Berlin:20250112T124500
DTEND;TZID=Europe/Berlin:20250112T134500
SUMMARY:Regionalliga MJC TSV Anderten vs JSG Fredenbeck/Stade (47)
UID:3c70c001-2e8a-461d-8b34-ed53f81bef45
STATUS:CONFIRMED
LAST-MODIFIED:20250112T210243Z
DESCRIPTION:Regionalliga männliche Jugend C\nBegegnungs-Nr: 47\nHeim: TSV Anderten\nGast: JSG Fredenbeck/Stade\nHalle: Hannover\, SZ Anderten (403256)\nAdresse: Eisteichweg 6-8\, 30559 Hannover (OT Anderten)\n
LOCATION:Hannover\, SZ Anderten (403256): Eisteichweg 6-8\, 30559 Hannover (OT Anderten)
CATEGORIES:Saison 2024/25
END:VEVENT
BEGIN:VEVENT
DTSTAMP:20260421T090004Z
DTSTART;TZID=Europe/Berlin:20250323T130000
DTEND;TZID=Europe/Berlin:20250323T140000
SUMMARY:Regionalliga MJC TSV Anderten vs ATSV Habenhausen (84)
UID:1f8a31e8-8bd8-4219-bff3-f88f039affcb
STATUS:CONFIRMED
LAST-MODIFIED:20250323T173508Z
DESCRIPTION:Regionalliga männliche Jugend C\nBegegnungs-Nr: 84\nHeim: TSV Anderten\nGast: ATSV Habenhausen\nHalle: Hannover\, SZ Anderten (403256)\nAdresse: Eisteichweg 6-8\, 30559 Hannover (OT Anderten)\n
LOCATION:Hannover\, SZ Anderten (403256): Eisteichweg 6-8\, 30559 Hannover (OT Anderten)
CATEGORIES:Saison 2024/25
END:VEVENT
BEGIN:VEVENT
DTSTAMP:20260421T090004Z
DTSTART;TZID=Europe/Berlin:20240922T160000
DTEND;TZID=Europe/Berlin:20240922T170000
SUMMARY:Regionalliga MJC TSV Anderten vs TSV Burgdorf (10)
UID:d70f947b-a83a-4dff-8006-d825b725dba2
STATUS:CONFIRMED
LAST-MODIFIED:20240923T081810Z
DESCRIPTION:Regionalliga männliche Jugend C\nBegegnungs-Nr: 10\nHeim: TSV Anderten\nGast: TSV Burgdorf\nHalle: Hannover\, SZ Anderten (403256)\nAdresse: Eisteichweg 6-8\, 30559 Hannover (OT Anderten)\n
LOCATION:Hannover\, SZ Anderten (403256): Eisteichweg 6-8\, 30559 Hannover (OT Anderten)
CATEGORIES:Saison 2024/25
END:VEVENT
BEGIN:VEVENT
DTSTAMP:20260421T090004Z
DTSTART;TZID=Europe/Berlin:20241117T143000
DTEND;TZID=Europe/Berlin:20241117T153000
SUMMARY:Regionalliga MJC TSV Anderten vs SV Stöckheim (32)
UID:65320c04-0568-4659-9045-c97f0a0ed2f5
STATUS:CONFIRMED
LAST-MODIFIED:20241117T211249Z
DESCRIPTION:Regionalliga männliche Jugend C\nBegegnungs-Nr: 32\nHeim: TSV Anderten\nGast: SV Stöckheim\nHalle: Hannover\, SZ Anderten (403256)\nAdresse: Eisteichweg 6-8\, 30559 Hannover (OT Anderten)\n
LOCATION:Hannover\, SZ Anderten (403256): Eisteichweg 6-8\, 30559 Hannover (OT Anderten)
CATEGORIES:Saison 2024/25
END:VEVENT
BEGIN:VEVENT
DTSTAMP:20260421T090004Z
DTSTART;TZID=Europe/Berlin:20250126T130000
DTEND;TZID=Europe/Berlin:20250126T140000
SUMMARY:Regionalliga MJC TSV Anderten vs HSG Schaumburg-Nord (60)
UID:66e991c9-672b-4f83-a7b2-e3d61da65b06
STATUS:CONFIRMED
LAST-MODIFIED:20250127T111048Z
DESCRIPTION:Regionalliga männliche Jugend C\nBegegnungs-Nr: 60\nHeim: TSV Anderten\nGast: HSG Schaumburg-Nord\nHalle: Hannover\, SZ Anderten (403256)\nAdresse: Eisteichweg 6-8\, 30559 Hannover (OT Anderten)\n
LOCATION:Hannover\, SZ Anderten (403256): Eisteichweg 6-8\, 30559 Hannover (OT Anderten)
CATEGORIES:Saison 2024/25
END:VEVENT
BEGIN:VEVENT
DTSTAMP:20260421T090004Z
DTSTART;TZID=Europe/Berlin:20250223T140000
DTEND;TZID=Europe/Berlin:20250223T150000
SUMMARY:Regionalliga MJC TSV Anderten vs HC Bremen (69)
UID:ff7580a9-020a-46a7-9605-00dea115ddc3
STATUS:CONFIRMED
LAST-MODIFIED:20250224T102144Z
DESCRIPTION:Regionalliga männliche Jugend C\nBegegnungs-Nr: 69\nHeim: TSV Anderten\nGast: HC Bremen\nHalle: Hannover\, SZ Anderten (403256)\nAdresse: Eisteichweg 6-8\, 30559 Hannover (OT Anderten)\n
LOCATION:Hannover\, SZ Anderten (403256): Eisteichweg 6-8\, 30559 Hannover (OT Anderten)
CATEGORIES:Saison 2024/25
END:VEVENT
BEGIN:VEVENT
DTSTAMP:20260421T090004Z
DTSTART;TZID=Europe/Berlin:20240915T150000
DTEND;TZID=Europe/Berlin:20240915T160000
SUMMARY:Regionalliga MJC JSG Fredenbeck/Stade vs TSV Anderten (4)
UID:1cc18f6a-c182-4e85-a322-6ff40e0b47a4
STATUS:CONFIRMED
LAST-MODIFIED:20240916T101535Z
DESCRIPTION:Regionalliga männliche Jugend C\nBegegnungs-Nr: 4\nHeim: JSG Fredenbeck/Stade\nGast: TSV Anderten\nHalle: Fredenbeck\, Geestland-Halle (608108)\nAdresse: Am Mühlenbeck 2\, 21717 Fredenbeck\n
LOCATION:Fredenbeck\, Geestland-Halle (608108): Am Mühlenbeck 2\, 21717 Fredenbeck
CATEGORIES:Saison 2024/25
END:VEVENT
BEGIN:VEVENT
DTSTAMP:20260421T090004Z
DTSTART;TZID=Europe/Berlin:20250308T130000
DTEND;TZID=Europe/Berlin:20250308T140000
SUMMARY:Regionalliga MJC TV Bissendorf-Holte vs TSV Anderten (64)
UID:22ab6618-8d9b-4ca1-8202-606b77e75bc9
STATUS:CONFIRMED
LAST-MODIFIED:20250308T195832Z
DESCRIPTION:Regionalliga männliche Jugend C\nBegegnungs-Nr: 64\nHeim: TV Bissendorf-Holte\nGast: TSV Anderten\nHalle: Bissendorf\, SH (808121)\nAdresse: Werscher Straße 24\, 49143 Bissendorf\n
LOCATION:Bissendorf\, SH (808121): Werscher Straße 24\, 49143 Bissendorf
CATEGORIES:Saison 2024/25
END:VEVENT
BEGIN:VEVENT
DTSTAMP:20260421T090004Z
DTSTART;TZID=Europe/Berlin:20240929T150000
DTEND;TZID=Europe/Berlin:20240929T160000
SUMMARY:Regionalliga MJC HSG Schaumburg-Nord vs TSV Anderten (14)
UID:5b67b1c4-0214-40b2-8248-93ded0b3b0f0
STATUS:CONFIRMED
LAST-MODIFIED:20240929T155909Z
DESCRIPTION:Regionalliga männliche Jugend C\nBegegnungs-Nr: 14\nHeim: HSG Schaumburg-Nord\nGast: TSV Anderten\nHalle: Bad Nenndorf\, SH Waltringhausen  (406131)\nAdresse: Sportplatzweg\, 31542 Bad Nenndorf\n
LOCATION:Bad Nenndorf\, SH Waltringhausen  (406131): Sportplatzweg\, 31542 Bad Nenndorf
CATEGORIES:Saison 2024/25
END:VEVENT
BEGIN:VEVENT
DTSTAMP:20260421T090004Z
DTSTART;TZID=Europe/Berlin:20241027T140000
DTEND;TZID=Europe/Berlin:20241027T150000
SUMMARY:Regionalliga MJC HC Bremen vs TSV Anderten (21)
UID:e30fd5c2-0bce-4823-be77-a6c202add255
STATUS:CONFIRMED
LAST-MODIFIED:20241027T195759Z
DESCRIPTION:Regionalliga männliche Jugend C\nBegegnungs-Nr: 21\nHeim: HC Bremen\nGast: TSV Anderten\nHalle: Sportbetonte Oberschule an der Ronzelenstr. Halle 1 (101199)\nAdresse: Ronzelenstr. 51\, 28359 Bremen\n
LOCATION:Sportbetonte Oberschule an der Ronzelenstr. Halle 1 (101199): Ronzelenstr. 51\, 28359 Bremen
CATEGORIES:Saison 2024/25
END:VEVENT
BEGIN:VEVENT
DTSTAMP:20260421T090004Z
DTSTART;TZID=Europe/Berlin:20241201T150000
DTEND;TZID=Europe/Berlin:20241201T160000
SUMMARY:Regionalliga MJC ATSV Habenhausen vs TSV Anderten (37)
UID:c41ff3e8-01eb-4b90-8e41-d1313e6a487f
STATUS:CONFIRMED
LAST-MODIFIED:20241201T223610Z
DESCRIPTION:Regionalliga männliche Jugend C\nBegegnungs-Nr: 37\nHeim: ATSV Habenhausen\nGast: TSV Anderten\nHalle: Bremen-Habenhausen\, Hinni-Schwenker-Halle (101105)\nAdresse: Bunnsackerweg 2\, 28279 Bremen\n
LOCATION:Bremen-Habenhausen\, Hinni-Schwenker-Halle (101105): Bunnsackerweg 2\, 28279 Bremen
CATEGORIES:Saison 2024/25
END:VEVENT
BEGIN:VEVENT
DTSTAMP:20260421T090004Z
DTSTART;TZID=Europe/Berlin:20250330T130000
DTEND;TZID=Europe/Berlin:20250330T140000
SUMMARY:Regionalliga MJC TvdH Oldenburg vs TSV Anderten (88)
UID:fc95e152-472f-483a-96fa-d8f82e7f71a4
STATUS:CONFIRMED
LAST-MODIFIED:20250330T154524Z
DESCRIPTION:Regionalliga männliche Jugend C\nBegegnungs-Nr: 88\nHeim: TvdH Oldenburg\nGast: TSV Anderten\nHalle: Oldenburg\, SZ-Eversten (813004)\nAdresse: Brandsweg\, 26131 Oldenburg (OT Eversten)\n
LOCATION:Oldenburg\, SZ-Eversten (813004): Brandsweg\, 26131 Oldenburg (OT Eversten)
CATEGORIES:Saison 2024/25
END:VEVENT
BEGIN:VEVENT
DTSTAMP:20260421T090004Z
DTSTART;TZID=Europe/Berlin:20250118T161000
DTEND;TZID=Europe/Berlin:20250118T171000
SUMMARY:Regionalliga MJC TSV Burgdorf vs TSV Anderten (53)
UID:c2284fda-c9e9-4717-b7e2-5d2f9fc1d020
STATUS:CONFIRMED
LAST-MODIFIED:20250118T170337Z
DESCRIPTION:Regionalliga männliche Jugend C\nBegegnungs-Nr: 53\nHeim: TSV Burgdorf\nGast: TSV Anderten\nHalle: Burgdorf\, Rudolf-Bembenneck-Gesamtschule (403208)\nAdresse: Vor dem Celler Tor 50\, 31303 Burgdorf\n
LOCATION:Burgdorf\, Rudolf-Bembenneck-Gesamtschule (403208): Vor dem Celler Tor 50\, 31303 Burgdorf
CATEGORIES:Saison 2024/25
END:VEVENT
BEGIN:VEVENT
DTSTAMP:20260421T090004Z
DTSTART;TZID=Europe/Berlin:20250302T150000
DTEND;TZID=Europe/Berlin:20250302T160000
SUMMARY:Regionalliga MJC VfL Horneburg vs TSV Anderten (75)
UID:02a92e9e-2bde-4655-8b22-3c8d4319e28c
STATUS:CONFIRMED
LAST-MODIFIED:20250303T095706Z
DESCRIPTION:Regionalliga männliche Jugend C\nBegegnungs-Nr: 75\nHeim: VfL Horneburg\nGast: TSV Anderten\nHalle: Horneburg\, SH 1 (608115)\nAdresse: Hermannstraße 27 (Zufahrt wegen Bauarbeiten nur über Stader Straße und Lerchenweg möglich)\, 21640 Horneburg\n
LOCATION:Horneburg\, SH 1 (608115): Hermannstraße 27 (Zufahrt wegen Bauarbeiten nur über Stader Straße und Lerchenweg möglich)\, 21640 Horneburg
CATEGORIES:Saison 2024/25
END:VEVENT
BEGIN:VEVENT
DTSTAMP:20260421T090004Z
DTSTART;TZID=Europe/Berlin:20250315T160000
DTEND;TZID=Europe/Berlin:20250315T170000
SUMMARY:Regionalliga MJC SV Stöckheim vs TSV Anderten (77)
UID:b4f66f3f-796f-4139-bbcc-92cd2618b816
STATUS:CONFIRMED
LAST-MODIFIED:20250315T193117Z
DESCRIPTION:Regionalliga männliche Jugend C\nBegegnungs-Nr: 77\nHeim: SV Stöckheim\nGast: TSV Anderten\nHalle: Braunschweig\, SH Ottenroder Str. (201128)\nAdresse: Beethovenstraße 40\, 38106 Braunschweig\n
LOCATION:Braunschweig\, SH Ottenroder Str. (201128): Beethovenstraße 40\, 38106 Braunschweig
CATEGORIES:Saison 2024/25
END:VEVENT
END:VCALENDAR
