BEGIN:VCALENDAR
PRODID:-//nuDatenautomaten//framework iCal4j //DE
VERSION:2.0
CALSCALE:GREGORIAN
BEGIN:VTIMEZONE
TZID:Europe/Berlin
LAST-MODIFIED:20260306T231828Z
TZURL:https://www.tzurl.org/zoneinfo/Europe/Berlin
X-LIC-LOCATION:Europe/Berlin
X-PROLEPTIC-TZNAME:LMT
BEGIN:STANDARD
TZNAME:CET
TZOFFSETFROM:+005328
TZOFFSETTO:+0100
DTSTART:18930401T000000
END:STANDARD
BEGIN:DAYLIGHT
TZNAME:CEST
TZOFFSETFROM:+0100
TZOFFSETTO:+0200
DTSTART:19160430T230000
RDATE:19400401T020000
RDATE:19430329T020000
RDATE:19460414T020000
RDATE:19470406T030000
RDATE:19480418T020000
RDATE:19490410T020000
RDATE:19800406T020000
END:DAYLIGHT
BEGIN:STANDARD
TZNAME:CET
TZOFFSETFROM:+0200
TZOFFSETTO:+0100
DTSTART:19161001T010000
RDATE:19421102T030000
RDATE:19431004T030000
RDATE:19441002T030000
RDATE:19451118T030000
RDATE:19461007T030000
END:STANDARD
BEGIN:DAYLIGHT
TZNAME:CEST
TZOFFSETFROM:+0100
TZOFFSETTO:+0200
DTSTART:19170416T020000
RRULE:FREQ=YEARLY;UNTIL=19180415T010000Z;BYMONTH=4;BYDAY=3MO
END:DAYLIGHT
BEGIN:STANDARD
TZNAME:CET
TZOFFSETFROM:+0200
TZOFFSETTO:+0100
DTSTART:19170917T030000
RRULE:FREQ=YEARLY;UNTIL=19180916T010000Z;BYMONTH=9;BYDAY=3MO
END:STANDARD
BEGIN:DAYLIGHT
TZNAME:CEST
TZOFFSETFROM:+0100
TZOFFSETTO:+0200
DTSTART:19440403T020000
RRULE:FREQ=YEARLY;UNTIL=19450402T010000Z;BYMONTH=4;BYDAY=1MO
END:DAYLIGHT
BEGIN:DAYLIGHT
TZNAME:CEMT
TZOFFSETFROM:+0200
TZOFFSETTO:+0300
DTSTART:19450524T020000
RDATE:19470511T030000
END:DAYLIGHT
BEGIN:DAYLIGHT
TZNAME:CEST
TZOFFSETFROM:+0300
TZOFFSETTO:+0200
DTSTART:19450924T030000
RDATE:19470629T030000
END:DAYLIGHT
BEGIN:STANDARD
TZNAME:CET
TZOFFSETFROM:+0100
TZOFFSETTO:+0100
DTSTART:19460101T000000
RDATE:19800101T000000
END:STANDARD
BEGIN:STANDARD
TZNAME:CET
TZOFFSETFROM:+0200
TZOFFSETTO:+0100
DTSTART:19471005T030000
RRULE:FREQ=YEARLY;UNTIL=19491002T010000Z;BYMONTH=10;BYDAY=1SU
END:STANDARD
BEGIN:STANDARD
TZNAME:CET
TZOFFSETFROM:+0200
TZOFFSETTO:+0100
DTSTART:19800928T030000
RRULE:FREQ=YEARLY;UNTIL=19950924T010000Z;BYMONTH=9;BYDAY=-1SU
END:STANDARD
BEGIN:DAYLIGHT
TZNAME:CEST
TZOFFSETFROM:+0100
TZOFFSETTO:+0200
DTSTART:19810329T020000
RRULE:FREQ=YEARLY;BYMONTH=3;BYDAY=-1SU
END:DAYLIGHT
BEGIN:STANDARD
TZNAME:CET
TZOFFSETFROM:+0200
TZOFFSETTO:+0100
DTSTART:19961027T030000
RRULE:FREQ=YEARLY;BYMONTH=10;BYDAY=-1SU
END:STANDARD
END:VTIMEZONE
BEGIN:VEVENT
DTSTAMP:20260421T085951Z
DTSTART;TZID=Europe/Berlin:20240831T130000
DTEND;TZID=Europe/Berlin:20240831T140000
SUMMARY:Regionsliga WJD VR 6 HSG Nordhorn e.V. II vs SC Union Emlichheim (962804)
UID:66ba5469-1e31-4539-b9c2-7c1e3a2ebc2f
STATUS:CONFIRMED
LAST-MODIFIED:20240902T103433Z
DESCRIPTION:Regionsliga  weibl. D VR 6\nBegegnungs-Nr: 962804\nHeim: HSG Nordhorn e.V. II\nGast: SC Union Emlichheim\nHalle: Emlichheim\, Herbert Taube Halle  (803109)\nAdresse: Lägen Diek\, 49824 Emlichheim\n
LOCATION:Emlichheim\, Herbert Taube Halle  (803109): Lägen Diek\, 49824 Emlichheim
CATEGORIES:Saison 2024/25
END:VEVENT
BEGIN:VEVENT
DTSTAMP:20260421T085951Z
DTSTART;TZID=Europe/Berlin:20240907T130000
DTEND;TZID=Europe/Berlin:20240907T140000
SUMMARY:Regionsliga WJD VR 6 HSG Nordhorn e.V. II vs FC Schüttorf 09 III (962819)
UID:8f3fdda9-1627-4804-ba2d-1d556b4f6a14
STATUS:CONFIRMED
LAST-MODIFIED:20240908T111234Z
DESCRIPTION:Regionsliga  weibl. D VR 6\nBegegnungs-Nr: 962819\nHeim: HSG Nordhorn e.V. II\nGast: FC Schüttorf 09 III\nHalle: Schüttorf\, SH Jahn (803150)\nAdresse: Jahnstraße\, 48465 Schüttorf\n
LOCATION:Schüttorf\, SH Jahn (803150): Jahnstraße\, 48465 Schüttorf
CATEGORIES:Saison 2024/25
END:VEVENT
BEGIN:VEVENT
DTSTAMP:20260421T085951Z
DTSTART;TZID=Europe/Berlin:20250119T143000
DTEND;TZID=Europe/Berlin:20250119T153000
SUMMARY:Regionsklasse WJD West 1 HSG Nordhorn e.V. II vs TV Meppen III (961224)
UID:d53431cc-25fc-45d6-a196-78ee54777d0b
STATUS:CONFIRMED
LAST-MODIFIED:20250122T193022Z
DESCRIPTION:Regionsklasse weibl. D West 1\nBegegnungs-Nr: 961224\nHeim: HSG Nordhorn e.V. II\nGast: TV Meppen III\nHalle: Nordhorn\, KSH II Euregium  (803139)\nAdresse: Wilhelm-Raabe-Straße 15\, 48527 Nordhorn (OT Mitte)\n
LOCATION:Nordhorn\, KSH II Euregium  (803139): Wilhelm-Raabe-Straße 15\, 48527 Nordhorn (OT Mitte)
CATEGORIES:Saison 2024/25
END:VEVENT
BEGIN:VEVENT
DTSTAMP:20260421T085951Z
DTSTART;TZID=Europe/Berlin:20240831T140000
DTEND;TZID=Europe/Berlin:20240831T150000
SUMMARY:Regionsliga WJD VR 6 HSG Nordhorn e.V. II vs TuS Haren II (962805)
UID:9cace01a-4ba1-475b-9b81-fb2c569cd106
STATUS:CONFIRMED
LAST-MODIFIED:20240902T103507Z
DESCRIPTION:Regionsliga  weibl. D VR 6\nBegegnungs-Nr: 962805\nHeim: HSG Nordhorn e.V. II\nGast: TuS Haren II\nHalle: Emlichheim\, Herbert Taube Halle  (803109)\nAdresse: Lägen Diek\, 49824 Emlichheim\n
LOCATION:Emlichheim\, Herbert Taube Halle  (803109): Lägen Diek\, 49824 Emlichheim
CATEGORIES:Saison 2024/25
END:VEVENT
BEGIN:VEVENT
DTSTAMP:20260421T085951Z
DTSTART;TZID=Europe/Berlin:20240921T120000
DTEND;TZID=Europe/Berlin:20240921T130000
SUMMARY:Regionsliga WJD VR 6 HSG Nordhorn e.V. II vs HSG Haselünne/Herzlake III (962825)
UID:3e8fded5-2082-4320-ba68-21fed30b02ca
STATUS:CONFIRMED
LAST-MODIFIED:20240922T090718Z
DESCRIPTION:Regionsliga  weibl. D VR 6\nBegegnungs-Nr: 962825\nHeim: HSG Nordhorn e.V. II\nGast: HSG Haselünne/Herzlake III\nHalle:  Meppen\, Kardinal-von-Galen-Halle (803135)\nAdresse: Dammstr.\, 49716 Meppen\n
LOCATION: Meppen\, Kardinal-von-Galen-Halle (803135): Dammstr.\, 49716 Meppen
CATEGORIES:Saison 2024/25
END:VEVENT
BEGIN:VEVENT
DTSTAMP:20260421T085951Z
DTSTART;TZID=Europe/Berlin:20240921T100000
DTEND;TZID=Europe/Berlin:20240921T110000
SUMMARY:Regionsliga WJD VR 6 HSG Nordhorn e.V. II vs TV Meppen III (962821)
UID:bdbb9713-a4e1-46de-b9b4-149c60a332fe
STATUS:CONFIRMED
LAST-MODIFIED:20240922T090402Z
DESCRIPTION:Regionsliga  weibl. D VR 6\nBegegnungs-Nr: 962821\nHeim: HSG Nordhorn e.V. II\nGast: TV Meppen III\nHalle:  Meppen\, Kardinal-von-Galen-Halle (803135)\nAdresse: Dammstr.\, 49716 Meppen\n
LOCATION: Meppen\, Kardinal-von-Galen-Halle (803135): Dammstr.\, 49716 Meppen
CATEGORIES:Saison 2024/25
END:VEVENT
BEGIN:VEVENT
DTSTAMP:20260421T085951Z
DTSTART;TZID=Europe/Berlin:20240907T110000
DTEND;TZID=Europe/Berlin:20240907T120000
SUMMARY:Regionsliga WJD VR 6 HSG Nordhorn e.V. II vs SV Vorwärts Nordhorn II (962815)
UID:b7ccf568-3834-4a0c-b8ed-c499af1f25ab
STATUS:CONFIRMED
LAST-MODIFIED:20240908T111758Z
DESCRIPTION:Regionsliga  weibl. D VR 6\nBegegnungs-Nr: 962815\nHeim: HSG Nordhorn e.V. II\nGast: SV Vorwärts Nordhorn II\nHalle: Schüttorf\, SH Jahn (803150)\nAdresse: Jahnstraße\, 48465 Schüttorf\n
LOCATION:Schüttorf\, SH Jahn (803150): Jahnstraße\, 48465 Schüttorf
CATEGORIES:Saison 2024/25
END:VEVENT
BEGIN:VEVENT
DTSTAMP:20260421T085951Z
DTSTART;TZID=Europe/Berlin:20250302T100000
DTEND;TZID=Europe/Berlin:20250302T110000
SUMMARY:Regionsklasse WJD West 1 HSG Nordhorn e.V. II vs SG Neuenhaus/Uelsen III (961235)
UID:9435d688-b537-4ec1-b861-1867acd5b621
STATUS:CONFIRMED
LAST-MODIFIED:20250304T162507Z
DESCRIPTION:Regionsklasse weibl. D West 1\nBegegnungs-Nr: 961235\nHeim: HSG Nordhorn e.V. II\nGast: SG Neuenhaus/Uelsen III\nHalle: Nordhorn-Mitte\, KSH I Euregium  (803138)\nAdresse: Wilhelm-Raabe-Straße 15\, 48527 Nordhorn (OT Mitte)\n
LOCATION:Nordhorn-Mitte\, KSH I Euregium  (803138): Wilhelm-Raabe-Straße 15\, 48527 Nordhorn (OT Mitte)
CATEGORIES:Saison 2024/25
END:VEVENT
BEGIN:VEVENT
DTSTAMP:20260421T085951Z
DTSTART;TZID=Europe/Berlin:20241125T163000
DTEND;TZID=Europe/Berlin:20241125T173000
SUMMARY:Regionsklasse WJD West 1 HSG Nordhorn e.V. II vs HSG Bentheim/Gildehaus (961211)
UID:b4eaf04c-d241-4c3f-a3eb-fbe390fc199a
STATUS:CONFIRMED
LAST-MODIFIED:20241129T144605Z
DESCRIPTION:Regionsklasse weibl. D West 1\nBegegnungs-Nr: 961211\nHeim: HSG Nordhorn e.V. II\nGast: HSG Bentheim/Gildehaus\nHalle: Nordhorn\, Sporthalle EGN (803176)\nAdresse: Bernhard-Neehues-Str. 51 / Eingang über Nino-Allee\, 48529 Nordhorn\n
LOCATION:Nordhorn\, Sporthalle EGN (803176): Bernhard-Neehues-Str. 51 / Eingang über Nino-Allee\, 48529 Nordhorn
CATEGORIES:Saison 2024/25
END:VEVENT
BEGIN:VEVENT
DTSTAMP:20260421T085951Z
DTSTART;TZID=Europe/Berlin:20250111T140000
DTEND;TZID=Europe/Berlin:20250111T150000
SUMMARY:Regionsklasse WJD West 1 HSG Nordhorn e.V. II vs SV Vorwärts Nordhorn II (961219)
UID:6efaa640-52e0-4757-8548-363b6bbc2c82
STATUS:CONFIRMED
LAST-MODIFIED:20250113T161516Z
DESCRIPTION:Regionsklasse weibl. D West 1\nBegegnungs-Nr: 961219\nHeim: HSG Nordhorn e.V. II\nGast: SV Vorwärts Nordhorn II\nHalle: Nordhorn-Mitte\, KSH I Euregium  (803138)\nAdresse: Wilhelm-Raabe-Straße 15\, 48527 Nordhorn (OT Mitte)\n
LOCATION:Nordhorn-Mitte\, KSH I Euregium  (803138): Wilhelm-Raabe-Straße 15\, 48527 Nordhorn (OT Mitte)
CATEGORIES:Saison 2024/25
END:VEVENT
BEGIN:VEVENT
DTSTAMP:20260421T085951Z
DTSTART;TZID=Europe/Berlin:20250208T133000
DTEND;TZID=Europe/Berlin:20250208T143000
SUMMARY:Regionsklasse WJD West 1 HSG Nordhorn e.V. II vs SV Dalum (961227)
UID:6263b2f9-0111-4069-95e5-836ab911cd06
STATUS:CONFIRMED
LAST-MODIFIED:20250211T170457Z
DESCRIPTION:Regionsklasse weibl. D West 1\nBegegnungs-Nr: 961227\nHeim: HSG Nordhorn e.V. II\nGast: SV Dalum\nHalle: Nordhorn\, KSH 3 Euregium  (803137)\nAdresse: Wilhelm-Raabe-Str.  15\, 48527 Nordhorn\n
LOCATION:Nordhorn\, KSH 3 Euregium  (803137): Wilhelm-Raabe-Str.  15\, 48527 Nordhorn
CATEGORIES:Saison 2024/25
END:VEVENT
BEGIN:VEVENT
DTSTAMP:20260421T085951Z
DTSTART;TZID=Europe/Berlin:20250322T140000
DTEND;TZID=Europe/Berlin:20250322T150000
SUMMARY:Regionsklasse WJD West 1 HSG Nordhorn e.V. II vs ASC GW Itterbeck (961238)
UID:2aaf1603-5555-49d7-b679-802bdc03e0d4
STATUS:CONFIRMED
LAST-MODIFIED:20250323T131725Z
DESCRIPTION:Regionsklasse weibl. D West 1\nBegegnungs-Nr: 961238\nHeim: HSG Nordhorn e.V. II\nGast: ASC GW Itterbeck\nHalle: Nordhorn\, KSH 3 Euregium  (803137)\nAdresse: Wilhelm-Raabe-Str.  15\, 48527 Nordhorn\n
LOCATION:Nordhorn\, KSH 3 Euregium  (803137): Wilhelm-Raabe-Str.  15\, 48527 Nordhorn
CATEGORIES:Saison 2024/25
END:VEVENT
BEGIN:VEVENT
DTSTAMP:20260421T085951Z
DTSTART;TZID=Europe/Berlin:20241201T103000
DTEND;TZID=Europe/Berlin:20241201T113000
SUMMARY:Regionsklasse WJD West 1 SG Neuenhaus/Uelsen III vs HSG Nordhorn e.V. II (961213)
UID:33d2665f-3365-4880-aae7-b169bdc9ee5b
STATUS:CONFIRMED
LAST-MODIFIED:20241201T112016Z
DESCRIPTION:Regionsklasse weibl. D West 1\nBegegnungs-Nr: 961213\nHeim: SG Neuenhaus/Uelsen III\nGast: HSG Nordhorn e.V. II\nHalle: Uelsen\, SZ Eschweg  (803157)\nAdresse: Eschweg\, 49843 Uelsen\n
LOCATION:Uelsen\, SZ Eschweg  (803157): Eschweg\, 49843 Uelsen
CATEGORIES:Saison 2024/25
END:VEVENT
BEGIN:VEVENT
DTSTAMP:20260421T085951Z
DTSTART;TZID=Europe/Berlin:20250216T160000
DTEND;TZID=Europe/Berlin:20250216T170000
SUMMARY:Regionsklasse WJD West 1 HSG Bentheim/Gildehaus vs HSG Nordhorn e.V. II (961232)
UID:2ce7c6c4-5967-47b6-8a6a-8b32f7843802
STATUS:CONFIRMED
LAST-MODIFIED:20250218T174545Z
DESCRIPTION:Regionsklasse weibl. D West 1\nBegegnungs-Nr: 961232\nHeim: HSG Bentheim/Gildehaus\nGast: HSG Nordhorn e.V. II\nHalle: Bad Bentheim\, Schürkamphalle  (803102)\nAdresse: Schürkamp\, 48455 Bad Bentheim\n
LOCATION:Bad Bentheim\, Schürkamphalle  (803102): Schürkamp\, 48455 Bad Bentheim
CATEGORIES:Saison 2024/25
END:VEVENT
BEGIN:VEVENT
DTSTAMP:20260421T085951Z
DTSTART;TZID=Europe/Berlin:20240831T110000
DTEND;TZID=Europe/Berlin:20240831T120000
SUMMARY:Regionsliga WJD VR 6 SG Neuenhaus/Uelsen III vs HSG Nordhorn e.V. II (962802)
UID:ab84ee69-d205-47d7-9d96-a36e6ce3b7af
STATUS:CONFIRMED
LAST-MODIFIED:20240902T103321Z
DESCRIPTION:Regionsliga  weibl. D VR 6\nBegegnungs-Nr: 962802\nHeim: SG Neuenhaus/Uelsen III\nGast: HSG Nordhorn e.V. II\nHalle: Emlichheim\, Herbert Taube Halle  (803109)\nAdresse: Lägen Diek\, 49824 Emlichheim\n
LOCATION:Emlichheim\, Herbert Taube Halle  (803109): Lägen Diek\, 49824 Emlichheim
CATEGORIES:Saison 2024/25
END:VEVENT
BEGIN:VEVENT
DTSTAMP:20260421T085951Z
DTSTART;TZID=Europe/Berlin:20241109T160000
DTEND;TZID=Europe/Berlin:20241109T170000
SUMMARY:Regionsklasse WJD West 1 SV Dalum vs HSG Nordhorn e.V. II (961208)
UID:f44cc2a9-1332-45d0-ba44-8e17ec6c654e
STATUS:CONFIRMED
LAST-MODIFIED:20241110T102122Z
DESCRIPTION:Regionsklasse weibl. D West 1\nBegegnungs-Nr: 961208\nHeim: SV Dalum\nGast: HSG Nordhorn e.V. II\nHalle: Geeste-Dalum\, SH  (803105)\nAdresse: Am Rathaus/Neuer Diek\, 49744 Geeste (OT Dalum)\n
LOCATION:Geeste-Dalum\, SH  (803105): Am Rathaus/Neuer Diek\, 49744 Geeste (OT Dalum)
CATEGORIES:Saison 2024/25
END:VEVENT
BEGIN:VEVENT
DTSTAMP:20260421T085951Z
DTSTART;TZID=Europe/Berlin:20241207T143000
DTEND;TZID=Europe/Berlin:20241207T153000
SUMMARY:Regionsklasse WJD West 1 ASC GW Itterbeck vs HSG Nordhorn e.V. II (961216)
UID:ac90575f-fb9a-4696-9e11-5f165ec169e7
STATUS:CONFIRMED
LAST-MODIFIED:20241208T113641Z
DESCRIPTION:Regionsklasse weibl. D West 1\nBegegnungs-Nr: 961216\nHeim: ASC GW Itterbeck\nGast: HSG Nordhorn e.V. II\nHalle: Wilsum\, SH  (803169)\nAdresse: Echteler Straße 2a\, 49849 Wilsum\n
LOCATION:Wilsum\, SH  (803169): Echteler Straße 2a\, 49849 Wilsum
CATEGORIES:Saison 2024/25
END:VEVENT
BEGIN:VEVENT
DTSTAMP:20260421T085951Z
DTSTART;TZID=Europe/Berlin:20241027T140000
DTEND;TZID=Europe/Berlin:20241027T150000
SUMMARY:Regionsklasse WJD West 1 TV Meppen III vs HSG Nordhorn e.V. II (961203)
UID:8d8e581d-04aa-44a2-856e-4cb8313aea2f
STATUS:CONFIRMED
LAST-MODIFIED:20241027T184316Z
DESCRIPTION:Regionsklasse weibl. D West 1\nBegegnungs-Nr: 961203\nHeim: TV Meppen III\nGast: HSG Nordhorn e.V. II\nHalle:  Meppen\, Kardinal-von-Galen-Halle (803135)\nAdresse: Dammstr.\, 49716 Meppen\n
LOCATION: Meppen\, Kardinal-von-Galen-Halle (803135): Dammstr.\, 49716 Meppen
CATEGORIES:Saison 2024/25
END:VEVENT
BEGIN:VEVENT
DTSTAMP:20260421T085951Z
DTSTART;TZID=Europe/Berlin:20250329T123000
DTEND;TZID=Europe/Berlin:20250329T133000
SUMMARY:Regionsklasse WJD West 1 SV Vorwärts Nordhorn II vs HSG Nordhorn e.V. II (961241)
UID:0df6e7d0-2386-4d71-88f6-097fa6c081b2
STATUS:CONFIRMED
LAST-MODIFIED:20250330T093635Z
DESCRIPTION:Regionsklasse weibl. D West 1\nBegegnungs-Nr: 961241\nHeim: SV Vorwärts Nordhorn II\nGast: HSG Nordhorn e.V. II\nHalle: Nordhorn\, SZ Nordhorn-Deegfeld (803140)\nAdresse: Deegfelder Weg\, 48531 Nordhorn (OT Deegfeld)\n
LOCATION:Nordhorn\, SZ Nordhorn-Deegfeld (803140): Deegfelder Weg\, 48531 Nordhorn (OT Deegfeld)
CATEGORIES:Saison 2024/25
END:VEVENT
END:VCALENDAR
