BEGIN:VCALENDAR
PRODID:-//nuDatenautomaten//framework iCal4j //DE
VERSION:2.0
CALSCALE:GREGORIAN
BEGIN:VTIMEZONE
TZID:Europe/Berlin
LAST-MODIFIED:20260306T231828Z
TZURL:https://www.tzurl.org/zoneinfo/Europe/Berlin
X-LIC-LOCATION:Europe/Berlin
X-PROLEPTIC-TZNAME:LMT
BEGIN:STANDARD
TZNAME:CET
TZOFFSETFROM:+005328
TZOFFSETTO:+0100
DTSTART:18930401T000000
END:STANDARD
BEGIN:DAYLIGHT
TZNAME:CEST
TZOFFSETFROM:+0100
TZOFFSETTO:+0200
DTSTART:19160430T230000
RDATE:19400401T020000
RDATE:19430329T020000
RDATE:19460414T020000
RDATE:19470406T030000
RDATE:19480418T020000
RDATE:19490410T020000
RDATE:19800406T020000
END:DAYLIGHT
BEGIN:STANDARD
TZNAME:CET
TZOFFSETFROM:+0200
TZOFFSETTO:+0100
DTSTART:19161001T010000
RDATE:19421102T030000
RDATE:19431004T030000
RDATE:19441002T030000
RDATE:19451118T030000
RDATE:19461007T030000
END:STANDARD
BEGIN:DAYLIGHT
TZNAME:CEST
TZOFFSETFROM:+0100
TZOFFSETTO:+0200
DTSTART:19170416T020000
RRULE:FREQ=YEARLY;UNTIL=19180415T010000Z;BYMONTH=4;BYDAY=3MO
END:DAYLIGHT
BEGIN:STANDARD
TZNAME:CET
TZOFFSETFROM:+0200
TZOFFSETTO:+0100
DTSTART:19170917T030000
RRULE:FREQ=YEARLY;UNTIL=19180916T010000Z;BYMONTH=9;BYDAY=3MO
END:STANDARD
BEGIN:DAYLIGHT
TZNAME:CEST
TZOFFSETFROM:+0100
TZOFFSETTO:+0200
DTSTART:19440403T020000
RRULE:FREQ=YEARLY;UNTIL=19450402T010000Z;BYMONTH=4;BYDAY=1MO
END:DAYLIGHT
BEGIN:DAYLIGHT
TZNAME:CEMT
TZOFFSETFROM:+0200
TZOFFSETTO:+0300
DTSTART:19450524T020000
RDATE:19470511T030000
END:DAYLIGHT
BEGIN:DAYLIGHT
TZNAME:CEST
TZOFFSETFROM:+0300
TZOFFSETTO:+0200
DTSTART:19450924T030000
RDATE:19470629T030000
END:DAYLIGHT
BEGIN:STANDARD
TZNAME:CET
TZOFFSETFROM:+0100
TZOFFSETTO:+0100
DTSTART:19460101T000000
RDATE:19800101T000000
END:STANDARD
BEGIN:STANDARD
TZNAME:CET
TZOFFSETFROM:+0200
TZOFFSETTO:+0100
DTSTART:19471005T030000
RRULE:FREQ=YEARLY;UNTIL=19491002T010000Z;BYMONTH=10;BYDAY=1SU
END:STANDARD
BEGIN:STANDARD
TZNAME:CET
TZOFFSETFROM:+0200
TZOFFSETTO:+0100
DTSTART:19800928T030000
RRULE:FREQ=YEARLY;UNTIL=19950924T010000Z;BYMONTH=9;BYDAY=-1SU
END:STANDARD
BEGIN:DAYLIGHT
TZNAME:CEST
TZOFFSETFROM:+0100
TZOFFSETTO:+0200
DTSTART:19810329T020000
RRULE:FREQ=YEARLY;BYMONTH=3;BYDAY=-1SU
END:DAYLIGHT
BEGIN:STANDARD
TZNAME:CET
TZOFFSETFROM:+0200
TZOFFSETTO:+0100
DTSTART:19961027T030000
RRULE:FREQ=YEARLY;BYMONTH=10;BYDAY=-1SU
END:STANDARD
END:VTIMEZONE
BEGIN:VEVENT
DTSTAMP:20260423T013017Z
DTSTART;TZID=Europe/Berlin:20250329T154500
DTEND;TZID=Europe/Berlin:20250329T164500
SUMMARY:Regionsliga ME Nord HG Winsen/Luhe vs HSG Elbmarsch (56)
UID:7fab6f58-1eef-4e65-8652-18306337c0a1
STATUS:CONFIRMED
LAST-MODIFIED:20250331T135457Z
DESCRIPTION:Regionsliga männliche Jugend E Nord\nBegegnungs-Nr: 56\nHeim: HG Winsen/Luhe\nGast: HSG Elbmarsch\nHalle: Winsen/L.\, SH BS (603121)\nAdresse: Bürgerweide\, 21423 Winsen/Luhe\n
LOCATION:Winsen/L.\, SH BS (603121): Bürgerweide\, 21423 Winsen/Luhe
CATEGORIES:Saison 2024/25
END:VEVENT
BEGIN:VEVENT
DTSTAMP:20260423T013017Z
DTSTART;TZID=Europe/Berlin:20250216T104500
DTEND;TZID=Europe/Berlin:20250216T114500
SUMMARY:Regionsliga ME Nord HG Winsen/Luhe vs TV Meckefeld gem. (39)
UID:b0b37e8a-31e0-4cb1-8995-e4a77b40e442
STATUS:CONFIRMED
LAST-MODIFIED:20250216T165533Z
DESCRIPTION:Regionsliga männliche Jugend E Nord\nBegegnungs-Nr: 39\nHeim: HG Winsen/Luhe\nGast: TV Meckefeld gem.\nHalle: Winsen/L.\, SH Am Ilmer Barg (603137)\nAdresse: Haidweg 8\, 21423 Winsen/Luhe\n
LOCATION:Winsen/L.\, SH Am Ilmer Barg (603137): Haidweg 8\, 21423 Winsen/Luhe
CATEGORIES:Saison 2024/25
END:VEVENT
BEGIN:VEVENT
DTSTAMP:20260423T013017Z
DTSTART;TZID=Europe/Berlin:20250315T154500
DTEND;TZID=Europe/Berlin:20250315T164500
SUMMARY:Regionsliga ME Nord HG Winsen/Luhe vs MTV Wisch (8)
UID:eba582de-c1bf-4dc2-bb50-d9e4068f54d9
STATUS:CONFIRMED
LAST-MODIFIED:20250318T113153Z
DESCRIPTION:Regionsliga männliche Jugend E Nord\nBegegnungs-Nr: 8\nHeim: HG Winsen/Luhe\nGast: MTV Wisch\nHalle: Winsen/L.\, SH BS (603121)\nAdresse: Bürgerweide\, 21423 Winsen/Luhe\n
LOCATION:Winsen/L.\, SH BS (603121): Bürgerweide\, 21423 Winsen/Luhe
CATEGORIES:Saison 2024/25
END:VEVENT
BEGIN:VEVENT
DTSTAMP:20260423T013017Z
DTSTART;TZID=Europe/Berlin:20240922T125000
DTEND;TZID=Europe/Berlin:20240922T135000
SUMMARY:Vorrunde ME Staffel 6 HG Winsen/Luhe vs SG Luhdorf/Scharmbeck (10)
UID:3c4c4d57-5547-42de-be71-833e7c2996da
STATUS:CONFIRMED
LAST-MODIFIED:20240924T155030Z
DESCRIPTION:Vorrunde männliche Jugend E Staffel 6\nBegegnungs-Nr: 10\nHeim: HG Winsen/Luhe\nGast: SG Luhdorf/Scharmbeck\nHalle: Bardowick\, GHS (605105)\nAdresse: Große Worth 4\, 21357 Bardowick\n
LOCATION:Bardowick\, GHS (605105): Große Worth 4\, 21357 Bardowick
CATEGORIES:Saison 2024/25
END:VEVENT
BEGIN:VEVENT
DTSTAMP:20260423T013017Z
DTSTART;TZID=Europe/Berlin:20240915T112500
DTEND;TZID=Europe/Berlin:20240915T122500
SUMMARY:Vorrunde ME Staffel 6 HG Winsen/Luhe vs MTV FA Amelinghausen (3)
UID:556afe90-9fbe-4091-b391-c58553e42a5b
STATUS:CONFIRMED
LAST-MODIFIED:20240917T121312Z
DESCRIPTION:Vorrunde männliche Jugend E Staffel 6\nBegegnungs-Nr: 3\nHeim: HG Winsen/Luhe\nGast: MTV FA Amelinghausen\nHalle: Amelinghausen\, Lopautalhalle (605125)\nAdresse: Zum Lopautal 21 A\, 21385 Amelinghausen\n
LOCATION:Amelinghausen\, Lopautalhalle (605125): Zum Lopautal 21 A\, 21385 Amelinghausen
CATEGORIES:Saison 2024/25
END:VEVENT
BEGIN:VEVENT
DTSTAMP:20260423T013017Z
DTSTART;TZID=Europe/Berlin:20250309T113000
DTEND;TZID=Europe/Berlin:20250309T123000
SUMMARY:Regionsliga ME Nord HG Winsen/Luhe vs HSG Seevetal/Ashausen (46)
UID:91a4abfa-f45f-49ce-b1e7-79e80812ee99
STATUS:CONFIRMED
LAST-MODIFIED:20250312T135048Z
DESCRIPTION:Regionsliga männliche Jugend E Nord\nBegegnungs-Nr: 46\nHeim: HG Winsen/Luhe\nGast: HSG Seevetal/Ashausen\nHalle: Winsen/L.\, SH WINarena (603122)\nAdresse: Bürgerweide\, 21423 Winsen/Luhe\n
LOCATION:Winsen/L.\, SH WINarena (603122): Bürgerweide\, 21423 Winsen/Luhe
CATEGORIES:Saison 2024/25
END:VEVENT
BEGIN:VEVENT
DTSTAMP:20260423T013017Z
DTSTART;TZID=Europe/Berlin:20241124T110000
DTEND;TZID=Europe/Berlin:20241124T120000
SUMMARY:Regionsliga ME Nord HG Winsen/Luhe vs TVV Neu-Wulmstorf II (13)
UID:b96c150a-e56a-4081-9d78-5b2c1bbef5a4
STATUS:CONFIRMED
LAST-MODIFIED:20241127T135506Z
DESCRIPTION:Regionsliga männliche Jugend E Nord\nBegegnungs-Nr: 13\nHeim: HG Winsen/Luhe\nGast: TVV Neu-Wulmstorf II\nHalle: Winsen/L.\, SH Am Ilmer Barg (603137)\nAdresse: Haidweg 8\, 21423 Winsen/Luhe\n
LOCATION:Winsen/L.\, SH Am Ilmer Barg (603137): Haidweg 8\, 21423 Winsen/Luhe
CATEGORIES:Saison 2024/25
END:VEVENT
BEGIN:VEVENT
DTSTAMP:20260423T013017Z
DTSTART;TZID=Europe/Berlin:20241207T161500
DTEND;TZID=Europe/Berlin:20241207T171500
SUMMARY:Regionsliga ME Nord HG Winsen/Luhe vs mJSG Buxtehude/ Beckdorf II (23)
UID:abe397b2-05a3-48e1-b43a-1f65740e6a91
STATUS:CONFIRMED
LAST-MODIFIED:20241210T084657Z
DESCRIPTION:Regionsliga männliche Jugend E Nord\nBegegnungs-Nr: 23\nHeim: HG Winsen/Luhe\nGast: mJSG Buxtehude/ Beckdorf II\nHalle: Winsen/L.\, SH BS (603121)\nAdresse: Bürgerweide\, 21423 Winsen/Luhe\n
LOCATION:Winsen/L.\, SH BS (603121): Bürgerweide\, 21423 Winsen/Luhe
CATEGORIES:Saison 2024/25
END:VEVENT
BEGIN:VEVENT
DTSTAMP:20260423T013017Z
DTSTART;TZID=Europe/Berlin:20250301T145000
DTEND;TZID=Europe/Berlin:20250301T155000
SUMMARY:Regionsliga ME Nord TVV Neu-Wulmstorf II vs HG Winsen/Luhe (41)
UID:439aba92-f287-472f-bc69-d21adc2c76aa
STATUS:CONFIRMED
LAST-MODIFIED:20250303T194246Z
DESCRIPTION:Regionsliga männliche Jugend E Nord\nBegegnungs-Nr: 41\nHeim: TVV Neu-Wulmstorf II\nGast: HG Winsen/Luhe\nHalle: Neu Wulmstorf\, SH Gymnasium (603116)\nAdresse: Ernst-Moritz-Arndt-Straße 18 (Oberschule) \, 21629 Neu-Wulmstorf\n
LOCATION:Neu Wulmstorf\, SH Gymnasium (603116): Ernst-Moritz-Arndt-Straße 18 (Oberschule) \, 21629 Neu-Wulmstorf
CATEGORIES:Saison 2024/25
END:VEVENT
BEGIN:VEVENT
DTSTAMP:20260423T013017Z
DTSTART;TZID=Europe/Berlin:20240915T103500
DTEND;TZID=Europe/Berlin:20240915T113500
SUMMARY:Vorrunde ME Staffel 6 HSG Elbmarsch vs HG Winsen/Luhe (2)
UID:b6792946-aa92-48a6-9da3-c6f0100e77e6
STATUS:CONFIRMED
LAST-MODIFIED:20240917T121232Z
DESCRIPTION:Vorrunde männliche Jugend E Staffel 6\nBegegnungs-Nr: 2\nHeim: HSG Elbmarsch\nGast: HG Winsen/Luhe\nHalle: Amelinghausen\, Lopautalhalle (605125)\nAdresse: Zum Lopautal 21 A\, 21385 Amelinghausen\n
LOCATION:Amelinghausen\, Lopautalhalle (605125): Zum Lopautal 21 A\, 21385 Amelinghausen
CATEGORIES:Saison 2024/25
END:VEVENT
BEGIN:VEVENT
DTSTAMP:20260423T013017Z
DTSTART;TZID=Europe/Berlin:20240922T100000
DTEND;TZID=Europe/Berlin:20240922T110000
SUMMARY:Vorrunde ME Staffel 6 TSV Bardowick vs HG Winsen/Luhe (6)
UID:53a653d1-e022-4c5b-9d22-acb175115ae8
STATUS:CONFIRMED
LAST-MODIFIED:20240924T153456Z
DESCRIPTION:Vorrunde männliche Jugend E Staffel 6\nBegegnungs-Nr: 6\nHeim: TSV Bardowick\nGast: HG Winsen/Luhe\nHalle: Bardowick\, GHS (605105)\nAdresse: Große Worth 4\, 21357 Bardowick\n
LOCATION:Bardowick\, GHS (605105): Große Worth 4\, 21357 Bardowick
CATEGORIES:Saison 2024/25
END:VEVENT
BEGIN:VEVENT
DTSTAMP:20260423T013017Z
DTSTART;TZID=Europe/Berlin:20240915T125000
DTEND;TZID=Europe/Berlin:20240915T135000
SUMMARY:Vorrunde ME Staffel 6 MTV Eyendorf vs HG Winsen/Luhe (5)
UID:2f066585-f2ba-4c02-a186-50c968dc92e2
STATUS:CONFIRMED
LAST-MODIFIED:20240917T121438Z
DESCRIPTION:Vorrunde männliche Jugend E Staffel 6\nBegegnungs-Nr: 5\nHeim: MTV Eyendorf\nGast: HG Winsen/Luhe\nHalle: Amelinghausen\, Lopautalhalle (605125)\nAdresse: Zum Lopautal 21 A\, 21385 Amelinghausen\n
LOCATION:Amelinghausen\, Lopautalhalle (605125): Zum Lopautal 21 A\, 21385 Amelinghausen
CATEGORIES:Saison 2024/25
END:VEVENT
BEGIN:VEVENT
DTSTAMP:20260423T013017Z
DTSTART;TZID=Europe/Berlin:20250323T113000
DTEND;TZID=Europe/Berlin:20250323T123000
SUMMARY:Regionsliga ME Nord mJSG Buxtehude/ Beckdorf II vs HG Winsen/Luhe (51)
UID:b6c9b475-7d8c-4452-809d-f9ccdaba80b8
STATUS:CONFIRMED
LAST-MODIFIED:20250325T090728Z
DESCRIPTION:Regionsliga männliche Jugend E Nord\nBegegnungs-Nr: 51\nHeim: mJSG Buxtehude/ Beckdorf II\nGast: HG Winsen/Luhe\nHalle: Buxtehude\, Halle Nord (608163)\nAdresse: Hansestraße 15\, 21614 Buxtehude\n
LOCATION:Buxtehude\, Halle Nord (608163): Hansestraße 15\, 21614 Buxtehude
CATEGORIES:Saison 2024/25
END:VEVENT
BEGIN:VEVENT
DTSTAMP:20260423T013017Z
DTSTART;TZID=Europe/Berlin:20241116T130000
DTEND;TZID=Europe/Berlin:20241116T140000
SUMMARY:Regionsliga ME Nord TV Meckefeld gem. vs HG Winsen/Luhe (11)
UID:e14b4096-1ca9-4270-8657-dff5fdc6d6d0
STATUS:CONFIRMED
LAST-MODIFIED:20241119T110756Z
DESCRIPTION:Regionsliga männliche Jugend E Nord\nBegegnungs-Nr: 11\nHeim: TV Meckefeld gem.\nGast: HG Winsen/Luhe\nHalle: Seevetal-Meckelfeld\, SH Realschule (603113)\nAdresse: Appenstedter Weg\, 21217 Seevetal-Meckelfeld\n
LOCATION:Seevetal-Meckelfeld\, SH Realschule (603113): Appenstedter Weg\, 21217 Seevetal-Meckelfeld
CATEGORIES:Saison 2024/25
END:VEVENT
BEGIN:VEVENT
DTSTAMP:20260423T013017Z
DTSTART;TZID=Europe/Berlin:20241130T130000
DTEND;TZID=Europe/Berlin:20241130T140000
SUMMARY:Regionsliga ME Nord HSG Seevetal/Ashausen vs HG Winsen/Luhe (18)
UID:7f836bb9-792a-4d79-9c15-1398a3c55a2b
STATUS:CONFIRMED
LAST-MODIFIED:20241204T105332Z
DESCRIPTION:Regionsliga männliche Jugend E Nord\nBegegnungs-Nr: 18\nHeim: HSG Seevetal/Ashausen\nGast: HG Winsen/Luhe\nHalle: Stelle\, MTV VSH (603101)\nAdresse: Holtorfsloher Weg\, 21435 Stelle (OT Ashausen)\n
LOCATION:Stelle\, MTV VSH (603101): Holtorfsloher Weg\, 21435 Stelle (OT Ashausen)
CATEGORIES:Saison 2024/25
END:VEVENT
BEGIN:VEVENT
DTSTAMP:20260423T013017Z
DTSTART;TZID=Europe/Berlin:20250119T100000
DTEND;TZID=Europe/Berlin:20250119T110000
SUMMARY:Regionsliga ME Nord HSG Elbmarsch vs HG Winsen/Luhe (28)
UID:3bcffdaa-7638-4a89-a50f-1e5852c2968d
STATUS:CONFIRMED
LAST-MODIFIED:20250122T214015Z
DESCRIPTION:Regionsliga männliche Jugend E Nord\nBegegnungs-Nr: 28\nHeim: HSG Elbmarsch\nGast: HG Winsen/Luhe\nHalle: Marschacht-Niederm.\, Ernst-R.-Sch. (603130)\nAdresse: Wennerweg\, 21436 Marschacht / OT Niedermarschacht\n
LOCATION:Marschacht-Niederm.\, Ernst-R.-Sch. (603130): Wennerweg\, 21436 Marschacht / OT Niedermarschacht
CATEGORIES:Saison 2024/25
END:VEVENT
BEGIN:VEVENT
DTSTAMP:20260423T013017Z
DTSTART;TZID=Europe/Berlin:20250209T120000
DTEND;TZID=Europe/Berlin:20250209T130000
SUMMARY:Regionsliga ME Nord MTV Wisch vs HG Winsen/Luhe (36)
UID:3c20862b-4bc2-4aaa-8619-c6837001b6a0
STATUS:CONFIRMED
LAST-MODIFIED:20250211T153627Z
DESCRIPTION:Regionsliga männliche Jugend E Nord\nBegegnungs-Nr: 36\nHeim: MTV Wisch\nGast: HG Winsen/Luhe\nHalle: Jork\, SH Schulzentrum  (608125)\nAdresse: Schulstraße\, 21635 Jork\n
LOCATION:Jork\, SH Schulzentrum  (608125): Schulstraße\, 21635 Jork
CATEGORIES:Saison 2024/25
END:VEVENT
END:VCALENDAR
