BEGIN:VCALENDAR
PRODID:-//nuDatenautomaten//framework iCal4j //DE
VERSION:2.0
CALSCALE:GREGORIAN
BEGIN:VTIMEZONE
TZID:Europe/Berlin
LAST-MODIFIED:20260306T231828Z
TZURL:https://www.tzurl.org/zoneinfo/Europe/Berlin
X-LIC-LOCATION:Europe/Berlin
X-PROLEPTIC-TZNAME:LMT
BEGIN:STANDARD
TZNAME:CET
TZOFFSETFROM:+005328
TZOFFSETTO:+0100
DTSTART:18930401T000000
END:STANDARD
BEGIN:DAYLIGHT
TZNAME:CEST
TZOFFSETFROM:+0100
TZOFFSETTO:+0200
DTSTART:19160430T230000
RDATE:19400401T020000
RDATE:19430329T020000
RDATE:19460414T020000
RDATE:19470406T030000
RDATE:19480418T020000
RDATE:19490410T020000
RDATE:19800406T020000
END:DAYLIGHT
BEGIN:STANDARD
TZNAME:CET
TZOFFSETFROM:+0200
TZOFFSETTO:+0100
DTSTART:19161001T010000
RDATE:19421102T030000
RDATE:19431004T030000
RDATE:19441002T030000
RDATE:19451118T030000
RDATE:19461007T030000
END:STANDARD
BEGIN:DAYLIGHT
TZNAME:CEST
TZOFFSETFROM:+0100
TZOFFSETTO:+0200
DTSTART:19170416T020000
RRULE:FREQ=YEARLY;UNTIL=19180415T010000Z;BYMONTH=4;BYDAY=3MO
END:DAYLIGHT
BEGIN:STANDARD
TZNAME:CET
TZOFFSETFROM:+0200
TZOFFSETTO:+0100
DTSTART:19170917T030000
RRULE:FREQ=YEARLY;UNTIL=19180916T010000Z;BYMONTH=9;BYDAY=3MO
END:STANDARD
BEGIN:DAYLIGHT
TZNAME:CEST
TZOFFSETFROM:+0100
TZOFFSETTO:+0200
DTSTART:19440403T020000
RRULE:FREQ=YEARLY;UNTIL=19450402T010000Z;BYMONTH=4;BYDAY=1MO
END:DAYLIGHT
BEGIN:DAYLIGHT
TZNAME:CEMT
TZOFFSETFROM:+0200
TZOFFSETTO:+0300
DTSTART:19450524T020000
RDATE:19470511T030000
END:DAYLIGHT
BEGIN:DAYLIGHT
TZNAME:CEST
TZOFFSETFROM:+0300
TZOFFSETTO:+0200
DTSTART:19450924T030000
RDATE:19470629T030000
END:DAYLIGHT
BEGIN:STANDARD
TZNAME:CET
TZOFFSETFROM:+0100
TZOFFSETTO:+0100
DTSTART:19460101T000000
RDATE:19800101T000000
END:STANDARD
BEGIN:STANDARD
TZNAME:CET
TZOFFSETFROM:+0200
TZOFFSETTO:+0100
DTSTART:19471005T030000
RRULE:FREQ=YEARLY;UNTIL=19491002T010000Z;BYMONTH=10;BYDAY=1SU
END:STANDARD
BEGIN:STANDARD
TZNAME:CET
TZOFFSETFROM:+0200
TZOFFSETTO:+0100
DTSTART:19800928T030000
RRULE:FREQ=YEARLY;UNTIL=19950924T010000Z;BYMONTH=9;BYDAY=-1SU
END:STANDARD
BEGIN:DAYLIGHT
TZNAME:CEST
TZOFFSETFROM:+0100
TZOFFSETTO:+0200
DTSTART:19810329T020000
RRULE:FREQ=YEARLY;BYMONTH=3;BYDAY=-1SU
END:DAYLIGHT
BEGIN:STANDARD
TZNAME:CET
TZOFFSETFROM:+0200
TZOFFSETTO:+0100
DTSTART:19961027T030000
RRULE:FREQ=YEARLY;BYMONTH=10;BYDAY=-1SU
END:STANDARD
END:VTIMEZONE
BEGIN:VEVENT
DTSTAMP:20260425T110146Z
DTSTART;TZID=Europe/Berlin:20250215T162000
DTEND;TZID=Europe/Berlin:20250215T175000
SUMMARY:Oberliga MJA Nord TuS Bothfeld v. 1904 e.V. vs MTV Eyendorf (74)
UID:f9777026-07f8-4cfa-9488-3f32d2c60215
STATUS:CONFIRMED
LAST-MODIFIED:20250214T174102Z
DESCRIPTION:Oberliga männliche Jugend A Staffel Nord\nBegegnungs-Nr: 74\nHeim: TuS Bothfeld v. 1904 e.V.\nGast: MTV Eyendorf\nHalle: Hannover\, Bothfeld\, Schulzentrum IGS (403259)\nAdresse: Hintzehof 9\, 30659 Hannover (OT Bothfeld)\n
LOCATION:Hannover\, Bothfeld\, Schulzentrum IGS (403259): Hintzehof 9\, 30659 Hannover (OT Bothfeld)
CATEGORIES:Saison 2024/25
END:VEVENT
BEGIN:VEVENT
DTSTAMP:20260425T110146Z
DTSTART;TZID=Europe/Berlin:20250329T180000
DTEND;TZID=Europe/Berlin:20250329T193000
SUMMARY:Oberliga MJA Nord TuS Bothfeld v. 1904 e.V. vs TS Großburgwedel (103)
UID:95b42e53-ec6f-4338-865a-017c49ba876d
STATUS:CONFIRMED
LAST-MODIFIED:20250331T175556Z
DESCRIPTION:Oberliga männliche Jugend A Staffel Nord\nBegegnungs-Nr: 103\nHeim: TuS Bothfeld v. 1904 e.V.\nGast: TS Großburgwedel\nHalle: Hannover\, Bothfeld\, Schulzentrum IGS (403259)\nAdresse: Hintzehof 9\, 30659 Hannover (OT Bothfeld)\n
LOCATION:Hannover\, Bothfeld\, Schulzentrum IGS (403259): Hintzehof 9\, 30659 Hannover (OT Bothfeld)
CATEGORIES:Saison 2024/25
END:VEVENT
BEGIN:VEVENT
DTSTAMP:20260425T110146Z
DTSTART;TZID=Europe/Berlin:20250223T161500
DTEND;TZID=Europe/Berlin:20250223T174500
SUMMARY:Oberliga MJA Nord TuS Bothfeld v. 1904 e.V. vs HSG Verden-Aller (80)
UID:ff77c93e-884b-49af-a02a-135136410e98
STATUS:CONFIRMED
LAST-MODIFIED:20250223T174920Z
DESCRIPTION:Oberliga männliche Jugend A Staffel Nord\nBegegnungs-Nr: 80\nHeim: TuS Bothfeld v. 1904 e.V.\nGast: HSG Verden-Aller\nHalle: Hannover\, Bothfeld\, Schulzentrum IGS (403259)\nAdresse: Hintzehof 9\, 30659 Hannover (OT Bothfeld)\n
LOCATION:Hannover\, Bothfeld\, Schulzentrum IGS (403259): Hintzehof 9\, 30659 Hannover (OT Bothfeld)
CATEGORIES:Saison 2024/25
END:VEVENT
BEGIN:VEVENT
DTSTAMP:20260425T110146Z
DTSTART;TZID=Europe/Berlin:20240928T160000
DTEND;TZID=Europe/Berlin:20240928T173000
SUMMARY:Oberliga MJA Nord TuS Bothfeld v. 1904 e.V. vs Hannoverscher SC (15)
UID:97cc1e08-bedd-4ce2-9e57-69a3446f587b
STATUS:CONFIRMED
LAST-MODIFIED:20241002T090354Z
DESCRIPTION:Oberliga männliche Jugend A Staffel Nord\nBegegnungs-Nr: 15\nHeim: TuS Bothfeld v. 1904 e.V.\nGast: Hannoverscher SC\nHalle: Hannover\,  IGS Roderbruch I (403273)\nAdresse: Rotekreuzstraße 23\, 30627 Hannover (OT Roderbruch)\n
LOCATION:Hannover\,  IGS Roderbruch I (403273): Rotekreuzstraße 23\, 30627 Hannover (OT Roderbruch)
CATEGORIES:Saison 2024/25
END:VEVENT
BEGIN:VEVENT
DTSTAMP:20260425T110146Z
DTSTART;TZID=Europe/Berlin:20250323T140000
DTEND;TZID=Europe/Berlin:20250323T153000
SUMMARY:Oberliga MJA Nord TuS Bothfeld v. 1904 e.V. vs mJSG Buxtehude/ Beckdorf (98)
UID:0c55c03e-384f-4443-8303-533e485bc7b9
STATUS:CONFIRMED
LAST-MODIFIED:20250323T211951Z
DESCRIPTION:Oberliga männliche Jugend A Staffel Nord\nBegegnungs-Nr: 98\nHeim: TuS Bothfeld v. 1904 e.V.\nGast: mJSG Buxtehude/ Beckdorf\nHalle: Hannover\, Bothfeld\, Schulzentrum IGS (403259)\nAdresse: Hintzehof 9\, 30659 Hannover (OT Bothfeld)\n
LOCATION:Hannover\, Bothfeld\, Schulzentrum IGS (403259): Hintzehof 9\, 30659 Hannover (OT Bothfeld)
CATEGORIES:Saison 2024/25
END:VEVENT
BEGIN:VEVENT
DTSTAMP:20260425T110146Z
DTSTART;TZID=Europe/Berlin:20241208T170000
DTEND;TZID=Europe/Berlin:20241208T183000
SUMMARY:Oberliga MJA Nord TuS Bothfeld v. 1904 e.V. vs HSG Heidmark (54)
UID:cd5dcd43-b647-4510-8ba9-8e7d4cfaddfc
STATUS:CONFIRMED
LAST-MODIFIED:20241209T064907Z
DESCRIPTION:Oberliga männliche Jugend A Staffel Nord\nBegegnungs-Nr: 54\nHeim: TuS Bothfeld v. 1904 e.V.\nGast: HSG Heidmark\nHalle: Hannover\, Bothfeld\, Schulzentrum IGS (403259)\nAdresse: Hintzehof 9\, 30659 Hannover (OT Bothfeld)\n
LOCATION:Hannover\, Bothfeld\, Schulzentrum IGS (403259): Hintzehof 9\, 30659 Hannover (OT Bothfeld)
CATEGORIES:Saison 2024/25
END:VEVENT
BEGIN:VEVENT
DTSTAMP:20260425T110146Z
DTSTART;TZID=Europe/Berlin:20250308T180000
DTEND;TZID=Europe/Berlin:20250308T193000
SUMMARY:Oberliga MJA Nord TuS Bothfeld v. 1904 e.V. vs Jugendhandball Wümme (86)
UID:259be55a-df94-45d8-8662-9a9f7dd0346a
STATUS:CONFIRMED
LAST-MODIFIED:20250308T224435Z
DESCRIPTION:Oberliga männliche Jugend A Staffel Nord\nBegegnungs-Nr: 86\nHeim: TuS Bothfeld v. 1904 e.V.\nGast: Jugendhandball Wümme\nHalle: Hannover\, Bothfeld\, Schulzentrum IGS (403259)\nAdresse: Hintzehof 9\, 30659 Hannover (OT Bothfeld)\n
LOCATION:Hannover\, Bothfeld\, Schulzentrum IGS (403259): Hintzehof 9\, 30659 Hannover (OT Bothfeld)
CATEGORIES:Saison 2024/25
END:VEVENT
BEGIN:VEVENT
DTSTAMP:20260425T110146Z
DTSTART;TZID=Europe/Berlin:20241027T160000
DTEND;TZID=Europe/Berlin:20241027T173000
SUMMARY:Oberliga MJA Nord TuS Bothfeld v. 1904 e.V. vs TSV Daverden (25)
UID:0aa252a5-288b-4051-b3ac-7b59728ce8d2
STATUS:CONFIRMED
LAST-MODIFIED:20241029T165917Z
DESCRIPTION:Oberliga männliche Jugend A Staffel Nord\nBegegnungs-Nr: 25\nHeim: TuS Bothfeld v. 1904 e.V.\nGast: TSV Daverden\nHalle: Hannover\, Bothfeld\, Schulzentrum IGS (403259)\nAdresse: Hintzehof 9\, 30659 Hannover (OT Bothfeld)\n
LOCATION:Hannover\, Bothfeld\, Schulzentrum IGS (403259): Hintzehof 9\, 30659 Hannover (OT Bothfeld)
CATEGORIES:Saison 2024/25
END:VEVENT
BEGIN:VEVENT
DTSTAMP:20260425T110146Z
DTSTART;TZID=Europe/Berlin:20250126T150000
DTEND;TZID=Europe/Berlin:20250126T163000
SUMMARY:Oberliga MJA Nord TuS Bothfeld v. 1904 e.V. vs SG VfL Wittingen/Stöcken (66)
UID:715c0012-dbee-43f8-bd78-3893eda37f7c
STATUS:CONFIRMED
LAST-MODIFIED:20250126T153508Z
DESCRIPTION:Oberliga männliche Jugend A Staffel Nord\nBegegnungs-Nr: 66\nHeim: TuS Bothfeld v. 1904 e.V.\nGast: SG VfL Wittingen/Stöcken\nHalle: Hannover\, Bothfeld\, Schulzentrum IGS (403259)\nAdresse: Hintzehof 9\, 30659 Hannover (OT Bothfeld)\n
LOCATION:Hannover\, Bothfeld\, Schulzentrum IGS (403259): Hintzehof 9\, 30659 Hannover (OT Bothfeld)
CATEGORIES:Saison 2024/25
END:VEVENT
BEGIN:VEVENT
DTSTAMP:20260425T110146Z
DTSTART;TZID=Europe/Berlin:20241020T140000
DTEND;TZID=Europe/Berlin:20241020T153000
SUMMARY:Oberliga MJA Nord MTV Eyendorf vs TuS Bothfeld v. 1904 e.V. (19)
UID:cea7d3ab-aa13-43b8-9cf1-45f30fc5326d
STATUS:CONFIRMED
LAST-MODIFIED:20241021T164659Z
DESCRIPTION:Oberliga männliche Jugend A Staffel Nord\nBegegnungs-Nr: 19\nHeim: MTV Eyendorf\nGast: TuS Bothfeld v. 1904 e.V.\nHalle: Eyendorf\, Gerhard-Langer-SH (603106)\nAdresse: Zum Borgfeld\, 21376 Eyendorf\n
LOCATION:Eyendorf\, Gerhard-Langer-SH (603106): Zum Borgfeld\, 21376 Eyendorf
CATEGORIES:Saison 2024/25
END:VEVENT
BEGIN:VEVENT
DTSTAMP:20260425T110146Z
DTSTART;TZID=Europe/Berlin:20250316T170000
DTEND;TZID=Europe/Berlin:20250316T183000
SUMMARY:Oberliga MJA Nord HSG Verden-Aller vs TuS Bothfeld v. 1904 e.V. (94)
UID:e5d8dcd7-a267-4874-a4c0-bc32cb4d9ea8
STATUS:CONFIRMED
LAST-MODIFIED:20250316T172954Z
DESCRIPTION:Oberliga männliche Jugend A Staffel Nord\nBegegnungs-Nr: 94\nHeim: HSG Verden-Aller\nGast: TuS Bothfeld v. 1904 e.V.\nHalle: Verden\, Aller-Weser-SH  (609183)\nAdresse: Karl-Luhmann-Weg\, 27283 Verden\n
LOCATION:Verden\, Aller-Weser-SH  (609183): Karl-Luhmann-Weg\, 27283 Verden
CATEGORIES:Saison 2024/25
END:VEVENT
BEGIN:VEVENT
DTSTAMP:20260425T110146Z
DTSTART;TZID=Europe/Berlin:20250302T163000
DTEND;TZID=Europe/Berlin:20250302T180000
SUMMARY:Oberliga MJA Nord TSV Daverden vs TuS Bothfeld v. 1904 e.V. (84)
UID:03974540-4a5e-4033-88fa-d6b51a2a969e
STATUS:CONFIRMED
LAST-MODIFIED:20250302T194508Z
DESCRIPTION:Oberliga männliche Jugend A Staffel Nord\nBegegnungs-Nr: 84\nHeim: TSV Daverden\nGast: TuS Bothfeld v. 1904 e.V.\nHalle: Cluvenhagen\, SH  (609117)\nAdresse: Daverdener Strasse\, 27299 Langwedel (OT Cluvenhagen)\n
LOCATION:Cluvenhagen\, SH  (609117): Daverdener Strasse\, 27299 Langwedel (OT Cluvenhagen)
CATEGORIES:Saison 2024/25
END:VEVENT
BEGIN:VEVENT
DTSTAMP:20260425T110146Z
DTSTART;TZID=Europe/Berlin:20250426T150000
DTEND;TZID=Europe/Berlin:20250426T163000
SUMMARY:Oberliga MJA Nord HSG Heidmark vs TuS Bothfeld v. 1904 e.V. (106)
UID:122f60b2-1ba3-4a7b-b35b-fea2c3a167f0
STATUS:CONFIRMED
LAST-MODIFIED:20250426T221542Z
DESCRIPTION:Oberliga männliche Jugend A Staffel Nord\nBegegnungs-Nr: 106\nHeim: HSG Heidmark\nGast: TuS Bothfeld v. 1904 e.V.\nHalle: Dorfmark\, Thormarcon-Arena (607124)\nAdresse: Justus von Liebig Str.\, 29683 Dorfmark\n
LOCATION:Dorfmark\, Thormarcon-Arena (607124): Justus von Liebig Str.\, 29683 Dorfmark
CATEGORIES:Saison 2024/25
END:VEVENT
BEGIN:VEVENT
DTSTAMP:20260425T110146Z
DTSTART;TZID=Europe/Berlin:20250209T111500
DTEND;TZID=Europe/Berlin:20250209T124500
SUMMARY:Oberliga MJA Nord Hannoverscher SC vs TuS Bothfeld v. 1904 e.V. (71)
UID:53d574f0-3550-4f84-9e25-77de0c78e41d
STATUS:CONFIRMED
LAST-MODIFIED:20250214T174546Z
DESCRIPTION:Oberliga männliche Jugend A Staffel Nord\nBegegnungs-Nr: 71\nHeim: Hannoverscher SC\nGast: TuS Bothfeld v. 1904 e.V.\nHalle: Hannover\, Kaiser-Wilh.-Ratsgymnasium (403279)\nAdresse: Lüerstraße/Zeppelinstraße\, 30175 Hannover (OT Zoo)\n
LOCATION:Hannover\, Kaiser-Wilh.-Ratsgymnasium (403279): Lüerstraße/Zeppelinstraße\, 30175 Hannover (OT Zoo)
CATEGORIES:Saison 2024/25
END:VEVENT
BEGIN:VEVENT
DTSTAMP:20260425T110146Z
DTSTART;TZID=Europe/Berlin:20241117T150000
DTEND;TZID=Europe/Berlin:20241117T163000
SUMMARY:Oberliga MJA Nord mJSG Buxtehude/ Beckdorf vs TuS Bothfeld v. 1904 e.V. (38)
UID:4a39da30-61ba-4570-a8ac-ddecde378bec
STATUS:CONFIRMED
LAST-MODIFIED:20241117T191443Z
DESCRIPTION:Oberliga männliche Jugend A Staffel Nord\nBegegnungs-Nr: 38\nHeim: mJSG Buxtehude/ Beckdorf\nGast: TuS Bothfeld v. 1904 e.V.\nHalle: Beckdorf\, Auf dem Delm (608102)\nAdresse: Waldfrieden\, 21643 Beckdorf\n
LOCATION:Beckdorf\, Auf dem Delm (608102): Waldfrieden\, 21643 Beckdorf
CATEGORIES:Saison 2024/25
END:VEVENT
BEGIN:VEVENT
DTSTAMP:20260425T110146Z
DTSTART;TZID=Europe/Berlin:20241102T190000
DTEND;TZID=Europe/Berlin:20241102T203000
SUMMARY:Oberliga MJA Nord Jugendhandball Wümme vs TuS Bothfeld v. 1904 e.V. (30)
UID:78fe7e0b-a5b0-4a5a-b113-c410a4d02aac
STATUS:CONFIRMED
LAST-MODIFIED:20241103T094151Z
DESCRIPTION:Oberliga männliche Jugend A Staffel Nord\nBegegnungs-Nr: 30\nHeim: Jugendhandball Wümme\nGast: TuS Bothfeld v. 1904 e.V.\nHalle: Rotenburg\, Bodo-Räke-Halle  (609104)\nAdresse: Gerberstraße\, 27356 Rotenburg (W.)\n
LOCATION:Rotenburg\, Bodo-Räke-Halle  (609104): Gerberstraße\, 27356 Rotenburg (W.)
CATEGORIES:Saison 2024/25
END:VEVENT
BEGIN:VEVENT
DTSTAMP:20260425T110146Z
DTSTART;TZID=Europe/Berlin:20241123T163000
DTEND;TZID=Europe/Berlin:20241123T180000
SUMMARY:Oberliga MJA Nord TS Großburgwedel vs TuS Bothfeld v. 1904 e.V. (42)
UID:a398aae5-bee8-4635-be8b-cd3edd48dfba
STATUS:CONFIRMED
LAST-MODIFIED:20241124T092132Z
DESCRIPTION:Oberliga männliche Jugend A Staffel Nord\nBegegnungs-Nr: 42\nHeim: TS Großburgwedel\nGast: TuS Bothfeld v. 1904 e.V.\nHalle: Burgwedel\, SZ Auf der Ramhorst (403210)\nAdresse: Auf der Ramhorst\, 30938 Burgwedel (OT Großburgwedel)\n
LOCATION:Burgwedel\, SZ Auf der Ramhorst (403210): Auf der Ramhorst\, 30938 Burgwedel (OT Großburgwedel)
CATEGORIES:Saison 2024/25
END:VEVENT
BEGIN:VEVENT
DTSTAMP:20260425T110146Z
DTSTART;TZID=Europe/Berlin:20240921T164500
DTEND;TZID=Europe/Berlin:20240921T181500
SUMMARY:Oberliga MJA Nord SG VfL Wittingen/Stöcken vs TuS Bothfeld v. 1904 e.V. (10)
UID:e000f7e0-eb99-4d9e-ac7c-fb4ccd1ac882
STATUS:CONFIRMED
LAST-MODIFIED:20240922T092156Z
DESCRIPTION:Oberliga männliche Jugend A Staffel Nord\nBegegnungs-Nr: 10\nHeim: SG VfL Wittingen/Stöcken\nGast: TuS Bothfeld v. 1904 e.V.\nHalle: Wittingen\, Realschule (202111)\nAdresse: Spittastraße 61\, 29378 Wittingen\n
LOCATION:Wittingen\, Realschule (202111): Spittastraße 61\, 29378 Wittingen
CATEGORIES:Saison 2024/25
END:VEVENT
BEGIN:VEVENT
DTSTAMP:20260425T110146Z
DTSTART;TZID=Europe/Berlin:20240908T150000
DTEND;TZID=Europe/Berlin:20240908T163000
SUMMARY:Oberliga MJA Nord MTV Wisch vs TuS Bothfeld v. 1904 e.V. (1)
UID:1c3b4cc8-021c-459c-ba49-06803ae57ca9
STATUS:CONFIRMED
LAST-MODIFIED:20240914T085727Z
DESCRIPTION:Oberliga männliche Jugend A Staffel Nord\nBegegnungs-Nr: 1\nHeim: MTV Wisch\nGast: TuS Bothfeld v. 1904 e.V.\nHalle: Jork\, SH Schulzentrum  (608125)\nAdresse: Schulstraße\, 21635 Jork\n
LOCATION:Jork\, SH Schulzentrum  (608125): Schulstraße\, 21635 Jork
CATEGORIES:Saison 2024/25
END:VEVENT
END:VCALENDAR
