BEGIN:VCALENDAR
PRODID:-//nuDatenautomaten//framework iCal4j //DE
VERSION:2.0
CALSCALE:GREGORIAN
BEGIN:VTIMEZONE
TZID:Europe/Berlin
LAST-MODIFIED:20260306T231828Z
TZURL:https://www.tzurl.org/zoneinfo/Europe/Berlin
X-LIC-LOCATION:Europe/Berlin
X-PROLEPTIC-TZNAME:LMT
BEGIN:STANDARD
TZNAME:CET
TZOFFSETFROM:+005328
TZOFFSETTO:+0100
DTSTART:18930401T000000
END:STANDARD
BEGIN:DAYLIGHT
TZNAME:CEST
TZOFFSETFROM:+0100
TZOFFSETTO:+0200
DTSTART:19160430T230000
RDATE:19400401T020000
RDATE:19430329T020000
RDATE:19460414T020000
RDATE:19470406T030000
RDATE:19480418T020000
RDATE:19490410T020000
RDATE:19800406T020000
END:DAYLIGHT
BEGIN:STANDARD
TZNAME:CET
TZOFFSETFROM:+0200
TZOFFSETTO:+0100
DTSTART:19161001T010000
RDATE:19421102T030000
RDATE:19431004T030000
RDATE:19441002T030000
RDATE:19451118T030000
RDATE:19461007T030000
END:STANDARD
BEGIN:DAYLIGHT
TZNAME:CEST
TZOFFSETFROM:+0100
TZOFFSETTO:+0200
DTSTART:19170416T020000
RRULE:FREQ=YEARLY;UNTIL=19180415T010000Z;BYMONTH=4;BYDAY=3MO
END:DAYLIGHT
BEGIN:STANDARD
TZNAME:CET
TZOFFSETFROM:+0200
TZOFFSETTO:+0100
DTSTART:19170917T030000
RRULE:FREQ=YEARLY;UNTIL=19180916T010000Z;BYMONTH=9;BYDAY=3MO
END:STANDARD
BEGIN:DAYLIGHT
TZNAME:CEST
TZOFFSETFROM:+0100
TZOFFSETTO:+0200
DTSTART:19440403T020000
RRULE:FREQ=YEARLY;UNTIL=19450402T010000Z;BYMONTH=4;BYDAY=1MO
END:DAYLIGHT
BEGIN:DAYLIGHT
TZNAME:CEMT
TZOFFSETFROM:+0200
TZOFFSETTO:+0300
DTSTART:19450524T020000
RDATE:19470511T030000
END:DAYLIGHT
BEGIN:DAYLIGHT
TZNAME:CEST
TZOFFSETFROM:+0300
TZOFFSETTO:+0200
DTSTART:19450924T030000
RDATE:19470629T030000
END:DAYLIGHT
BEGIN:STANDARD
TZNAME:CET
TZOFFSETFROM:+0100
TZOFFSETTO:+0100
DTSTART:19460101T000000
RDATE:19800101T000000
END:STANDARD
BEGIN:STANDARD
TZNAME:CET
TZOFFSETFROM:+0200
TZOFFSETTO:+0100
DTSTART:19471005T030000
RRULE:FREQ=YEARLY;UNTIL=19491002T010000Z;BYMONTH=10;BYDAY=1SU
END:STANDARD
BEGIN:STANDARD
TZNAME:CET
TZOFFSETFROM:+0200
TZOFFSETTO:+0100
DTSTART:19800928T030000
RRULE:FREQ=YEARLY;UNTIL=19950924T010000Z;BYMONTH=9;BYDAY=-1SU
END:STANDARD
BEGIN:DAYLIGHT
TZNAME:CEST
TZOFFSETFROM:+0100
TZOFFSETTO:+0200
DTSTART:19810329T020000
RRULE:FREQ=YEARLY;BYMONTH=3;BYDAY=-1SU
END:DAYLIGHT
BEGIN:STANDARD
TZNAME:CET
TZOFFSETFROM:+0200
TZOFFSETTO:+0100
DTSTART:19961027T030000
RRULE:FREQ=YEARLY;BYMONTH=10;BYDAY=-1SU
END:STANDARD
END:VTIMEZONE
BEGIN:VEVENT
DTSTAMP:20260419T141444Z
DTSTART;TZID=Europe/Berlin:20241103T160000
DTEND;TZID=Europe/Berlin:20241103T173000
SUMMARY:Landesliga MJA VR Nord OHV Aurich vs HSG Emden (990411)
UID:078774bd-37cd-462a-9e5d-db9fbc93ca8a
STATUS:CONFIRMED
LAST-MODIFIED:20241106T204639Z
DESCRIPTION:LL Vorrunde Nord\nBegegnungs-Nr: 990411\nHeim: OHV Aurich\nGast: HSG Emden\nHalle: Aurich-Mitte\, SH (802102)\nAdresse: Am Ellernfeld\, 26603 Aurich (OT Mitte)\n
LOCATION:Aurich-Mitte\, SH (802102): Am Ellernfeld\, 26603 Aurich (OT Mitte)
CATEGORIES:Saison 2024/25
END:VEVENT
BEGIN:VEVENT
DTSTAMP:20260419T141444Z
DTSTART;TZID=Europe/Berlin:20240908T160000
DTEND;TZID=Europe/Berlin:20240908T173000
SUMMARY:Landesliga MJA VR Nord OHV Aurich vs TV Dinklage (990403)
UID:7165a37f-e9c0-4e5c-9129-20948299d9be
STATUS:CONFIRMED
LAST-MODIFIED:20240908T195120Z
DESCRIPTION:LL Vorrunde Nord\nBegegnungs-Nr: 990403\nHeim: OHV Aurich\nGast: TV Dinklage\nHalle: Aurich-Mitte\, SH (802102)\nAdresse: Am Ellernfeld\, 26603 Aurich (OT Mitte)\n
LOCATION:Aurich-Mitte\, SH (802102): Am Ellernfeld\, 26603 Aurich (OT Mitte)
CATEGORIES:Saison 2024/25
END:VEVENT
BEGIN:VEVENT
DTSTAMP:20260419T141444Z
DTSTART;TZID=Europe/Berlin:20240929T160000
DTEND;TZID=Europe/Berlin:20240929T173000
SUMMARY:Landesliga MJA VR Nord OHV Aurich vs TV Cloppenburg (990409)
UID:759a0e44-1c8f-4503-8a98-50cc0e6badb5
STATUS:CONFIRMED
LAST-MODIFIED:20240930T160742Z
DESCRIPTION:LL Vorrunde Nord\nBegegnungs-Nr: 990409\nHeim: OHV Aurich\nGast: TV Cloppenburg\nHalle: Aurich-Mitte\, SH (802102)\nAdresse: Am Ellernfeld\, 26603 Aurich (OT Mitte)\n
LOCATION:Aurich-Mitte\, SH (802102): Am Ellernfeld\, 26603 Aurich (OT Mitte)
CATEGORIES:Saison 2024/25
END:VEVENT
BEGIN:VEVENT
DTSTAMP:20260419T141444Z
DTSTART;TZID=Europe/Berlin:20250216T160000
DTEND;TZID=Europe/Berlin:20250216T173000
SUMMARY:Landesliga MJA OHV Aurich vs HSG Bentheim/Gildehaus (990016)
UID:9342d436-fb4b-4a5d-8beb-86478dc9ae06
STATUS:CONFIRMED
LAST-MODIFIED:20250223T182258Z
DESCRIPTION:Landesliga männl. Jugend A\nBegegnungs-Nr: 990016\nHeim: OHV Aurich\nGast: HSG Bentheim/Gildehaus\nHalle: Aurich-Mitte\, SH (802102)\nAdresse: Am Ellernfeld\, 26603 Aurich (OT Mitte)\n
LOCATION:Aurich-Mitte\, SH (802102): Am Ellernfeld\, 26603 Aurich (OT Mitte)
CATEGORIES:Saison 2024/25
END:VEVENT
BEGIN:VEVENT
DTSTAMP:20260419T141444Z
DTSTART;TZID=Europe/Berlin:20250223T123000
DTEND;TZID=Europe/Berlin:20250223T140000
SUMMARY:Landesliga MJA OHV Aurich vs TV Dinklage (990026)
UID:80fe91f5-fd64-4b23-a597-3782a0ef18a7
STATUS:CONFIRMED
LAST-MODIFIED:20250223T182332Z
DESCRIPTION:Landesliga männl. Jugend A\nBegegnungs-Nr: 990026\nHeim: OHV Aurich\nGast: TV Dinklage\nHalle: Aurich-Mitte\, SH (802102)\nAdresse: Am Ellernfeld\, 26603 Aurich (OT Mitte)\n
LOCATION:Aurich-Mitte\, SH (802102): Am Ellernfeld\, 26603 Aurich (OT Mitte)
CATEGORIES:Saison 2024/25
END:VEVENT
BEGIN:VEVENT
DTSTAMP:20260419T141444Z
DTSTART;TZID=Europe/Berlin:20250316T143000
DTEND;TZID=Europe/Berlin:20250316T160000
SUMMARY:Landesliga MJA OHV Aurich vs FC Schüttorf 09 (990014)
UID:5a444535-6420-4740-8c8c-430902d634fa
STATUS:CONFIRMED
LAST-MODIFIED:20250316T190307Z
DESCRIPTION:Landesliga männl. Jugend A\nBegegnungs-Nr: 990014\nHeim: OHV Aurich\nGast: FC Schüttorf 09\nHalle: Aurich-Mitte\, SH (802102)\nAdresse: Am Ellernfeld\, 26603 Aurich (OT Mitte)\n
LOCATION:Aurich-Mitte\, SH (802102): Am Ellernfeld\, 26603 Aurich (OT Mitte)
CATEGORIES:Saison 2024/25
END:VEVENT
BEGIN:VEVENT
DTSTAMP:20260419T141444Z
DTSTART;TZID=Europe/Berlin:20241214T180000
DTEND;TZID=Europe/Berlin:20241214T193000
SUMMARY:Landesliga MJA OHV Aurich vs TSG 07 Burg Gretesch (990005)
UID:fccfa32d-ee92-4431-86e4-727cc66d918c
STATUS:CONFIRMED
LAST-MODIFIED:20241216T161341Z
DESCRIPTION:Landesliga männl. Jugend A\nBegegnungs-Nr: 990005\nHeim: OHV Aurich\nGast: TSG 07 Burg Gretesch\nHalle: Aurich\, Sparkassen Arena (802108)\nAdresse: Emder Straße\, 26603 Aurich\n
LOCATION:Aurich\, Sparkassen Arena (802108): Emder Straße\, 26603 Aurich
CATEGORIES:Saison 2024/25
END:VEVENT
BEGIN:VEVENT
DTSTAMP:20260419T141444Z
DTSTART;TZID=Europe/Berlin:20250301T140000
DTEND;TZID=Europe/Berlin:20250301T153000
SUMMARY:Landesliga MJA OHV Aurich vs SFN Vechta (990008)
UID:259f03fa-01ce-4b6c-adb0-63cc3594d44c
STATUS:CONFIRMED
LAST-MODIFIED:20250302T165620Z
DESCRIPTION:Landesliga männl. Jugend A\nBegegnungs-Nr: 990008\nHeim: OHV Aurich\nGast: SFN Vechta\nHalle: Aurich-Mitte\, SH (802102)\nAdresse: Am Ellernfeld\, 26603 Aurich (OT Mitte)\n
LOCATION:Aurich-Mitte\, SH (802102): Am Ellernfeld\, 26603 Aurich (OT Mitte)
CATEGORIES:Saison 2024/25
END:VEVENT
BEGIN:VEVENT
DTSTAMP:20260419T141444Z
DTSTART;TZID=Europe/Berlin:20250302T170000
DTEND;TZID=Europe/Berlin:20250302T183000
SUMMARY:Landesliga MJA TSG 07 Burg Gretesch vs OHV Aurich (990020)
UID:67beceb8-738a-4f3b-a23e-4a0e54c8d199
STATUS:CONFIRMED
LAST-MODIFIED:20250302T182551Z
DESCRIPTION:Landesliga männl. Jugend A\nBegegnungs-Nr: 990020\nHeim: TSG 07 Burg Gretesch\nGast: OHV Aurich\nHalle: Osnabrück\, KGS Osnabrück-Schinkel (808103)\nAdresse: Windthorststraße 79-83\, 49084 Osnabrück (OT Schinkel)\n
LOCATION:Osnabrück\, KGS Osnabrück-Schinkel (808103): Windthorststraße 79-83\, 49084 Osnabrück (OT Schinkel)
CATEGORIES:Saison 2024/25
END:VEVENT
BEGIN:VEVENT
DTSTAMP:20260419T141444Z
DTSTART;TZID=Europe/Berlin:20250308T110000
DTEND;TZID=Europe/Berlin:20250308T123000
SUMMARY:Landesliga MJA SFN Vechta vs OHV Aurich (990023)
UID:b9f098cf-8b45-4f52-a4c3-3319a6eb0228
STATUS:CONFIRMED
LAST-MODIFIED:20250309T193144Z
DESCRIPTION:Landesliga männl. Jugend A\nBegegnungs-Nr: 990023\nHeim: SFN Vechta\nGast: OHV Aurich\nHalle: Vechta-West\, SH  (809140)\nAdresse: Brüsseler Str. 37\, 49377 Vechta\n
LOCATION:Vechta-West\, SH  (809140): Brüsseler Str. 37\, 49377 Vechta
CATEGORIES:Saison 2024/25
END:VEVENT
BEGIN:VEVENT
DTSTAMP:20260419T141444Z
DTSTART;TZID=Europe/Berlin:20240915T141000
DTEND;TZID=Europe/Berlin:20240915T154000
SUMMARY:Landesliga MJA VR Nord SV Sigiltra Sögel vs OHV Aurich (990406)
UID:0233bd92-29dc-47f7-9506-d13379525405
STATUS:CONFIRMED
LAST-MODIFIED:20240915T170955Z
DESCRIPTION:LL Vorrunde Nord\nBegegnungs-Nr: 990406\nHeim: SV Sigiltra Sögel\nGast: OHV Aurich\nHalle: Sögel\, Großraum-SH  (803153)\nAdresse: Schlaunallee 14\, 49751 Sögel\n
LOCATION:Sögel\, Großraum-SH  (803153): Schlaunallee 14\, 49751 Sögel
CATEGORIES:Saison 2024/25
END:VEVENT
BEGIN:VEVENT
DTSTAMP:20260419T141444Z
DTSTART;TZID=Europe/Berlin:20250322T183000
DTEND;TZID=Europe/Berlin:20250322T200000
SUMMARY:Landesliga MJA FC Schüttorf 09 vs OHV Aurich (990029)
UID:02cab8d9-a49d-4e0d-96e2-1f9ea308951d
STATUS:CONFIRMED
LAST-MODIFIED:20250326T175241Z
DESCRIPTION:Landesliga männl. Jugend A\nBegegnungs-Nr: 990029\nHeim: FC Schüttorf 09\nGast: OHV Aurich\nHalle: Wietkamphalle (803173)\nAdresse: Wietkampstr.\, 48465 Schüttorf\n
LOCATION:Wietkamphalle (803173): Wietkampstr.\, 48465 Schüttorf
CATEGORIES:Saison 2024/25
END:VEVENT
BEGIN:VEVENT
DTSTAMP:20260419T141444Z
DTSTART;TZID=Europe/Berlin:20241207T140000
DTEND;TZID=Europe/Berlin:20241207T153000
SUMMARY:Landesliga MJA HSG Bentheim/Gildehaus vs OHV Aurich (990001)
UID:22796856-daf1-4c22-a34b-768012ee788d
STATUS:CONFIRMED
LAST-MODIFIED:20241211T050512Z
DESCRIPTION:Landesliga männl. Jugend A\nBegegnungs-Nr: 990001\nHeim: HSG Bentheim/Gildehaus\nGast: OHV Aurich\nHalle: Bad Bentheim\, Schürkamphalle  (803102)\nAdresse: Schürkamp\, 48455 Bad Bentheim\n
LOCATION:Bad Bentheim\, Schürkamphalle  (803102): Schürkamp\, 48455 Bad Bentheim
CATEGORIES:Saison 2024/25
END:VEVENT
BEGIN:VEVENT
DTSTAMP:20260419T141444Z
DTSTART;TZID=Europe/Berlin:20250119T150000
DTEND;TZID=Europe/Berlin:20250119T163000
SUMMARY:Landesliga MJA TV Dinklage vs OHV Aurich (990011)
UID:5aef5a37-e6cc-4ce4-8579-62e5cf76a0b3
STATUS:CONFIRMED
LAST-MODIFIED:20250119T171442Z
DESCRIPTION:Landesliga männl. Jugend A\nBegegnungs-Nr: 990011\nHeim: TV Dinklage\nGast: OHV Aurich\nHalle: Dinklage\, SH 2 SZ  (809108)\nAdresse: Schulstraße\, 49413 Dinklage\n
LOCATION:Dinklage\, SH 2 SZ  (809108): Schulstraße\, 49413 Dinklage
CATEGORIES:Saison 2024/25
END:VEVENT
BEGIN:VEVENT
DTSTAMP:20260419T141444Z
DTSTART;TZID=Europe/Berlin:20241110T130000
DTEND;TZID=Europe/Berlin:20241110T143000
SUMMARY:Landesliga MJA VR Nord SFN Vechta vs OHV Aurich (990415)
UID:c3a5834d-40d6-40f9-8aab-3c635f4056c0
STATUS:CONFIRMED
LAST-MODIFIED:20241110T201347Z
DESCRIPTION:LL Vorrunde Nord\nBegegnungs-Nr: 990415\nHeim: SFN Vechta\nGast: OHV Aurich\nHalle: Vechta-West\, SH  (809140)\nAdresse: Brüsseler Str. 37\, 49377 Vechta\n
LOCATION:Vechta-West\, SH  (809140): Brüsseler Str. 37\, 49377 Vechta
CATEGORIES:Saison 2024/25
END:VEVENT
END:VCALENDAR
