BEGIN:VCALENDAR
PRODID:-//nuDatenautomaten//framework iCal4j //DE
VERSION:2.0
CALSCALE:GREGORIAN
BEGIN:VTIMEZONE
TZID:Europe/Berlin
LAST-MODIFIED:20260306T231828Z
TZURL:https://www.tzurl.org/zoneinfo/Europe/Berlin
X-LIC-LOCATION:Europe/Berlin
X-PROLEPTIC-TZNAME:LMT
BEGIN:STANDARD
TZNAME:CET
TZOFFSETFROM:+005328
TZOFFSETTO:+0100
DTSTART:18930401T000000
END:STANDARD
BEGIN:DAYLIGHT
TZNAME:CEST
TZOFFSETFROM:+0100
TZOFFSETTO:+0200
DTSTART:19160430T230000
RDATE:19400401T020000
RDATE:19430329T020000
RDATE:19460414T020000
RDATE:19470406T030000
RDATE:19480418T020000
RDATE:19490410T020000
RDATE:19800406T020000
END:DAYLIGHT
BEGIN:STANDARD
TZNAME:CET
TZOFFSETFROM:+0200
TZOFFSETTO:+0100
DTSTART:19161001T010000
RDATE:19421102T030000
RDATE:19431004T030000
RDATE:19441002T030000
RDATE:19451118T030000
RDATE:19461007T030000
END:STANDARD
BEGIN:DAYLIGHT
TZNAME:CEST
TZOFFSETFROM:+0100
TZOFFSETTO:+0200
DTSTART:19170416T020000
RRULE:FREQ=YEARLY;UNTIL=19180415T010000Z;BYMONTH=4;BYDAY=3MO
END:DAYLIGHT
BEGIN:STANDARD
TZNAME:CET
TZOFFSETFROM:+0200
TZOFFSETTO:+0100
DTSTART:19170917T030000
RRULE:FREQ=YEARLY;UNTIL=19180916T010000Z;BYMONTH=9;BYDAY=3MO
END:STANDARD
BEGIN:DAYLIGHT
TZNAME:CEST
TZOFFSETFROM:+0100
TZOFFSETTO:+0200
DTSTART:19440403T020000
RRULE:FREQ=YEARLY;UNTIL=19450402T010000Z;BYMONTH=4;BYDAY=1MO
END:DAYLIGHT
BEGIN:DAYLIGHT
TZNAME:CEMT
TZOFFSETFROM:+0200
TZOFFSETTO:+0300
DTSTART:19450524T020000
RDATE:19470511T030000
END:DAYLIGHT
BEGIN:DAYLIGHT
TZNAME:CEST
TZOFFSETFROM:+0300
TZOFFSETTO:+0200
DTSTART:19450924T030000
RDATE:19470629T030000
END:DAYLIGHT
BEGIN:STANDARD
TZNAME:CET
TZOFFSETFROM:+0100
TZOFFSETTO:+0100
DTSTART:19460101T000000
RDATE:19800101T000000
END:STANDARD
BEGIN:STANDARD
TZNAME:CET
TZOFFSETFROM:+0200
TZOFFSETTO:+0100
DTSTART:19471005T030000
RRULE:FREQ=YEARLY;UNTIL=19491002T010000Z;BYMONTH=10;BYDAY=1SU
END:STANDARD
BEGIN:STANDARD
TZNAME:CET
TZOFFSETFROM:+0200
TZOFFSETTO:+0100
DTSTART:19800928T030000
RRULE:FREQ=YEARLY;UNTIL=19950924T010000Z;BYMONTH=9;BYDAY=-1SU
END:STANDARD
BEGIN:DAYLIGHT
TZNAME:CEST
TZOFFSETFROM:+0100
TZOFFSETTO:+0200
DTSTART:19810329T020000
RRULE:FREQ=YEARLY;BYMONTH=3;BYDAY=-1SU
END:DAYLIGHT
BEGIN:STANDARD
TZNAME:CET
TZOFFSETFROM:+0200
TZOFFSETTO:+0100
DTSTART:19961027T030000
RRULE:FREQ=YEARLY;BYMONTH=10;BYDAY=-1SU
END:STANDARD
END:VTIMEZONE
BEGIN:VEVENT
DTSTAMP:20260419T124243Z
DTSTART;TZID=Europe/Berlin:20250330T140000
DTEND;TZID=Europe/Berlin:20250330T150000
SUMMARY:Oberliga MJC Nord Jugendhandball Wümme vs TuS Harsefeld (89)
UID:683303e1-6530-4648-87ab-b2abdbee3e69
STATUS:CONFIRMED
LAST-MODIFIED:20250330T172503Z
DESCRIPTION:Oberliga männliche Jugend C Staffel Nord\nBegegnungs-Nr: 89\nHeim: Jugendhandball Wümme\nGast: TuS Harsefeld\nHalle: Rotenburg\, Bodo-Räke-Halle  (609104)\nAdresse: Gerberstraße\, 27356 Rotenburg (W.)\n
LOCATION:Rotenburg\, Bodo-Räke-Halle  (609104): Gerberstraße\, 27356 Rotenburg (W.)
CATEGORIES:Saison 2024/25
END:VEVENT
BEGIN:VEVENT
DTSTAMP:20260419T124243Z
DTSTART;TZID=Europe/Berlin:20241208T150000
DTEND;TZID=Europe/Berlin:20241208T160000
SUMMARY:Oberliga MJC Nord Jugendhandball Wümme vs mJSG Buxtehude/ Beckdorf (20)
UID:4fd7ab91-71c5-48cf-a28a-8e3c72820089
STATUS:CONFIRMED
LAST-MODIFIED:20241208T211549Z
DESCRIPTION:Oberliga männliche Jugend C Staffel Nord\nBegegnungs-Nr: 20\nHeim: Jugendhandball Wümme\nGast: mJSG Buxtehude/ Beckdorf\nHalle: Scheeßel\, SH (609105)\nAdresse: Varreler Weg\, 27383  Scheeßel\n
LOCATION:Scheeßel\, SH (609105): Varreler Weg\, 27383  Scheeßel
CATEGORIES:Saison 2024/25
END:VEVENT
BEGIN:VEVENT
DTSTAMP:20260419T124243Z
DTSTART;TZID=Europe/Berlin:20250209T150000
DTEND;TZID=Europe/Berlin:20250209T160000
SUMMARY:Oberliga MJC Nord Jugendhandball Wümme vs HC Bremen II (38)
UID:9adc255b-0d0b-4fd1-ab51-7f3a647a1b65
STATUS:CONFIRMED
LAST-MODIFIED:20250211T195257Z
DESCRIPTION:Oberliga männliche Jugend C Staffel Nord\nBegegnungs-Nr: 38\nHeim: Jugendhandball Wümme\nGast: HC Bremen II\nHalle: Rotenburg\, Pestalozzi-Schule (609176)\nAdresse: Gerberstr.\, 27356 Rotenburg\n
LOCATION:Rotenburg\, Pestalozzi-Schule (609176): Gerberstr.\, 27356 Rotenburg
CATEGORIES:Saison 2024/25
END:VEVENT
BEGIN:VEVENT
DTSTAMP:20260419T124243Z
DTSTART;TZID=Europe/Berlin:20250317T173000
DTEND;TZID=Europe/Berlin:20250317T183000
SUMMARY:Oberliga MJC Nord Jugendhandball Wümme vs HSG Schwanewede/Nk. (60)
UID:c47b0288-cb71-4965-805c-c906346a9942
STATUS:CONFIRMED
LAST-MODIFIED:20250318T121114Z
DESCRIPTION:Oberliga männliche Jugend C Staffel Nord\nBegegnungs-Nr: 60\nHeim: Jugendhandball Wümme\nGast: HSG Schwanewede/Nk.\nHalle: Rotenburg\, Bodo-Räke-Halle  (609104)\nAdresse: Gerberstraße\, 27356 Rotenburg (W.)\n
LOCATION:Rotenburg\, Bodo-Räke-Halle  (609104): Gerberstraße\, 27356 Rotenburg (W.)
CATEGORIES:Saison 2024/25
END:VEVENT
BEGIN:VEVENT
DTSTAMP:20260419T124243Z
DTSTART;TZID=Europe/Berlin:20241031T150000
DTEND;TZID=Europe/Berlin:20241031T160000
SUMMARY:Oberliga MJC Nord Jugendhandball Wümme vs SG Achim/Baden (4)
UID:6fa601b0-43b3-4878-b41a-6ee893009e7c
STATUS:CONFIRMED
LAST-MODIFIED:20241031T170918Z
DESCRIPTION:Oberliga männliche Jugend C Staffel Nord\nBegegnungs-Nr: 4\nHeim: Jugendhandball Wümme\nGast: SG Achim/Baden\nHalle: Rotenburg\, Pestalozzi-Schule (609176)\nAdresse: Gerberstr.\, 27356 Rotenburg\n
LOCATION:Rotenburg\, Pestalozzi-Schule (609176): Gerberstr.\, 27356 Rotenburg
CATEGORIES:Saison 2024/25
END:VEVENT
BEGIN:VEVENT
DTSTAMP:20260419T124243Z
DTSTART;TZID=Europe/Berlin:20250118T150000
DTEND;TZID=Europe/Berlin:20250118T160000
SUMMARY:Oberliga MJC Nord Jugendhandball Wümme vs ATSV Habenhausen II (55)
UID:3121f8f5-1fd9-4188-bced-fc86b386b6af
STATUS:CONFIRMED
LAST-MODIFIED:20250118T173205Z
DESCRIPTION:Oberliga männliche Jugend C Staffel Nord\nBegegnungs-Nr: 55\nHeim: Jugendhandball Wümme\nGast: ATSV Habenhausen II\nHalle: Rotenburg\, Bodo-Räke-Halle  (609104)\nAdresse: Gerberstraße\, 27356 Rotenburg (W.)\n
LOCATION:Rotenburg\, Bodo-Räke-Halle  (609104): Gerberstraße\, 27356 Rotenburg (W.)
CATEGORIES:Saison 2024/25
END:VEVENT
BEGIN:VEVENT
DTSTAMP:20260419T124243Z
DTSTART;TZID=Europe/Berlin:20250306T174500
DTEND;TZID=Europe/Berlin:20250306T184500
SUMMARY:Oberliga MJC Nord Jugendhandball Wümme vs TSV Daverden (69)
UID:26b2d1f5-96c4-42f0-bada-91654b87d0b6
STATUS:CONFIRMED
LAST-MODIFIED:20250307T202941Z
DESCRIPTION:Oberliga männliche Jugend C Staffel Nord\nBegegnungs-Nr: 69\nHeim: Jugendhandball Wümme\nGast: TSV Daverden\nHalle: Rotenburg\, Pestalozzi-Schule (609176)\nAdresse: Gerberstr.\, 27356 Rotenburg\n
LOCATION:Rotenburg\, Pestalozzi-Schule (609176): Gerberstr.\, 27356 Rotenburg
CATEGORIES:Saison 2024/25
END:VEVENT
BEGIN:VEVENT
DTSTAMP:20260419T124243Z
DTSTART;TZID=Europe/Berlin:20250315T140000
DTEND;TZID=Europe/Berlin:20250315T150000
SUMMARY:Oberliga MJC Nord Jugendhandball Wümme vs MTV Eyendorf (77)
UID:74c93bf8-9069-4b56-9a73-a32b573e031f
STATUS:CONFIRMED
LAST-MODIFIED:20250315T193731Z
DESCRIPTION:Oberliga männliche Jugend C Staffel Nord\nBegegnungs-Nr: 77\nHeim: Jugendhandball Wümme\nGast: MTV Eyendorf\nHalle: Rotenburg\, Pestalozzi-Schule (609176)\nAdresse: Gerberstr.\, 27356 Rotenburg\n
LOCATION:Rotenburg\, Pestalozzi-Schule (609176): Gerberstr.\, 27356 Rotenburg
CATEGORIES:Saison 2024/25
END:VEVENT
BEGIN:VEVENT
DTSTAMP:20260419T124243Z
DTSTART;TZID=Europe/Berlin:20241110T170000
DTEND;TZID=Europe/Berlin:20241110T180000
SUMMARY:Oberliga MJC Nord Jugendhandball Wümme vs TV Oyten (26)
UID:ec208def-e8b9-4a44-b92a-d0532e71d2ff
STATUS:CONFIRMED
LAST-MODIFIED:20241110T201244Z
DESCRIPTION:Oberliga männliche Jugend C Staffel Nord\nBegegnungs-Nr: 26\nHeim: Jugendhandball Wümme\nGast: TV Oyten\nHalle: Rotenburg\, Pestalozzi-Schule (609176)\nAdresse: Gerberstr.\, 27356 Rotenburg\n
LOCATION:Rotenburg\, Pestalozzi-Schule (609176): Gerberstr.\, 27356 Rotenburg
CATEGORIES:Saison 2024/25
END:VEVENT
BEGIN:VEVENT
DTSTAMP:20260419T124243Z
DTSTART;TZID=Europe/Berlin:20241214T150000
DTEND;TZID=Europe/Berlin:20241214T160000
SUMMARY:Oberliga MJC Nord TuS Harsefeld vs Jugendhandball Wümme (44)
UID:0e1db14e-42f7-401c-92d9-cd561651b1c6
STATUS:CONFIRMED
LAST-MODIFIED:20241216T141935Z
DESCRIPTION:Oberliga männliche Jugend C Staffel Nord\nBegegnungs-Nr: 44\nHeim: TuS Harsefeld\nGast: Jugendhandball Wümme\nHalle: Harsefeld\, Oberschule Jahnstraße (608113)\nAdresse: Jahnstraße\, 21698 Harsefeld\n
LOCATION:Harsefeld\, Oberschule Jahnstraße (608113): Jahnstraße\, 21698 Harsefeld
CATEGORIES:Saison 2024/25
END:VEVENT
BEGIN:VEVENT
DTSTAMP:20260419T124243Z
DTSTART;TZID=Europe/Berlin:20250216T113000
DTEND;TZID=Europe/Berlin:20250216T123000
SUMMARY:Oberliga MJC Nord mJSG Buxtehude/ Beckdorf vs Jugendhandball Wümme (65)
UID:af576739-fbcc-4c9c-88b8-12bd1e11a48f
STATUS:CONFIRMED
LAST-MODIFIED:20250216T183418Z
DESCRIPTION:Oberliga männliche Jugend C Staffel Nord\nBegegnungs-Nr: 65\nHeim: mJSG Buxtehude/ Beckdorf\nGast: Jugendhandball Wümme\nHalle: Beckdorf\, Auf dem Delm (608102)\nAdresse: Waldfrieden\, 21643 Beckdorf\n
LOCATION:Beckdorf\, Auf dem Delm (608102): Waldfrieden\, 21643 Beckdorf
CATEGORIES:Saison 2024/25
END:VEVENT
BEGIN:VEVENT
DTSTAMP:20260419T124243Z
DTSTART;TZID=Europe/Berlin:20250403T175000
DTEND;TZID=Europe/Berlin:20250403T185000
SUMMARY:Oberliga MJC Nord TV Oyten vs Jugendhandball Wümme (71)
UID:b66ed71a-cf2e-4b8b-93fa-7ff260d0110e
STATUS:CONFIRMED
LAST-MODIFIED:20250404T112957Z
DESCRIPTION:Oberliga männliche Jugend C Staffel Nord\nBegegnungs-Nr: 71\nHeim: TV Oyten\nGast: Jugendhandball Wümme\nHalle: Oyten\, SH 1  (609145)\nAdresse: Pestalozzistraße 10\, 28876 Oyten\n
LOCATION:Oyten\, SH 1  (609145): Pestalozzistraße 10\, 28876 Oyten
CATEGORIES:Saison 2024/25
END:VEVENT
BEGIN:VEVENT
DTSTAMP:20260419T124243Z
DTSTART;TZID=Europe/Berlin:20241116T150000
DTEND;TZID=Europe/Berlin:20241116T160000
SUMMARY:Oberliga MJC Nord MTV Eyendorf vs Jugendhandball Wümme (32)
UID:6b560fe4-d631-4a49-9526-42f4555975ae
STATUS:CONFIRMED
LAST-MODIFIED:20241116T210321Z
DESCRIPTION:Oberliga männliche Jugend C Staffel Nord\nBegegnungs-Nr: 32\nHeim: MTV Eyendorf\nGast: Jugendhandball Wümme\nHalle: Eyendorf\, Gerhard-Langer-SH (603106)\nAdresse: Zum Borgfeld\, 21376 Eyendorf\n
LOCATION:Eyendorf\, Gerhard-Langer-SH (603106): Zum Borgfeld\, 21376 Eyendorf
CATEGORIES:Saison 2024/25
END:VEVENT
BEGIN:VEVENT
DTSTAMP:20260419T124243Z
DTSTART;TZID=Europe/Berlin:20250323T120000
DTEND;TZID=Europe/Berlin:20250323T130000
SUMMARY:Oberliga MJC Nord HC Bremen II vs Jugendhandball Wümme (83)
UID:37a3a238-c4ee-423f-ab6c-8d395d00bf79
STATUS:CONFIRMED
LAST-MODIFIED:20250322T143120Z
DESCRIPTION:Oberliga männliche Jugend C Staffel Nord\nBegegnungs-Nr: 83\nHeim: HC Bremen II\nGast: Jugendhandball Wümme\nHalle: Sportbetonte Oberschule an der Ronzelenstr. Halle 1 (101199)\nAdresse: Ronzelenstr. 51\, 28359 Bremen\n
LOCATION:Sportbetonte Oberschule an der Ronzelenstr. Halle 1 (101199): Ronzelenstr. 51\, 28359 Bremen
CATEGORIES:Saison 2024/25
END:VEVENT
BEGIN:VEVENT
DTSTAMP:20260419T124243Z
DTSTART;TZID=Europe/Berlin:20240922T141500
DTEND;TZID=Europe/Berlin:20240922T151500
SUMMARY:Oberliga MJC Nord ATSV Habenhausen II vs Jugendhandball Wümme (10)
UID:e18daead-c660-4b60-af82-5d443ef5e714
STATUS:CONFIRMED
LAST-MODIFIED:20240923T101109Z
DESCRIPTION:Oberliga männliche Jugend C Staffel Nord\nBegegnungs-Nr: 10\nHeim: ATSV Habenhausen II\nGast: Jugendhandball Wümme\nHalle: Bremen-Habenhausen\, Hinni-Schwenker-Halle (101105)\nAdresse: Bunnsackerweg 2\, 28279 Bremen\n
LOCATION:Bremen-Habenhausen\, Hinni-Schwenker-Halle (101105): Bunnsackerweg 2\, 28279 Bremen
CATEGORIES:Saison 2024/25
END:VEVENT
BEGIN:VEVENT
DTSTAMP:20260419T124243Z
DTSTART;TZID=Europe/Berlin:20241027T164500
DTEND;TZID=Europe/Berlin:20241027T174500
SUMMARY:Oberliga MJC Nord TSV Daverden vs Jugendhandball Wümme (24)
UID:a85251c2-2400-4694-b400-57688429678c
STATUS:CONFIRMED
LAST-MODIFIED:20241027T205042Z
DESCRIPTION:Oberliga männliche Jugend C Staffel Nord\nBegegnungs-Nr: 24\nHeim: TSV Daverden\nGast: Jugendhandball Wümme\nHalle: Langwedel\, SZ (609144)\nAdresse: Suhrfeldstraße\, 27299 Langwedel\n
LOCATION:Langwedel\, SZ (609144): Suhrfeldstraße\, 27299 Langwedel
CATEGORIES:Saison 2024/25
END:VEVENT
BEGIN:VEVENT
DTSTAMP:20260419T124243Z
DTSTART;TZID=Europe/Berlin:20250112T110000
DTEND;TZID=Europe/Berlin:20250112T120000
SUMMARY:Oberliga MJC Nord SG Achim/Baden vs Jugendhandball Wümme (49)
UID:5795da40-8c99-4aeb-97af-ce86deddbbd3
STATUS:CONFIRMED
LAST-MODIFIED:20250116T201706Z
DESCRIPTION:Oberliga männliche Jugend C Staffel Nord\nBegegnungs-Nr: 49\nHeim: SG Achim/Baden\nGast: Jugendhandball Wümme\nHalle: Achim\, Gymnasium (609140)\nAdresse: Bergstraße 26\, 28832 Achim\n
LOCATION:Achim\, Gymnasium (609140): Bergstraße 26\, 28832 Achim
CATEGORIES:Saison 2024/25
END:VEVENT
BEGIN:VEVENT
DTSTAMP:20260419T124243Z
DTSTART;TZID=Europe/Berlin:20241123T140000
DTEND;TZID=Europe/Berlin:20241123T150000
SUMMARY:Oberliga MJC Nord HSG Schwanewede/Nk. vs Jugendhandball Wümme (15)
UID:c47975d0-4cc7-4f7f-912b-107d03f62fdb
STATUS:CONFIRMED
LAST-MODIFIED:20241123T202431Z
DESCRIPTION:Oberliga männliche Jugend C Staffel Nord\nBegegnungs-Nr: 15\nHeim: HSG Schwanewede/Nk.\nGast: Jugendhandball Wümme\nHalle: Schwanewede\, Heideschule (606108)\nAdresse: Ostlandstraße 27\, 28790 Schwanewede\n
LOCATION:Schwanewede\, Heideschule (606108): Ostlandstraße 27\, 28790 Schwanewede
CATEGORIES:Saison 2024/25
END:VEVENT
END:VCALENDAR
