BEGIN:VCALENDAR
PRODID:-//nuDatenautomaten//framework iCal4j //DE
VERSION:2.0
CALSCALE:GREGORIAN
BEGIN:VTIMEZONE
TZID:Europe/Berlin
LAST-MODIFIED:20260306T231828Z
TZURL:https://www.tzurl.org/zoneinfo/Europe/Berlin
X-LIC-LOCATION:Europe/Berlin
X-PROLEPTIC-TZNAME:LMT
BEGIN:STANDARD
TZNAME:CET
TZOFFSETFROM:+005328
TZOFFSETTO:+0100
DTSTART:18930401T000000
END:STANDARD
BEGIN:DAYLIGHT
TZNAME:CEST
TZOFFSETFROM:+0100
TZOFFSETTO:+0200
DTSTART:19160430T230000
RDATE:19400401T020000
RDATE:19430329T020000
RDATE:19460414T020000
RDATE:19470406T030000
RDATE:19480418T020000
RDATE:19490410T020000
RDATE:19800406T020000
END:DAYLIGHT
BEGIN:STANDARD
TZNAME:CET
TZOFFSETFROM:+0200
TZOFFSETTO:+0100
DTSTART:19161001T010000
RDATE:19421102T030000
RDATE:19431004T030000
RDATE:19441002T030000
RDATE:19451118T030000
RDATE:19461007T030000
END:STANDARD
BEGIN:DAYLIGHT
TZNAME:CEST
TZOFFSETFROM:+0100
TZOFFSETTO:+0200
DTSTART:19170416T020000
RRULE:FREQ=YEARLY;UNTIL=19180415T010000Z;BYMONTH=4;BYDAY=3MO
END:DAYLIGHT
BEGIN:STANDARD
TZNAME:CET
TZOFFSETFROM:+0200
TZOFFSETTO:+0100
DTSTART:19170917T030000
RRULE:FREQ=YEARLY;UNTIL=19180916T010000Z;BYMONTH=9;BYDAY=3MO
END:STANDARD
BEGIN:DAYLIGHT
TZNAME:CEST
TZOFFSETFROM:+0100
TZOFFSETTO:+0200
DTSTART:19440403T020000
RRULE:FREQ=YEARLY;UNTIL=19450402T010000Z;BYMONTH=4;BYDAY=1MO
END:DAYLIGHT
BEGIN:DAYLIGHT
TZNAME:CEMT
TZOFFSETFROM:+0200
TZOFFSETTO:+0300
DTSTART:19450524T020000
RDATE:19470511T030000
END:DAYLIGHT
BEGIN:DAYLIGHT
TZNAME:CEST
TZOFFSETFROM:+0300
TZOFFSETTO:+0200
DTSTART:19450924T030000
RDATE:19470629T030000
END:DAYLIGHT
BEGIN:STANDARD
TZNAME:CET
TZOFFSETFROM:+0100
TZOFFSETTO:+0100
DTSTART:19460101T000000
RDATE:19800101T000000
END:STANDARD
BEGIN:STANDARD
TZNAME:CET
TZOFFSETFROM:+0200
TZOFFSETTO:+0100
DTSTART:19471005T030000
RRULE:FREQ=YEARLY;UNTIL=19491002T010000Z;BYMONTH=10;BYDAY=1SU
END:STANDARD
BEGIN:STANDARD
TZNAME:CET
TZOFFSETFROM:+0200
TZOFFSETTO:+0100
DTSTART:19800928T030000
RRULE:FREQ=YEARLY;UNTIL=19950924T010000Z;BYMONTH=9;BYDAY=-1SU
END:STANDARD
BEGIN:DAYLIGHT
TZNAME:CEST
TZOFFSETFROM:+0100
TZOFFSETTO:+0200
DTSTART:19810329T020000
RRULE:FREQ=YEARLY;BYMONTH=3;BYDAY=-1SU
END:DAYLIGHT
BEGIN:STANDARD
TZNAME:CET
TZOFFSETFROM:+0200
TZOFFSETTO:+0100
DTSTART:19961027T030000
RRULE:FREQ=YEARLY;BYMONTH=10;BYDAY=-1SU
END:STANDARD
END:VTIMEZONE
BEGIN:VEVENT
DTSTAMP:20260419T222718Z
DTSTART;TZID=Europe/Berlin:20241117T150000
DTEND;TZID=Europe/Berlin:20241117T163000
SUMMARY:Regionsoberliga WJA  SG Neuenhaus/Uelsen II vs SV Vorwärts Nordhorn II (981318)
UID:6d072f0e-4a35-442c-a3b0-671c54d4113e
STATUS:CONFIRMED
LAST-MODIFIED:20241117T173347Z
DESCRIPTION:Regionsoberliga weibl. Jugend A \nBegegnungs-Nr: 981318\nHeim: SG Neuenhaus/Uelsen II\nGast: SV Vorwärts Nordhorn II\nHalle: Uelsen\, SZ Eschweg  (803157)\nAdresse: Eschweg\, 49843 Uelsen\n
LOCATION:Uelsen\, SZ Eschweg  (803157): Eschweg\, 49843 Uelsen
CATEGORIES:Saison 2024/25
END:VEVENT
BEGIN:VEVENT
DTSTAMP:20260419T222718Z
DTSTART;TZID=Europe/Berlin:20241020T121500
DTEND;TZID=Europe/Berlin:20241020T134500
SUMMARY:Regionsoberliga WJA  SG Neuenhaus/Uelsen II vs SV Sigiltra Sögel (981309)
UID:6df01132-c686-45fa-b211-fe7c62e57fd1
STATUS:CONFIRMED
LAST-MODIFIED:20241027T203339Z
DESCRIPTION:Regionsoberliga weibl. Jugend A \nBegegnungs-Nr: 981309\nHeim: SG Neuenhaus/Uelsen II\nGast: SV Sigiltra Sögel\nHalle: Sportzentrum DinkelDuo Neuenhaus (803178)\nAdresse: Schulstraße 6\, 49828 Neuenhaus\n
LOCATION:Sportzentrum DinkelDuo Neuenhaus (803178): Schulstraße 6\, 49828 Neuenhaus
CATEGORIES:Saison 2024/25
END:VEVENT
BEGIN:VEVENT
DTSTAMP:20260419T222718Z
DTSTART;TZID=Europe/Berlin:20250220T200000
DTEND;TZID=Europe/Berlin:20250220T213000
SUMMARY:Regionsoberliga WJA  SG Neuenhaus/Uelsen II vs HSG Haselünne/Herzlake (981337)
UID:cf7573fd-13c1-4575-a4ac-b28a4aa3df5c
STATUS:CONFIRMED
LAST-MODIFIED:20250223T185118Z
DESCRIPTION:Regionsoberliga weibl. Jugend A \nBegegnungs-Nr: 981337\nHeim: SG Neuenhaus/Uelsen II\nGast: HSG Haselünne/Herzlake\nHalle: Uelsen\, SZ Eschweg  (803157)\nAdresse: Eschweg\, 49843 Uelsen\n
LOCATION:Uelsen\, SZ Eschweg  (803157): Eschweg\, 49843 Uelsen
CATEGORIES:Saison 2024/25
END:VEVENT
BEGIN:VEVENT
DTSTAMP:20260419T222718Z
DTSTART;TZID=Europe/Berlin:20250206T193000
DTEND;TZID=Europe/Berlin:20250206T210000
SUMMARY:Regionsoberliga WJA  SG Neuenhaus/Uelsen II vs TSG 07 Burg Gretesch (981339)
UID:5498fb54-0c8a-42b1-b466-88263939f614
STATUS:CONFIRMED
LAST-MODIFIED:20250207T051913Z
DESCRIPTION:Regionsoberliga weibl. Jugend A \nBegegnungs-Nr: 981339\nHeim: SG Neuenhaus/Uelsen II\nGast: TSG 07 Burg Gretesch\nHalle: Uelsen\, SZ Eschweg  (803157)\nAdresse: Eschweg\, 49843 Uelsen\n
LOCATION:Uelsen\, SZ Eschweg  (803157): Eschweg\, 49843 Uelsen
CATEGORIES:Saison 2024/25
END:VEVENT
BEGIN:VEVENT
DTSTAMP:20260419T222718Z
DTSTART;TZID=Europe/Berlin:20250119T141500
DTEND;TZID=Europe/Berlin:20250119T154500
SUMMARY:Regionsoberliga WJA  SG Neuenhaus/Uelsen II vs TV Bissendorf-Holte (981329)
UID:e7a0b186-85b3-429f-abe2-462b14e1c9e9
STATUS:CONFIRMED
LAST-MODIFIED:20250119T172159Z
DESCRIPTION:Regionsoberliga weibl. Jugend A \nBegegnungs-Nr: 981329\nHeim: SG Neuenhaus/Uelsen II\nGast: TV Bissendorf-Holte\nHalle: Sportzentrum DinkelDuo Neuenhaus (803178)\nAdresse: Schulstraße 6\, 49828 Neuenhaus\n
LOCATION:Sportzentrum DinkelDuo Neuenhaus (803178): Schulstraße 6\, 49828 Neuenhaus
CATEGORIES:Saison 2024/25
END:VEVENT
BEGIN:VEVENT
DTSTAMP:20260419T222718Z
DTSTART;TZID=Europe/Berlin:20241024T200000
DTEND;TZID=Europe/Berlin:20241024T213000
SUMMARY:Regionsoberliga WJA  SG Neuenhaus/Uelsen II vs SV Dalum (981310)
UID:9fd225e7-7b0b-45a1-b998-cf601c49dd98
STATUS:CONFIRMED
LAST-MODIFIED:20241027T203425Z
DESCRIPTION:Regionsoberliga weibl. Jugend A \nBegegnungs-Nr: 981310\nHeim: SG Neuenhaus/Uelsen II\nGast: SV Dalum\nHalle: Uelsen\, SZ Eschweg  (803157)\nAdresse: Eschweg\, 49843 Uelsen\n
LOCATION:Uelsen\, SZ Eschweg  (803157): Eschweg\, 49843 Uelsen
CATEGORIES:Saison 2024/25
END:VEVENT
BEGIN:VEVENT
DTSTAMP:20260419T222718Z
DTSTART;TZID=Europe/Berlin:20250116T190000
DTEND;TZID=Europe/Berlin:20250116T203000
SUMMARY:Regionsoberliga WJA  SG Neuenhaus/Uelsen II vs TV 01 Bohmte (981321)
UID:1f7c909d-9e1e-421d-bfeb-64a12154c4e9
STATUS:CONFIRMED
LAST-MODIFIED:20250119T105309Z
DESCRIPTION:Regionsoberliga weibl. Jugend A \nBegegnungs-Nr: 981321\nHeim: SG Neuenhaus/Uelsen II\nGast: TV 01 Bohmte\nHalle: Uelsen\, SZ Eschweg  (803157)\nAdresse: Eschweg\, 49843 Uelsen\n
LOCATION:Uelsen\, SZ Eschweg  (803157): Eschweg\, 49843 Uelsen
CATEGORIES:Saison 2024/25
END:VEVENT
BEGIN:VEVENT
DTSTAMP:20260419T222718Z
DTSTART;TZID=Europe/Berlin:20241207T173000
DTEND;TZID=Europe/Berlin:20241207T190000
SUMMARY:Regionsoberliga WJA  HSG Haselünne/Herzlake vs SG Neuenhaus/Uelsen II (981324)
UID:b4612c8d-0760-4d72-999e-80ad1df64c64
STATUS:CONFIRMED
LAST-MODIFIED:20241211T051125Z
DESCRIPTION:Regionsoberliga weibl. Jugend A \nBegegnungs-Nr: 981324\nHeim: HSG Haselünne/Herzlake\nGast: SG Neuenhaus/Uelsen II\nHalle: Haselünne\, St.-Ursula SH (hinterm Kolpinghaus)  (803118)\nAdresse: Kolpingstr.\, 49740 Haselünne\n
LOCATION:Haselünne\, St.-Ursula SH (hinterm Kolpinghaus)  (803118): Kolpingstr.\, 49740 Haselünne
CATEGORIES:Saison 2024/25
END:VEVENT
BEGIN:VEVENT
DTSTAMP:20260419T222718Z
DTSTART;TZID=Europe/Berlin:20250426T170000
DTEND;TZID=Europe/Berlin:20250426T183000
SUMMARY:Regionsoberliga WJA  TV Bissendorf-Holte vs SG Neuenhaus/Uelsen II (981355)
UID:fb9b2900-c46a-467a-9d0d-748d3005fe7f
STATUS:CONFIRMED
LAST-MODIFIED:20250427T161120Z
DESCRIPTION:Regionsoberliga weibl. Jugend A \nBegegnungs-Nr: 981355\nHeim: TV Bissendorf-Holte\nGast: SG Neuenhaus/Uelsen II\nHalle: Bissendorf\, SH (808121)\nAdresse: Werscher Straße 24\, 49143 Bissendorf\n
LOCATION:Bissendorf\, SH (808121): Werscher Straße 24\, 49143 Bissendorf
CATEGORIES:Saison 2024/25
END:VEVENT
BEGIN:VEVENT
DTSTAMP:20260419T222718Z
DTSTART;TZID=Europe/Berlin:20250216T150000
DTEND;TZID=Europe/Berlin:20250216T163000
SUMMARY:Regionsoberliga WJA  SV Dalum vs SG Neuenhaus/Uelsen II (981336)
UID:aebc40fa-1cd7-4852-a6f6-1079f98aa650
STATUS:CONFIRMED
LAST-MODIFIED:20250223T185044Z
DESCRIPTION:Regionsoberliga weibl. Jugend A \nBegegnungs-Nr: 981336\nHeim: SV Dalum\nGast: SG Neuenhaus/Uelsen II\nHalle: Geeste-Dalum\, SH  (803105)\nAdresse: Am Rathaus/Neuer Diek\, 49744 Geeste (OT Dalum)\n
LOCATION:Geeste-Dalum\, SH  (803105): Am Rathaus/Neuer Diek\, 49744 Geeste (OT Dalum)
CATEGORIES:Saison 2024/25
END:VEVENT
BEGIN:VEVENT
DTSTAMP:20260419T222718Z
DTSTART;TZID=Europe/Berlin:20240915T163000
DTEND;TZID=Europe/Berlin:20240915T180000
SUMMARY:Regionsoberliga WJA  SV Sigiltra Sögel vs SG Neuenhaus/Uelsen II (981302)
UID:883aaa3b-c18e-4fb9-bc72-8202c86ea108
STATUS:CONFIRMED
LAST-MODIFIED:20240915T170230Z
DESCRIPTION:Regionsoberliga weibl. Jugend A \nBegegnungs-Nr: 981302\nHeim: SV Sigiltra Sögel\nGast: SG Neuenhaus/Uelsen II\nHalle: Sögel\, Großraum-SH  (803153)\nAdresse: Schlaunallee 14\, 49751 Sögel\n
LOCATION:Sögel\, Großraum-SH  (803153): Schlaunallee 14\, 49751 Sögel
CATEGORIES:Saison 2024/25
END:VEVENT
BEGIN:VEVENT
DTSTAMP:20260419T222718Z
DTSTART;TZID=Europe/Berlin:20241103T170000
DTEND;TZID=Europe/Berlin:20241103T183000
SUMMARY:Regionsoberliga WJA  TSG 07 Burg Gretesch vs SG Neuenhaus/Uelsen II (981314)
UID:6f88a31c-d962-4a83-9e68-14f64a10354a
STATUS:CONFIRMED
LAST-MODIFIED:20241106T204835Z
DESCRIPTION:Regionsoberliga weibl. Jugend A \nBegegnungs-Nr: 981314\nHeim: TSG 07 Burg Gretesch\nGast: SG Neuenhaus/Uelsen II\nHalle: Osnabrück\, KGS Osnabrück-Schinkel (808103)\nAdresse: Windthorststraße 79-83\, 49084 Osnabrück (OT Schinkel)\n
LOCATION:Osnabrück\, KGS Osnabrück-Schinkel (808103): Windthorststraße 79-83\, 49084 Osnabrück (OT Schinkel)
CATEGORIES:Saison 2024/25
END:VEVENT
BEGIN:VEVENT
DTSTAMP:20260419T222718Z
DTSTART;TZID=Europe/Berlin:20250316T150000
DTEND;TZID=Europe/Berlin:20250316T163000
SUMMARY:Regionsoberliga WJA  TV 01 Bohmte vs SG Neuenhaus/Uelsen II (981348)
UID:e7d456db-5a56-4ec6-8a73-59aa3138a73b
STATUS:CONFIRMED
LAST-MODIFIED:20250316T191213Z
DESCRIPTION:Regionsoberliga weibl. Jugend A \nBegegnungs-Nr: 981348\nHeim: TV 01 Bohmte\nGast: SG Neuenhaus/Uelsen II\nHalle: Bohmte\, SZ  (808125)\nAdresse: Jahnstraße\, 49163 Bohmte\n
LOCATION:Bohmte\, SZ  (808125): Jahnstraße\, 49163 Bohmte
CATEGORIES:Saison 2024/25
END:VEVENT
BEGIN:VEVENT
DTSTAMP:20260419T222718Z
DTSTART;TZID=Europe/Berlin:20250309T153000
DTEND;TZID=Europe/Berlin:20250309T170000
SUMMARY:Regionsoberliga WJA  SV Vorwärts Nordhorn II vs SG Neuenhaus/Uelsen II (981345)
UID:5b2b7ae2-ea1c-4f77-8649-fbdf243937de
STATUS:CONFIRMED
LAST-MODIFIED:20250309T200250Z
DESCRIPTION:Regionsoberliga weibl. Jugend A \nBegegnungs-Nr: 981345\nHeim: SV Vorwärts Nordhorn II\nGast: SG Neuenhaus/Uelsen II\nHalle: Nordhorn\, SZ Nordhorn-Deegfeld (803140)\nAdresse: Deegfelder Weg\, 48531 Nordhorn (OT Deegfeld)\n
LOCATION:Nordhorn\, SZ Nordhorn-Deegfeld (803140): Deegfelder Weg\, 48531 Nordhorn (OT Deegfeld)
CATEGORIES:Saison 2024/25
END:VEVENT
END:VCALENDAR
